BEGIN:VCALENDAR
VERSION:2.0
PRODID:-//Bay Soundings - ECPv6.15.11//NONSGML v1.0//EN
CALSCALE:GREGORIAN
METHOD:PUBLISH
X-ORIGINAL-URL:https://baysoundings.com
X-WR-CALDESC:Events for Bay Soundings
REFRESH-INTERVAL;VALUE=DURATION:PT1H
X-Robots-Tag:noindex
X-PUBLISHED-TTL:PT1H
BEGIN:VTIMEZONE
TZID:America/New_York
BEGIN:DAYLIGHT
TZOFFSETFROM:-0500
TZOFFSETTO:-0400
TZNAME:EDT
DTSTART:20220313T070000
END:DAYLIGHT
BEGIN:STANDARD
TZOFFSETFROM:-0400
TZOFFSETTO:-0500
TZNAME:EST
DTSTART:20221106T060000
END:STANDARD
BEGIN:DAYLIGHT
TZOFFSETFROM:-0500
TZOFFSETTO:-0400
TZNAME:EDT
DTSTART:20230312T070000
END:DAYLIGHT
BEGIN:STANDARD
TZOFFSETFROM:-0400
TZOFFSETTO:-0500
TZNAME:EST
DTSTART:20231105T060000
END:STANDARD
BEGIN:DAYLIGHT
TZOFFSETFROM:-0500
TZOFFSETTO:-0400
TZNAME:EDT
DTSTART:20240310T070000
END:DAYLIGHT
BEGIN:STANDARD
TZOFFSETFROM:-0400
TZOFFSETTO:-0500
TZNAME:EST
DTSTART:20241103T060000
END:STANDARD
END:VTIMEZONE
BEGIN:VEVENT
DTSTART;TZID=America/New_York:20230401T093000
DTEND;TZID=America/New_York:20230401T110000
DTSTAMP:20260421T211338
CREATED:20230225T211851Z
LAST-MODIFIED:20230324T203921Z
UID:10000777-1680341400-1680346800@baysoundings.com
SUMMARY:Microirrigation Workshop
DESCRIPTION:Learn how to save water when watering your garden. \nThis workshop is for Hillsborough County and City of Tampa residents/employees only. \nLearn how you can have healthy and attractive landscape beds while conserving water. This irrigation method not only conserves water\, but is not limited by current water restrictions as is traditional in-ground irrigation. Hillsborough County and City of Tampa residents/employees will receive a microirrigation kit after attending the workshop. (Limit 1 kit per household and the representative of the household must be an adult.) \n>>> REGISTRATION <<< \nNOTE: Pick-up of workshop items/giveaways for on-site attendees will be on the date of the workshop or by rescheduling with the workshop presenter. All items must be picked up within 30 days of the date of the workshop. No exceptions.
URL:https://baysoundings.com/event/microirrigationworkshop/2023-04-01/
LOCATION:Hillsborough County Extension\, 5339 County Road 579\, Seffner\, FL\, 33584\, United States
CATEGORIES:Clean Water,Conservation & Ecology,Gardening & Landscaping,Local Community,WEBINARS & ONLINE CLASSES,Workshops & Classes
END:VEVENT
END:VCALENDAR