BEGIN:VCALENDAR
VERSION:2.0
PRODID:-//Bay Soundings - ECPv6.15.11//NONSGML v1.0//EN
CALSCALE:GREGORIAN
METHOD:PUBLISH
X-ORIGINAL-URL:https://baysoundings.com
X-WR-CALDESC:Events for Bay Soundings
REFRESH-INTERVAL;VALUE=DURATION:PT1H
X-Robots-Tag:noindex
X-PUBLISHED-TTL:PT1H
BEGIN:VTIMEZONE
TZID:America/New_York
BEGIN:DAYLIGHT
TZOFFSETFROM:-0500
TZOFFSETTO:-0400
TZNAME:EDT
DTSTART:20210314T070000
END:DAYLIGHT
BEGIN:STANDARD
TZOFFSETFROM:-0400
TZOFFSETTO:-0500
TZNAME:EST
DTSTART:20211107T060000
END:STANDARD
BEGIN:DAYLIGHT
TZOFFSETFROM:-0500
TZOFFSETTO:-0400
TZNAME:EDT
DTSTART:20220313T070000
END:DAYLIGHT
BEGIN:STANDARD
TZOFFSETFROM:-0400
TZOFFSETTO:-0500
TZNAME:EST
DTSTART:20221106T060000
END:STANDARD
BEGIN:DAYLIGHT
TZOFFSETFROM:-0500
TZOFFSETTO:-0400
TZNAME:EDT
DTSTART:20230312T070000
END:DAYLIGHT
BEGIN:STANDARD
TZOFFSETFROM:-0400
TZOFFSETTO:-0500
TZNAME:EST
DTSTART:20231105T060000
END:STANDARD
END:VTIMEZONE
BEGIN:VEVENT
DTSTART;TZID=America/New_York:20221203T090000
DTEND;TZID=America/New_York:20221203T103000
DTSTAMP:20260423T094504
CREATED:20221121T195430Z
LAST-MODIFIED:20221121T195430Z
UID:10001214-1670058000-1670063400@baysoundings.com
SUMMARY:The Ways of Water Hike
DESCRIPTION:Water is an important feature at Brooker Creek Preserve . \nWater is an important feature at Brooker Creek Preserve and on this hike you will learn the different ways we interact with water\, the importance of wetlands and how you can make a difference in issues surrounding our water quality and quantity. Come and enjoy this family friendly fall walk through the woods. \n>>> REGISTER HERE <<<
URL:https://baysoundings.com/event/the-ways-of-water-hike-2/
LOCATION:Brooker Creek Environmental Education Center\, 3940 Keystone Road\, Tarpon Springs\, FL\, 34688\, United States
CATEGORIES:Clean Water,Coastal & Wetlands,Conservation & Ecology,Local Community,Native Flora & Fauna,Nature Tours & Hikes
GEO:28.136639;-82.656421
X-APPLE-STRUCTURED-LOCATION;VALUE=URI;X-ADDRESS=Brooker Creek Environmental Education Center 3940 Keystone Road Tarpon Springs FL 34688 United States;X-APPLE-RADIUS=500;X-TITLE=3940 Keystone Road:geo:-82.656421,28.136639
END:VEVENT
BEGIN:VEVENT
DTSTART;TZID=America/New_York:20221209T190000
DTEND;TZID=America/New_York:20221209T203000
DTSTAMP:20260423T094504
CREATED:20220909T204146Z
LAST-MODIFIED:20220909T204146Z
UID:10001134-1670612400-1670617800@baysoundings.com
SUMMARY:Currents & Crossroads: A Vision for Florida's Ocean & Coasts
DESCRIPTION:The Friends of Boyd Hill Nature Preserve and the St. Petersburg Parks and Recreation Department present the annual Natural History Speaker Series (NHSS)\, a program that offers fascinating presentations on the natural and cultural history of Florida by individuals who are authorities in their fields.
URL:https://baysoundings.com/event/currents-crossroads-a-vision-for-floridas-ocean-coasts/
LOCATION:Boyd Hill Nature Preserve Classroom\, 1101 COUNTRY CLUB WY S\, St. Petersburg\, FL\, 33705\, United States
CATEGORIES:Clean Water,Climate,Coastal & Wetlands,Fishing & Hunting,Lectures & Seminars,Local Community,Marine Life,Maritime Topics,Recycling
ORGANIZER;CN="Boyd Hill Nature Preserve":MAILTO:stpeteparksrec@stpete.org 
GEO:27.724764;-82.6502749
X-APPLE-STRUCTURED-LOCATION;VALUE=URI;X-ADDRESS=Boyd Hill Nature Preserve Classroom 1101 COUNTRY CLUB WY S St. Petersburg FL 33705 United States;X-APPLE-RADIUS=500;X-TITLE=1101 COUNTRY CLUB WY S:geo:-82.6502749,27.724764
END:VEVENT
END:VCALENDAR