BEGIN:VCALENDAR
VERSION:2.0
PRODID:-//Bay Soundings - ECPv6.15.11//NONSGML v1.0//EN
CALSCALE:GREGORIAN
METHOD:PUBLISH
X-ORIGINAL-URL:https://baysoundings.com
X-WR-CALDESC:Events for Bay Soundings
REFRESH-INTERVAL;VALUE=DURATION:PT1H
X-Robots-Tag:noindex
X-PUBLISHED-TTL:PT1H
BEGIN:VTIMEZONE
TZID:America/New_York
BEGIN:DAYLIGHT
TZOFFSETFROM:-0500
TZOFFSETTO:-0400
TZNAME:EDT
DTSTART:20200308T070000
END:DAYLIGHT
BEGIN:STANDARD
TZOFFSETFROM:-0400
TZOFFSETTO:-0500
TZNAME:EST
DTSTART:20201101T060000
END:STANDARD
BEGIN:DAYLIGHT
TZOFFSETFROM:-0500
TZOFFSETTO:-0400
TZNAME:EDT
DTSTART:20210314T070000
END:DAYLIGHT
BEGIN:STANDARD
TZOFFSETFROM:-0400
TZOFFSETTO:-0500
TZNAME:EST
DTSTART:20211107T060000
END:STANDARD
BEGIN:DAYLIGHT
TZOFFSETFROM:-0500
TZOFFSETTO:-0400
TZNAME:EDT
DTSTART:20220313T070000
END:DAYLIGHT
BEGIN:STANDARD
TZOFFSETFROM:-0400
TZOFFSETTO:-0500
TZNAME:EST
DTSTART:20221106T060000
END:STANDARD
END:VTIMEZONE
BEGIN:VEVENT
DTSTART;TZID=America/New_York:20211009T193000
DTEND;TZID=America/New_York:20211009T213000
DTSTAMP:20260422T180415
CREATED:20211005T213415Z
LAST-MODIFIED:20211005T213415Z
UID:10000820-1633807800-1633815000@baysoundings.com
SUMMARY:Seeing Stars
DESCRIPTION:Seeing Stars with The Bishop at Robinson Preserve\nJoin us for Seeing Stars with The Bishop at Robinson Preserve\, where you’ll enjoy a beautiful view at the Preserve\, thanks to our partners at Manatee County Parks and Natural Resources. \nWe provide the telescopes and the expertise; you enjoy the wonders of our universe featuring Saturn\, Jupiter and the moon (weather permitting\, of course)! \nThe program is free\, but advance registration is required. We are limiting audience size to allow for social distancing. Masks are requested. \n\nWhen: 7:30-9:30pm Saturday\, October 9\nWhere: Robinson Preserve\, in the Expansion\, 10299 9th Ave NW\, Bradenton\, FL 34209. Parking available.\nCost: Free\, but registration is required\n\nRegister now
URL:https://baysoundings.com/event/seeing-stars/
LOCATION:ROBINSON PRESERVE\, 1704 99th Street Northwest\, Bradenton\, FL\, 34209\, United States
CATEGORIES:Astronomy & Sky Watching,Crafts & Hobbies,Kids & Families,Youth Programs
GEO:27.5144373;-82.6610077
X-APPLE-STRUCTURED-LOCATION;VALUE=URI;X-ADDRESS=ROBINSON PRESERVE 1704 99th Street Northwest Bradenton FL 34209 United States;X-APPLE-RADIUS=500;X-TITLE=1704 99th Street Northwest:geo:-82.6610077,27.5144373
END:VEVENT
END:VCALENDAR