BEGIN:VCALENDAR
VERSION:2.0
PRODID:-//Bay Soundings - ECPv6.15.11//NONSGML v1.0//EN
CALSCALE:GREGORIAN
METHOD:PUBLISH
X-ORIGINAL-URL:https://baysoundings.com
X-WR-CALDESC:Events for Bay Soundings
REFRESH-INTERVAL;VALUE=DURATION:PT1H
X-Robots-Tag:noindex
X-PUBLISHED-TTL:PT1H
BEGIN:VTIMEZONE
TZID:America/New_York
BEGIN:DAYLIGHT
TZOFFSETFROM:-0500
TZOFFSETTO:-0400
TZNAME:EDT
DTSTART:20200308T070000
END:DAYLIGHT
BEGIN:STANDARD
TZOFFSETFROM:-0400
TZOFFSETTO:-0500
TZNAME:EST
DTSTART:20201101T060000
END:STANDARD
BEGIN:DAYLIGHT
TZOFFSETFROM:-0500
TZOFFSETTO:-0400
TZNAME:EDT
DTSTART:20210314T070000
END:DAYLIGHT
BEGIN:STANDARD
TZOFFSETFROM:-0400
TZOFFSETTO:-0500
TZNAME:EST
DTSTART:20211107T060000
END:STANDARD
BEGIN:DAYLIGHT
TZOFFSETFROM:-0500
TZOFFSETTO:-0400
TZNAME:EDT
DTSTART:20220313T070000
END:DAYLIGHT
BEGIN:STANDARD
TZOFFSETFROM:-0400
TZOFFSETTO:-0500
TZNAME:EST
DTSTART:20221106T060000
END:STANDARD
END:VTIMEZONE
BEGIN:VEVENT
DTSTART;TZID=America/New_York:20210717T100000
DTEND;TZID=America/New_York:20210717T153000
DTSTAMP:20260424T044213
CREATED:20210625T225144Z
LAST-MODIFIED:20210625T225144Z
UID:10001477-1626516000-1626535800@baysoundings.com
SUMMARY:Talking Telescopes
DESCRIPTION:Talking Telescopes is an opportunity for you to learn about setting up and using telescopes and talk with our telescope expert\, Ed McDonough\, about the ‘scope you already have or one you’d like to own. Ed is a Museum volunteer who has been an astronomy hobbyist since he was 10 and has spent more than 25 years as a sales representative for the telescope maker Celestron. The program includes solar viewing (weather permitting). \n\nDates: July 17\, August 21\nTimes: Solar viewing in the Riverside Plaza 10-11:30am (weather permitting) | Telescope demonstrations in the Planetarium lobby noon-4pm\nCost: Included in the price of admission\n\nFor an additional fee\, we are also offering one-on-one or group sessions to help you learn to use the telescope you already have. If you’re interested in a session\, please let us know here. \nREGISTER HERE
URL:https://baysoundings.com/event/talking-telescopes/2021-07-17/
LOCATION:Bishop Museum of Science ﻿and Nature\, 201 10th St. West\, Bradenton\, FL\, 34205\, United States
CATEGORIES:Astronomy & Sky Watching,Crafts & Hobbies,Homeschool,Science & Technology,Space Exploration,Workshops & Classes,Youth Programs
END:VEVENT
BEGIN:VEVENT
DTSTART;TZID=America/New_York:20210717T103000
DTEND;TZID=America/New_York:20210717T120000
DTSTAMP:20260424T044213
CREATED:20210625T221406Z
LAST-MODIFIED:20210625T221503Z
UID:10001471-1626517800-1626523200@baysoundings.com
SUMMARY:Practical Guide to Nature Photography
DESCRIPTION:Join photographers Karl and Kathleen Nichter for a practical guide to nature photography!\n\n\n\n\n\n\n\nWhile the Internet offers plenty of photography videos and advice\, asking questions isn’t easy. Join photographers Karl and Kathleen Nichter for a practical guide to nature photography\, gleaned from over 15 years of experience in the field. Plus\, they are right there to answer your questions! Although we won’t be taking any photographs during this session\, if you have any camera questions bring your camera along and we will do our best to answer them. \nRegistration is required. Space is limited for this workshop and will be capped at 25 participants. \nREGISTER HERE
URL:https://baysoundings.com/event/practical-guide-to-nature-photography/
LOCATION:Brooker Creek Environmental Education Center\, 3940 Keystone Road\, Tarpon Springs\, FL\, 34688\, United States
CATEGORIES:Arts, Music & Literature,Crafts & Hobbies,Native Flora & Fauna,Photography,Workshops & Classes
GEO:28.136639;-82.656421
X-APPLE-STRUCTURED-LOCATION;VALUE=URI;X-ADDRESS=Brooker Creek Environmental Education Center 3940 Keystone Road Tarpon Springs FL 34688 United States;X-APPLE-RADIUS=500;X-TITLE=3940 Keystone Road:geo:-82.656421,28.136639
END:VEVENT
BEGIN:VEVENT
DTSTART;TZID=America/New_York:20210718T190000
DTEND;TZID=America/New_York:20210718T220000
DTSTAMP:20260424T044213
CREATED:20210623T224332Z
LAST-MODIFIED:20210623T224332Z
UID:10000734-1626634800-1626645600@baysoundings.com
SUMMARY:Rain Barrels
DESCRIPTION:Learn about bugs with insect crafts and activities.\n\n\n\n\n\n\n\nSuitable for kids of all ages. Families have an opportunity to see all the fun elements of the Children’s area and other demonstration gardens. Pick up a free plan in the greenhouse too! \nREGISTER HERE
URL:https://baysoundings.com/event/rain-barrels/
LOCATION:UF/IFAS Manatee County Extension\, 1303 17th Street West\, Palmetto\, FL\, 34221\, United States
CATEGORIES:Crafts & Hobbies,Insects,Kids & Families,Native Flora & Fauna,Wildlife,Youth Programs
GEO:27.526707;-82.580054
X-APPLE-STRUCTURED-LOCATION;VALUE=URI;X-ADDRESS=UF/IFAS Manatee County Extension 1303 17th Street West Palmetto FL 34221 United States;X-APPLE-RADIUS=500;X-TITLE=1303 17th Street West:geo:-82.580054,27.526707
END:VEVENT
END:VCALENDAR