BEGIN:VCALENDAR
VERSION:2.0
PRODID:-//Bay Soundings - ECPv6.15.11//NONSGML v1.0//EN
CALSCALE:GREGORIAN
METHOD:PUBLISH
X-ORIGINAL-URL:https://baysoundings.com
X-WR-CALDESC:Events for Bay Soundings
REFRESH-INTERVAL;VALUE=DURATION:PT1H
X-Robots-Tag:noindex
X-PUBLISHED-TTL:PT1H
BEGIN:VTIMEZONE
TZID:America/New_York
BEGIN:DAYLIGHT
TZOFFSETFROM:-0500
TZOFFSETTO:-0400
TZNAME:EDT
DTSTART:20220313T070000
END:DAYLIGHT
BEGIN:STANDARD
TZOFFSETFROM:-0400
TZOFFSETTO:-0500
TZNAME:EST
DTSTART:20221106T060000
END:STANDARD
BEGIN:DAYLIGHT
TZOFFSETFROM:-0500
TZOFFSETTO:-0400
TZNAME:EDT
DTSTART:20230312T070000
END:DAYLIGHT
BEGIN:STANDARD
TZOFFSETFROM:-0400
TZOFFSETTO:-0500
TZNAME:EST
DTSTART:20231105T060000
END:STANDARD
BEGIN:DAYLIGHT
TZOFFSETFROM:-0500
TZOFFSETTO:-0400
TZNAME:EDT
DTSTART:20240310T070000
END:DAYLIGHT
BEGIN:STANDARD
TZOFFSETFROM:-0400
TZOFFSETTO:-0500
TZNAME:EST
DTSTART:20241103T060000
END:STANDARD
END:VTIMEZONE
BEGIN:VEVENT
DTSTART;TZID=America/New_York:20230422T090000
DTEND;TZID=America/New_York:20230422T120000
DTSTAMP:20260422T074604
CREATED:20230325T183816Z
LAST-MODIFIED:20230325T183816Z
UID:10002116-1682154000-1682164800@baysoundings.com
SUMMARY:Earth Day Living Shoreline Project
DESCRIPTION:Celebrate Earth Day by restoring the bay with us! We’ll be installing an oyster shell bar\, planting native grasses and picking up trash from the shoreline of Lassing Park. \nRegister for this project.
URL:https://baysoundings.com/event/earth-day-living-shoreline-project/
LOCATION:Lassing Park\, 2042 Beach Dr SE\, St. Petersburg\, FL\, 33705\, United States
CATEGORIES:Cleanups & Restorations,Coastal & Wetlands,Conservation & Ecology,Local Community,Marine Life,Volunteering
END:VEVENT
END:VCALENDAR