BEGIN:VCALENDAR
VERSION:2.0
PRODID:-//Bay Soundings - ECPv6.15.11//NONSGML v1.0//EN
CALSCALE:GREGORIAN
METHOD:PUBLISH
X-ORIGINAL-URL:https://baysoundings.com
X-WR-CALDESC:Events for Bay Soundings
REFRESH-INTERVAL;VALUE=DURATION:PT1H
X-Robots-Tag:noindex
X-PUBLISHED-TTL:PT1H
BEGIN:VTIMEZONE
TZID:America/New_York
BEGIN:DAYLIGHT
TZOFFSETFROM:-0500
TZOFFSETTO:-0400
TZNAME:EDT
DTSTART:20220313T070000
END:DAYLIGHT
BEGIN:STANDARD
TZOFFSETFROM:-0400
TZOFFSETTO:-0500
TZNAME:EST
DTSTART:20221106T060000
END:STANDARD
BEGIN:DAYLIGHT
TZOFFSETFROM:-0500
TZOFFSETTO:-0400
TZNAME:EDT
DTSTART:20230312T070000
END:DAYLIGHT
BEGIN:STANDARD
TZOFFSETFROM:-0400
TZOFFSETTO:-0500
TZNAME:EST
DTSTART:20231105T060000
END:STANDARD
BEGIN:DAYLIGHT
TZOFFSETFROM:-0500
TZOFFSETTO:-0400
TZNAME:EDT
DTSTART:20240310T070000
END:DAYLIGHT
BEGIN:STANDARD
TZOFFSETFROM:-0400
TZOFFSETTO:-0500
TZNAME:EST
DTSTART:20241103T060000
END:STANDARD
END:VTIMEZONE
BEGIN:VEVENT
DTSTART;TZID=America/New_York:20230413T143000
DTEND;TZID=America/New_York:20230413T153000
DTSTAMP:20260422T061644
CREATED:20230324T194241Z
LAST-MODIFIED:20230324T194241Z
UID:10001336-1681396200-1681399800@baysoundings.com
SUMMARY:Swallow-tailed Kites & Short-tailed Hawks
DESCRIPTION:Conservation and Tracking\nSwallow-tailed Kites & Short-tailed Hawks \nJoin us to learn about the tracking of swallow-tailed kites and short-tailed hawks by the Avian Research and Conservation Institute. \nSwallow-tailed Kites (Elanoides forficatus) and Short-tailed Hawks (Buteo brachyurus) are two of Florida’s rarest and most special raptor species. The Avian Research and Conservation Institute (ARCI)\, based in Gainesville\, FL\, studies these raptors and tracks their movements and activity– including their presence at the Weedon Island Preserve! Join us for a presentation from Gina Kent of ARCI to hear about the latest conservation issues and status trends of these beautiful raptors. \nGina Kent has worked with ARCI since 2000 and is a Senior Conservation Scientist. She conducts bird surveys from small planes\, boats around the Florida Keys\, and climbs 100-foot-tall trees\, while working with many Florida specialty birds including Crested Caracara\, Swallow-tailed Kites\, Snail Kites\, Reddish Egrets\, White-crowned Pigeons\, and others. She is based in Florida but travels throughout the southeastern U.S. and internationally to research birds. Gina received an undergraduate degree in wildlife from the University of Wisconsin Stevens Point\, and a master’s degree from the Georgia Southern University. Her graduate thesis was on Swallow-tailed Kite migration and stopover sites. \n>>> REGISTER HERE <<<
URL:https://baysoundings.com/event/swallow-tailed-kites-short-tailed-hawks/
LOCATION:Weedon Island Preserve Cultural and Natural History Center\, 1800 Weedon Drive NE\, St. Petersburg\, FL\, United States
CATEGORIES:Birds & Birding,Conservation & Ecology,Exhibits,Lectures & Seminars,Native Flora & Fauna,Raptors
GEO:27.850451;-82.6075539
X-APPLE-STRUCTURED-LOCATION;VALUE=URI;X-ADDRESS=Weedon Island Preserve Cultural and Natural History Center 1800 Weedon Drive NE St. Petersburg FL United States;X-APPLE-RADIUS=500;X-TITLE=1800 Weedon Drive NE:geo:-82.6075539,27.850451
END:VEVENT
END:VCALENDAR