BEGIN:VCALENDAR
VERSION:2.0
PRODID:-//Bay Soundings - ECPv6.15.11//NONSGML v1.0//EN
CALSCALE:GREGORIAN
METHOD:PUBLISH
X-ORIGINAL-URL:https://baysoundings.com
X-WR-CALDESC:Events for Bay Soundings
REFRESH-INTERVAL;VALUE=DURATION:PT1H
X-Robots-Tag:noindex
X-PUBLISHED-TTL:PT1H
BEGIN:VTIMEZONE
TZID:America/New_York
BEGIN:DAYLIGHT
TZOFFSETFROM:-0500
TZOFFSETTO:-0400
TZNAME:EDT
DTSTART:20210314T070000
END:DAYLIGHT
BEGIN:STANDARD
TZOFFSETFROM:-0400
TZOFFSETTO:-0500
TZNAME:EST
DTSTART:20211107T060000
END:STANDARD
BEGIN:DAYLIGHT
TZOFFSETFROM:-0500
TZOFFSETTO:-0400
TZNAME:EDT
DTSTART:20220313T070000
END:DAYLIGHT
BEGIN:STANDARD
TZOFFSETFROM:-0400
TZOFFSETTO:-0500
TZNAME:EST
DTSTART:20221106T060000
END:STANDARD
BEGIN:DAYLIGHT
TZOFFSETFROM:-0500
TZOFFSETTO:-0400
TZNAME:EDT
DTSTART:20230312T070000
END:DAYLIGHT
BEGIN:STANDARD
TZOFFSETFROM:-0400
TZOFFSETTO:-0500
TZNAME:EST
DTSTART:20231105T060000
END:STANDARD
END:VTIMEZONE
BEGIN:VEVENT
DTSTART;TZID=America/New_York:20221019T070000
DTEND;TZID=America/New_York:20221019T190000
DTSTAMP:20260421T214051
CREATED:20220923T182237Z
LAST-MODIFIED:20220923T182237Z
UID:10000678-1666162800-1666206000@baysoundings.com
SUMMARY:29th Annual Fishing Line Island Cleanup
DESCRIPTION:Join Tampa Bay Watch and Audubon Florida for the 29th Annual Fishing Line Island Cleanup. \nThe goal is to remove hazardous monofilament line from mangrove shorelines. Monofilament or “mono\,” is a fancy word for the commonly used plastic fishing line. It has great fishing utility\, but can take over 600 years to break down and poses serious threats to birds and other wildlife. Improperly discarded mono and fishing gear leads to wildlife entanglement\, accidental hooks\, and ingestion. \nThis will be a self-led event\, where participants will travel out to their designated location by personal boat/other watercraft any day between October 15-23 to target shorelines where cast line has been caught in the tree line. Volunteers will compile the recovered monofilament\, to be collected\, cleaned\, and recycled. \nThere are a variety of sites in which to participate—all critical bird nesting habitat—throughout Pinellas\, Hillsborough\, and Manatee. \n\nClick here to register to volunteer for this event.
URL:https://baysoundings.com/event/29th-annual-fishing-line-island-cleanup/2022-10-19/
LOCATION:FL
CATEGORIES:Adult Level,Cleanups & Restorations,Coastal & Wetlands,Conservation & Ecology,Fishing & Hunting,Local Community,Marine Life,Maritime Topics,Volunteering,Water Sports
END:VEVENT
BEGIN:VEVENT
DTSTART;TZID=America/New_York:20221019T183000
DTEND;TZID=America/New_York:20221019T193000
DTSTAMP:20260421T214051
CREATED:20221015T214853Z
LAST-MODIFIED:20221015T214853Z
UID:10001335-1666204200-1666207800@baysoundings.com
SUMMARY:Friends of Moccasin Lake Meeting
DESCRIPTION:The Friends of Moccasin Lake believe that it is imperative that one of the last truly natural green spaces in the most developed county in Florida must be protected and maintained for current and future generations to visit\, learn and celebrate what “Old Florida” used to look like. \nWe ask that you visit our magnificent Nature Park and enjoy some birding\, hiking\, or just sit and enjoy the sounds of nature that few places can offer in today’s ever changing and complicated world.\nThe Friends of Moccasin Lake is a 501C3 nonprofit organization. \n\nJoin Us\nThe Friends of Moccasin Lake need your help! We are advocates of Moccasin Lake Nature Park and would like to expand our membership to include you and your special skills\, talents\, and support.
URL:https://baysoundings.com/event/friends-of-moccasin-lake-meeting/
LOCATION:Moccasin Lake Environmental Education Center\, 2750 Park Trail Lane\, Clearwater\, FL\, United States
CATEGORIES:Clubs,Conservation & Ecology,Local Community,Organizational Meetings
GEO:27.977104;-82.724462
X-APPLE-STRUCTURED-LOCATION;VALUE=URI;X-ADDRESS=Moccasin Lake Environmental Education Center 2750 Park Trail Lane Clearwater FL United States;X-APPLE-RADIUS=500;X-TITLE=2750 Park Trail Lane:geo:-82.724462,27.977104
END:VEVENT
END:VCALENDAR