BEGIN:VCALENDAR
VERSION:2.0
PRODID:-//Bay Soundings - ECPv6.15.11//NONSGML v1.0//EN
CALSCALE:GREGORIAN
METHOD:PUBLISH
X-ORIGINAL-URL:https://baysoundings.com
X-WR-CALDESC:Events for Bay Soundings
REFRESH-INTERVAL;VALUE=DURATION:PT1H
X-Robots-Tag:noindex
X-PUBLISHED-TTL:PT1H
BEGIN:VTIMEZONE
TZID:America/New_York
BEGIN:DAYLIGHT
TZOFFSETFROM:-0500
TZOFFSETTO:-0400
TZNAME:EDT
DTSTART:20220313T070000
END:DAYLIGHT
BEGIN:STANDARD
TZOFFSETFROM:-0400
TZOFFSETTO:-0500
TZNAME:EST
DTSTART:20221106T060000
END:STANDARD
BEGIN:DAYLIGHT
TZOFFSETFROM:-0500
TZOFFSETTO:-0400
TZNAME:EDT
DTSTART:20230312T070000
END:DAYLIGHT
BEGIN:STANDARD
TZOFFSETFROM:-0400
TZOFFSETTO:-0500
TZNAME:EST
DTSTART:20231105T060000
END:STANDARD
BEGIN:DAYLIGHT
TZOFFSETFROM:-0500
TZOFFSETTO:-0400
TZNAME:EDT
DTSTART:20240310T070000
END:DAYLIGHT
BEGIN:STANDARD
TZOFFSETFROM:-0400
TZOFFSETTO:-0500
TZNAME:EST
DTSTART:20241103T060000
END:STANDARD
END:VTIMEZONE
BEGIN:VEVENT
DTSTART;TZID=America/New_York:20230109T180000
DTEND;TZID=America/New_York:20230109T193000
DTSTAMP:20260423T094421
CREATED:20221212T200703Z
LAST-MODIFIED:20221212T200703Z
UID:10001959-1673287200-1673292600@baysoundings.com
SUMMARY:Rising to the challenge of coral reef restoration
DESCRIPTION:Dr. Jason Spadaro joined Mote in December 2021 as a Postdoctoral Scientist to integrate an ecosystem approach into Mote’s premier science-based Coral Reef Restoration Program. His research focuses on manipulating ecological processes to support the restoration and recovery of Florida’s Coral Reef and other coral reef ecosystems. \nIn this lecture\, on Jan. 9\, Spadaro will explain how coral reefs are in trouble\, and how Mote Marine Laboratory scientists are pioneers in coral reef restoration. Mote’s team actively propagates and restores corals to degraded reef structures\, while actively selecting the most resilient and robust corals with the goal of creating a strong and resilient community of restored corals. \nRecently\, Mote has also invested in the restoration of critical ecosystem functions\, such as grazing by herbivores such as Caribbean king crabs. Led by Spadaro\, Mote scientists are engaged in the aquaculture of this large crab species that consumes many of the algae that otherwise would compete with corals for space on the reef. Tying all of these intricate and complex components together is nothing short of challenging. However\, Spadaro\, his team\, and everyone at Mote are more than up to the challenge with cutting-edge science guiding the way. \nTickets are on sale now at  mote.org/lecture. \n 
URL:https://baysoundings.com/event/rising-to-the-challenge-of-coral-reef-restoration/
LOCATION:Mote Marine & Aquarium\, 1600 Ken Thompson Pkwy\, Sarasota\, FL\, 34236\, United States
CATEGORIES:Cleanups & Restorations,Coastal & Wetlands,Conservation & Ecology,Lectures & Seminars,Marine Life
GEO:27.3332136;-82.5779546
X-APPLE-STRUCTURED-LOCATION;VALUE=URI;X-ADDRESS=Mote Marine & Aquarium 1600 Ken Thompson Pkwy Sarasota FL 34236 United States;X-APPLE-RADIUS=500;X-TITLE=1600 Ken Thompson Pkwy:geo:-82.5779546,27.3332136
END:VEVENT
BEGIN:VEVENT
DTSTART;TZID=America/New_York:20230116T180000
DTEND;TZID=America/New_York:20230116T193000
DTSTAMP:20260423T094421
CREATED:20221219T185500Z
LAST-MODIFIED:20221219T185500Z
UID:10001079-1673892000-1673897400@baysoundings.com
SUMMARY:Diving Deep to explore the Gulf of Mexico Blue Holes
DESCRIPTION:Dr. Emily Hall joined Mote in the Chemical Ecology Program in 2005 and is involved in research and monitoring of nutrient patterns in relation to harmful algae blooms along the west coast of Florida\, and investigating sources of nutrients in aquatic systems. She also leads the Ocean Acidification Program\, investigating the effects of acidifying waters on the marine environment.  Jim Culter joined Mote in 1979 to develop the Benthic Ecology Program\, specializing in marine and estuarine ecology and environmental assessment with an emphasis on benthic habitats and invertebrate ecology. \nIn their lecture on Jan. 16\, Hall and Culter will answer the question; What are blue holes? \nBlue holes are underwater sinkholes\, similar to sinkholes on land. They vary in size\, shape and depth\, but most are ecological hot spots. A blue hole can be an oasis in an otherwise barren seafloor. Join these Mote scientists as they take you with them on a journey and explore these beautiful and mystery-filled holes in our own Gulf of Mexico! One dive took them over 400 feet below the surface of the water! \nMote Members also receive discounted admission to the event.\nTickets are on sale now at mote.org/lecture.
URL:https://baysoundings.com/event/diving-deep-to-explore-the-gulf-of-mexico-blue-holes/
LOCATION:Mote Marine Laboratory\, 1600 Ken Thompson Pkwy.\, Sarasota\, FL\, 34236\, United States
CATEGORIES:Adult Level,Conservation & Ecology,Lectures & Seminars,Marine Life,Water Sports
GEO:27.33369;-82.578901
X-APPLE-STRUCTURED-LOCATION;VALUE=URI;X-ADDRESS=Mote Marine Laboratory 1600 Ken Thompson Pkwy. Sarasota FL 34236 United States;X-APPLE-RADIUS=500;X-TITLE=1600 Ken Thompson Pkwy.:geo:-82.578901,27.33369
END:VEVENT
BEGIN:VEVENT
DTSTART;TZID=America/New_York:20230118T120000
DTEND;TZID=America/New_York:20230118T130000
DTSTAMP:20260423T094421
CREATED:20221226T212304Z
LAST-MODIFIED:20221226T212304Z
UID:10000628-1674043200-1674046800@baysoundings.com
SUMMARY:Backyard Composting
DESCRIPTION:Composting – learn how to turn trash into treasure! \nThis workshop is for Hillsborough County residents/employees only. \nLearn to turn trash into treasure! Hillsborough County residents/employees will receive a compost bin\, compost bucket and thermometer after attending the workshop. (1 per household and the representative of the household must be an adult.) \n>>> WEBINAR REGISTRATION <<< \nSince you are attending this workshop on Zoom\, you will need to make an appointment with our receptionist after January 20 (813-744-5519) to come in and pick up your items. All items must be picked up within 30 days of the date of the workshop. No exceptions.
URL:https://baysoundings.com/event/backyard-composting-15/
LOCATION:Online Event
CATEGORIES:Conservation & Ecology,Home & Lifestyle,Local Community,WEBINARS & ONLINE CLASSES
END:VEVENT
BEGIN:VEVENT
DTSTART;TZID=America/New_York:20230121T110000
DTEND;TZID=America/New_York:20230121T140000
DTSTAMP:20260423T094421
CREATED:20221230T194818Z
LAST-MODIFIED:20221230T194818Z
UID:10001263-1674298800-1674309600@baysoundings.com
SUMMARY:WHAT IS A CARBON FOOTPRINT? CARBON FOOTPRINT ACTIVITIES FOR KIDS
DESCRIPTION:Have you ever thought about reducing your carbon footprint but didn’t know where to begin? Join us for free activities demonstrating easy ways you and your family can adjust your carbon footprints.\nAll ages welcome!\nNo registration required.
URL:https://baysoundings.com/event/what-is-a-carbon-footprint-carbon-footprint-activities-for-kids/
LOCATION:Boyd Hill Nature Preserve Classroom\, 1101 COUNTRY CLUB WY S\, St. Petersburg\, FL\, 33705\, United States
CATEGORIES:Conservation & Ecology,Kids & Families,Lectures & Seminars,Local Community,Recycling,Science & Technology,Youth Programs
ORGANIZER;CN="Boyd Hill Nature Preserve":MAILTO:stpeteparksrec@stpete.org 
GEO:27.724764;-82.6502749
X-APPLE-STRUCTURED-LOCATION;VALUE=URI;X-ADDRESS=Boyd Hill Nature Preserve Classroom 1101 COUNTRY CLUB WY S St. Petersburg FL 33705 United States;X-APPLE-RADIUS=500;X-TITLE=1101 COUNTRY CLUB WY S:geo:-82.6502749,27.724764
END:VEVENT
BEGIN:VEVENT
DTSTART;TZID=America/New_York:20230124T100000
DTEND;TZID=America/New_York:20230124T120000
DTSTAMP:20260423T094421
CREATED:20221226T204321Z
LAST-MODIFIED:20221226T204321Z
UID:10000847-1674554400-1674561600@baysoundings.com
SUMMARY:Basic Irrigation Operations and Maintenance
DESCRIPTION:Want to learn more about irrigation\, how it operates\, and the basics of maintaining it? \nPresented by Brian J Rigney\, Irrigation Program Assistant.  Learn about the basic operations and maintenance of your in-ground irrigation system. \nContact:  Mr. Rigney (941) 722-4524 X 1828 or  BrianRigney@ufl.edu for further class information.  Minimum class size required or class will be cancelled.  Registered attendees will be notified. \nThis class will satisfy the irrigation educational class requirement for the Manatee County Outdoor Water Rebate Program. \nFor further information on the Outdoor Water Rebate Program\, contact: Manatee County Utility Department – Tina at (941) 792-8811 X 5327 or tina.moutoux@mymanatee.org \nBook your FREE irrigation and landscape evaluation with the Mobile Irrigation Lab (MIL). Call Maggie Gaughan (941) 722-4524 X 1827 to sign up today. \n>>> WEBINAR REGISTRATION <<< \nThe University of Florida is committed to providing universal access to all of our events. For disability accommodations such as alternate formats of written material\, please contact Brian Rigney BrianRigney@ufl.edu or (941) 722-4524 at least 1 week in advance.
URL:https://baysoundings.com/event/basic-irrigation-operations-and-maintenance-2/
LOCATION:Online Event
CATEGORIES:Agriculture & Botany,Certification & Training Programs,Conservation & Ecology,Gardening & Landscaping,Home & Lifestyle,WEBINARS & ONLINE CLASSES
END:VEVENT
BEGIN:VEVENT
DTSTART;TZID=America/New_York:20230126T100000
DTEND;TZID=America/New_York:20230126T120000
DTSTAMP:20260423T094421
CREATED:20221226T210825Z
LAST-MODIFIED:20221226T210825Z
UID:10000336-1674727200-1674734400@baysoundings.com
SUMMARY:Landscape Tips for Water Conservation
DESCRIPTION:Valrie Massey\, Horticulture Program Assistant\, will focus on Florida-Friendly Landscape tips such as right plant vs. right place\, watering efficiently\, and mulch benefits. We will have a brief discussion on your in-ground sprinkler system and the benefits of installing smart irrigation devices. \nThis class satisfies the landscape educational requirement for the Manatee County Outdoor Water Conservation Rebate Program. \nContact: Valrie (941) 722-4524 ext 1829 or vmassey@ufl.edu for further class information. Minimum class size required or class will be cancelled. Registered attendees will be notified. \n>>> WEBINAR REGISTRATION <<< \nFor information and eligibility on the Manatee County Outdoor Rebate Program\, please call: Manatee County Utility Department – Water Conservation; Tina (941) 792-8811\, ext 5327 or tina.moutoux@mymanatee.org \nThe University of Florida is committed to providing universal access to all of our events. For disability accommodations such as sign language interpreters and listening devices\, please contact Valrie Massey (vmassey@ufl.edu / 941-722-4524) at least 1 week in advance. Advance notice is necessary to arrange for some accessibility needs.
URL:https://baysoundings.com/event/landscape-tips-for-water-conservation-2/
LOCATION:Online Event
CATEGORIES:Agriculture & Botany,Certification & Training Programs,Conservation & Ecology,Farming,Gardening & Landscaping,Home & Lifestyle,Local Community,WEBINARS & ONLINE CLASSES
END:VEVENT
END:VCALENDAR