BEGIN:VCALENDAR
VERSION:2.0
PRODID:-//Bay Soundings - ECPv6.15.11//NONSGML v1.0//EN
CALSCALE:GREGORIAN
METHOD:PUBLISH
X-ORIGINAL-URL:https://baysoundings.com
X-WR-CALDESC:Events for Bay Soundings
REFRESH-INTERVAL;VALUE=DURATION:PT1H
X-Robots-Tag:noindex
X-PUBLISHED-TTL:PT1H
BEGIN:VTIMEZONE
TZID:America/New_York
BEGIN:DAYLIGHT
TZOFFSETFROM:-0500
TZOFFSETTO:-0400
TZNAME:EDT
DTSTART:20210314T070000
END:DAYLIGHT
BEGIN:STANDARD
TZOFFSETFROM:-0400
TZOFFSETTO:-0500
TZNAME:EST
DTSTART:20211107T060000
END:STANDARD
BEGIN:DAYLIGHT
TZOFFSETFROM:-0500
TZOFFSETTO:-0400
TZNAME:EDT
DTSTART:20220313T070000
END:DAYLIGHT
BEGIN:STANDARD
TZOFFSETFROM:-0400
TZOFFSETTO:-0500
TZNAME:EST
DTSTART:20221106T060000
END:STANDARD
BEGIN:DAYLIGHT
TZOFFSETFROM:-0500
TZOFFSETTO:-0400
TZNAME:EDT
DTSTART:20230312T070000
END:DAYLIGHT
BEGIN:STANDARD
TZOFFSETFROM:-0400
TZOFFSETTO:-0500
TZNAME:EST
DTSTART:20231105T060000
END:STANDARD
END:VTIMEZONE
BEGIN:VEVENT
DTSTART;TZID=America/New_York:20221004T090000
DTEND;TZID=America/New_York:20221004T120000
DTSTAMP:20260421T163327
CREATED:20220923T174152Z
LAST-MODIFIED:20220923T174152Z
UID:10001901-1664874000-1664884800@baysoundings.com
SUMMARY:Oyster Reef Ball Construction
DESCRIPTION:Join us at the Tampa Bay Watch Marine Education Center\, 3000 Pinellas Bayway South in Tierra Verde to help build oyster reef balls! \nThis task involves pouring marine-friendly concrete into a fiberglass mold to create oyster reef balls\, then taking apart the molds when dry. The reef balls will be installed at a future date to stabilize shorelines and prevent erosion while creating habitat similar to natural oyster communities found along shoreline areas throughout Tampa Bay.  \nClick here to visit our webpage to learn more about reef balls. \nClick here to register to volunteer!
URL:https://baysoundings.com/event/oyster-reef-ball-construction/2022-10-04/
LOCATION:Tampa Bay Watch Marine & Education Center\, 3000 Pinellas Bayway South\, Tierra Verde\, FL\, 33715\, United States
CATEGORIES:Cleanups & Restorations,Conservation & Ecology,Local Community,Marine Life,Volunteering
GEO:27.6549456;-82.7178585
X-APPLE-STRUCTURED-LOCATION;VALUE=URI;X-ADDRESS=Tampa Bay Watch Marine & Education Center 3000 Pinellas Bayway South Tierra Verde FL 33715 United States;X-APPLE-RADIUS=500;X-TITLE=3000 Pinellas Bayway South:geo:-82.7178585,27.6549456
END:VEVENT
BEGIN:VEVENT
DTSTART;TZID=America/New_York:20221005T090000
DTEND;TZID=America/New_York:20221005T150000
DTSTAMP:20260421T163327
CREATED:20220922T185314Z
LAST-MODIFIED:20220922T185314Z
UID:10001149-1664960400-1664982000@baysoundings.com
SUMMARY:Tap to Tide Water School
DESCRIPTION:Tap to Tide Water School topics explore water quality and conservation concerns. \n\n\n\n\n\nJoin UF/IFAS Manatee County Extension for an in depth look at emerging water issues in our region. We will provide expert presentations and deep dives into the topics during facilitated discussions. This program is intended for local policymakers but all interested are welcome to register. \nPlease bring your own reusable water bottles\, sunscreen\, hat\, etc. for the boat tour portion of Water School. \nAgenda: \n9:00-12:30 Class session (coffee provided) \n12:30 Lunch \n1:15-3:00 Field Trip\, boat tour \n\n>> BUY TICKETS <<<
URL:https://baysoundings.com/event/tap-to-tide-water-school/
LOCATION:Riverhouse Waterfront Restaurant\, 995 Riverside Drive\, Palmetto\, FL\, 34221\, United States
CATEGORIES:Boating,Clean Water,Conservation & Ecology,Dining,Local Community,Marine Life,Nature Tours & Hikes,Workshops & Classes
END:VEVENT
BEGIN:VEVENT
DTSTART;TZID=America/New_York:20221006T090000
DTEND;TZID=America/New_York:20221006T120000
DTSTAMP:20260421T163327
CREATED:20220923T174152Z
LAST-MODIFIED:20220923T174152Z
UID:10001902-1665046800-1665057600@baysoundings.com
SUMMARY:Oyster Reef Ball Construction
DESCRIPTION:Join us at the Tampa Bay Watch Marine Education Center\, 3000 Pinellas Bayway South in Tierra Verde to help build oyster reef balls! \nThis task involves pouring marine-friendly concrete into a fiberglass mold to create oyster reef balls\, then taking apart the molds when dry. The reef balls will be installed at a future date to stabilize shorelines and prevent erosion while creating habitat similar to natural oyster communities found along shoreline areas throughout Tampa Bay.  \nClick here to visit our webpage to learn more about reef balls. \nClick here to register to volunteer!
URL:https://baysoundings.com/event/oyster-reef-ball-construction/2022-10-06/
LOCATION:Tampa Bay Watch Marine & Education Center\, 3000 Pinellas Bayway South\, Tierra Verde\, FL\, 33715\, United States
CATEGORIES:Cleanups & Restorations,Conservation & Ecology,Local Community,Marine Life,Volunteering
GEO:27.6549456;-82.7178585
X-APPLE-STRUCTURED-LOCATION;VALUE=URI;X-ADDRESS=Tampa Bay Watch Marine & Education Center 3000 Pinellas Bayway South Tierra Verde FL 33715 United States;X-APPLE-RADIUS=500;X-TITLE=3000 Pinellas Bayway South:geo:-82.7178585,27.6549456
END:VEVENT
BEGIN:VEVENT
DTSTART;TZID=America/New_York:20221012T090000
DTEND;TZID=America/New_York:20221012T120000
DTSTAMP:20260421T163327
CREATED:20220923T174152Z
LAST-MODIFIED:20220923T174152Z
UID:10001903-1665565200-1665576000@baysoundings.com
SUMMARY:Oyster Reef Ball Construction
DESCRIPTION:Join us at the Tampa Bay Watch Marine Education Center\, 3000 Pinellas Bayway South in Tierra Verde to help build oyster reef balls! \nThis task involves pouring marine-friendly concrete into a fiberglass mold to create oyster reef balls\, then taking apart the molds when dry. The reef balls will be installed at a future date to stabilize shorelines and prevent erosion while creating habitat similar to natural oyster communities found along shoreline areas throughout Tampa Bay.  \nClick here to visit our webpage to learn more about reef balls. \nClick here to register to volunteer!
URL:https://baysoundings.com/event/oyster-reef-ball-construction/2022-10-12/
LOCATION:Tampa Bay Watch Marine & Education Center\, 3000 Pinellas Bayway South\, Tierra Verde\, FL\, 33715\, United States
CATEGORIES:Cleanups & Restorations,Conservation & Ecology,Local Community,Marine Life,Volunteering
GEO:27.6549456;-82.7178585
X-APPLE-STRUCTURED-LOCATION;VALUE=URI;X-ADDRESS=Tampa Bay Watch Marine & Education Center 3000 Pinellas Bayway South Tierra Verde FL 33715 United States;X-APPLE-RADIUS=500;X-TITLE=3000 Pinellas Bayway South:geo:-82.7178585,27.6549456
END:VEVENT
BEGIN:VEVENT
DTSTART;TZID=America/New_York:20221015T070000
DTEND;TZID=America/New_York:20221015T190000
DTSTAMP:20260421T163327
CREATED:20220923T182237Z
LAST-MODIFIED:20220923T182237Z
UID:10000674-1665817200-1665860400@baysoundings.com
SUMMARY:29th Annual Fishing Line Island Cleanup
DESCRIPTION:Join Tampa Bay Watch and Audubon Florida for the 29th Annual Fishing Line Island Cleanup. \nThe goal is to remove hazardous monofilament line from mangrove shorelines. Monofilament or “mono\,” is a fancy word for the commonly used plastic fishing line. It has great fishing utility\, but can take over 600 years to break down and poses serious threats to birds and other wildlife. Improperly discarded mono and fishing gear leads to wildlife entanglement\, accidental hooks\, and ingestion. \nThis will be a self-led event\, where participants will travel out to their designated location by personal boat/other watercraft any day between October 15-23 to target shorelines where cast line has been caught in the tree line. Volunteers will compile the recovered monofilament\, to be collected\, cleaned\, and recycled. \nThere are a variety of sites in which to participate—all critical bird nesting habitat—throughout Pinellas\, Hillsborough\, and Manatee. \n\nClick here to register to volunteer for this event.
URL:https://baysoundings.com/event/29th-annual-fishing-line-island-cleanup/2022-10-15/
LOCATION:FL
CATEGORIES:Adult Level,Cleanups & Restorations,Coastal & Wetlands,Conservation & Ecology,Fishing & Hunting,Local Community,Marine Life,Maritime Topics,Volunteering,Water Sports
END:VEVENT
BEGIN:VEVENT
DTSTART;TZID=America/New_York:20221016T070000
DTEND;TZID=America/New_York:20221016T190000
DTSTAMP:20260421T163328
CREATED:20220923T182237Z
LAST-MODIFIED:20220923T182237Z
UID:10000675-1665903600-1665946800@baysoundings.com
SUMMARY:29th Annual Fishing Line Island Cleanup
DESCRIPTION:Join Tampa Bay Watch and Audubon Florida for the 29th Annual Fishing Line Island Cleanup. \nThe goal is to remove hazardous monofilament line from mangrove shorelines. Monofilament or “mono\,” is a fancy word for the commonly used plastic fishing line. It has great fishing utility\, but can take over 600 years to break down and poses serious threats to birds and other wildlife. Improperly discarded mono and fishing gear leads to wildlife entanglement\, accidental hooks\, and ingestion. \nThis will be a self-led event\, where participants will travel out to their designated location by personal boat/other watercraft any day between October 15-23 to target shorelines where cast line has been caught in the tree line. Volunteers will compile the recovered monofilament\, to be collected\, cleaned\, and recycled. \nThere are a variety of sites in which to participate—all critical bird nesting habitat—throughout Pinellas\, Hillsborough\, and Manatee. \n\nClick here to register to volunteer for this event.
URL:https://baysoundings.com/event/29th-annual-fishing-line-island-cleanup/2022-10-16/
LOCATION:FL
CATEGORIES:Adult Level,Cleanups & Restorations,Coastal & Wetlands,Conservation & Ecology,Fishing & Hunting,Local Community,Marine Life,Maritime Topics,Volunteering,Water Sports
END:VEVENT
BEGIN:VEVENT
DTSTART;TZID=America/New_York:20221017T070000
DTEND;TZID=America/New_York:20221017T190000
DTSTAMP:20260421T163328
CREATED:20220923T182237Z
LAST-MODIFIED:20220923T182237Z
UID:10000676-1665990000-1666033200@baysoundings.com
SUMMARY:29th Annual Fishing Line Island Cleanup
DESCRIPTION:Join Tampa Bay Watch and Audubon Florida for the 29th Annual Fishing Line Island Cleanup. \nThe goal is to remove hazardous monofilament line from mangrove shorelines. Monofilament or “mono\,” is a fancy word for the commonly used plastic fishing line. It has great fishing utility\, but can take over 600 years to break down and poses serious threats to birds and other wildlife. Improperly discarded mono and fishing gear leads to wildlife entanglement\, accidental hooks\, and ingestion. \nThis will be a self-led event\, where participants will travel out to their designated location by personal boat/other watercraft any day between October 15-23 to target shorelines where cast line has been caught in the tree line. Volunteers will compile the recovered monofilament\, to be collected\, cleaned\, and recycled. \nThere are a variety of sites in which to participate—all critical bird nesting habitat—throughout Pinellas\, Hillsborough\, and Manatee. \n\nClick here to register to volunteer for this event.
URL:https://baysoundings.com/event/29th-annual-fishing-line-island-cleanup/2022-10-17/
LOCATION:FL
CATEGORIES:Adult Level,Cleanups & Restorations,Coastal & Wetlands,Conservation & Ecology,Fishing & Hunting,Local Community,Marine Life,Maritime Topics,Volunteering,Water Sports
END:VEVENT
BEGIN:VEVENT
DTSTART;TZID=America/New_York:20221018T070000
DTEND;TZID=America/New_York:20221018T190000
DTSTAMP:20260421T163328
CREATED:20220923T182237Z
LAST-MODIFIED:20220923T182237Z
UID:10000677-1666076400-1666119600@baysoundings.com
SUMMARY:29th Annual Fishing Line Island Cleanup
DESCRIPTION:Join Tampa Bay Watch and Audubon Florida for the 29th Annual Fishing Line Island Cleanup. \nThe goal is to remove hazardous monofilament line from mangrove shorelines. Monofilament or “mono\,” is a fancy word for the commonly used plastic fishing line. It has great fishing utility\, but can take over 600 years to break down and poses serious threats to birds and other wildlife. Improperly discarded mono and fishing gear leads to wildlife entanglement\, accidental hooks\, and ingestion. \nThis will be a self-led event\, where participants will travel out to their designated location by personal boat/other watercraft any day between October 15-23 to target shorelines where cast line has been caught in the tree line. Volunteers will compile the recovered monofilament\, to be collected\, cleaned\, and recycled. \nThere are a variety of sites in which to participate—all critical bird nesting habitat—throughout Pinellas\, Hillsborough\, and Manatee. \n\nClick here to register to volunteer for this event.
URL:https://baysoundings.com/event/29th-annual-fishing-line-island-cleanup/2022-10-18/
LOCATION:FL
CATEGORIES:Adult Level,Cleanups & Restorations,Coastal & Wetlands,Conservation & Ecology,Fishing & Hunting,Local Community,Marine Life,Maritime Topics,Volunteering,Water Sports
END:VEVENT
BEGIN:VEVENT
DTSTART;TZID=America/New_York:20221018T090000
DTEND;TZID=America/New_York:20221018T120000
DTSTAMP:20260421T163328
CREATED:20220923T174152Z
LAST-MODIFIED:20220923T174152Z
UID:10001904-1666083600-1666094400@baysoundings.com
SUMMARY:Oyster Reef Ball Construction
DESCRIPTION:Join us at the Tampa Bay Watch Marine Education Center\, 3000 Pinellas Bayway South in Tierra Verde to help build oyster reef balls! \nThis task involves pouring marine-friendly concrete into a fiberglass mold to create oyster reef balls\, then taking apart the molds when dry. The reef balls will be installed at a future date to stabilize shorelines and prevent erosion while creating habitat similar to natural oyster communities found along shoreline areas throughout Tampa Bay.  \nClick here to visit our webpage to learn more about reef balls. \nClick here to register to volunteer!
URL:https://baysoundings.com/event/oyster-reef-ball-construction/2022-10-18/
LOCATION:Tampa Bay Watch Marine & Education Center\, 3000 Pinellas Bayway South\, Tierra Verde\, FL\, 33715\, United States
CATEGORIES:Cleanups & Restorations,Conservation & Ecology,Local Community,Marine Life,Volunteering
GEO:27.6549456;-82.7178585
X-APPLE-STRUCTURED-LOCATION;VALUE=URI;X-ADDRESS=Tampa Bay Watch Marine & Education Center 3000 Pinellas Bayway South Tierra Verde FL 33715 United States;X-APPLE-RADIUS=500;X-TITLE=3000 Pinellas Bayway South:geo:-82.7178585,27.6549456
END:VEVENT
BEGIN:VEVENT
DTSTART;TZID=America/New_York:20221019T070000
DTEND;TZID=America/New_York:20221019T190000
DTSTAMP:20260421T163328
CREATED:20220923T182237Z
LAST-MODIFIED:20220923T182237Z
UID:10000678-1666162800-1666206000@baysoundings.com
SUMMARY:29th Annual Fishing Line Island Cleanup
DESCRIPTION:Join Tampa Bay Watch and Audubon Florida for the 29th Annual Fishing Line Island Cleanup. \nThe goal is to remove hazardous monofilament line from mangrove shorelines. Monofilament or “mono\,” is a fancy word for the commonly used plastic fishing line. It has great fishing utility\, but can take over 600 years to break down and poses serious threats to birds and other wildlife. Improperly discarded mono and fishing gear leads to wildlife entanglement\, accidental hooks\, and ingestion. \nThis will be a self-led event\, where participants will travel out to their designated location by personal boat/other watercraft any day between October 15-23 to target shorelines where cast line has been caught in the tree line. Volunteers will compile the recovered monofilament\, to be collected\, cleaned\, and recycled. \nThere are a variety of sites in which to participate—all critical bird nesting habitat—throughout Pinellas\, Hillsborough\, and Manatee. \n\nClick here to register to volunteer for this event.
URL:https://baysoundings.com/event/29th-annual-fishing-line-island-cleanup/2022-10-19/
LOCATION:FL
CATEGORIES:Adult Level,Cleanups & Restorations,Coastal & Wetlands,Conservation & Ecology,Fishing & Hunting,Local Community,Marine Life,Maritime Topics,Volunteering,Water Sports
END:VEVENT
BEGIN:VEVENT
DTSTART;TZID=America/New_York:20221019T183000
DTEND;TZID=America/New_York:20221019T193000
DTSTAMP:20260421T163328
CREATED:20221015T214853Z
LAST-MODIFIED:20221015T214853Z
UID:10001335-1666204200-1666207800@baysoundings.com
SUMMARY:Friends of Moccasin Lake Meeting
DESCRIPTION:The Friends of Moccasin Lake believe that it is imperative that one of the last truly natural green spaces in the most developed county in Florida must be protected and maintained for current and future generations to visit\, learn and celebrate what “Old Florida” used to look like. \nWe ask that you visit our magnificent Nature Park and enjoy some birding\, hiking\, or just sit and enjoy the sounds of nature that few places can offer in today’s ever changing and complicated world.\nThe Friends of Moccasin Lake is a 501C3 nonprofit organization. \n\nJoin Us\nThe Friends of Moccasin Lake need your help! We are advocates of Moccasin Lake Nature Park and would like to expand our membership to include you and your special skills\, talents\, and support.
URL:https://baysoundings.com/event/friends-of-moccasin-lake-meeting/
LOCATION:Moccasin Lake Environmental Education Center\, 2750 Park Trail Lane\, Clearwater\, FL\, United States
CATEGORIES:Clubs,Conservation & Ecology,Local Community,Organizational Meetings
GEO:27.977104;-82.724462
X-APPLE-STRUCTURED-LOCATION;VALUE=URI;X-ADDRESS=Moccasin Lake Environmental Education Center 2750 Park Trail Lane Clearwater FL United States;X-APPLE-RADIUS=500;X-TITLE=2750 Park Trail Lane:geo:-82.724462,27.977104
END:VEVENT
BEGIN:VEVENT
DTSTART;TZID=America/New_York:20221020T070000
DTEND;TZID=America/New_York:20221020T190000
DTSTAMP:20260421T163328
CREATED:20220923T182237Z
LAST-MODIFIED:20220923T182237Z
UID:10000679-1666249200-1666292400@baysoundings.com
SUMMARY:29th Annual Fishing Line Island Cleanup
DESCRIPTION:Join Tampa Bay Watch and Audubon Florida for the 29th Annual Fishing Line Island Cleanup. \nThe goal is to remove hazardous monofilament line from mangrove shorelines. Monofilament or “mono\,” is a fancy word for the commonly used plastic fishing line. It has great fishing utility\, but can take over 600 years to break down and poses serious threats to birds and other wildlife. Improperly discarded mono and fishing gear leads to wildlife entanglement\, accidental hooks\, and ingestion. \nThis will be a self-led event\, where participants will travel out to their designated location by personal boat/other watercraft any day between October 15-23 to target shorelines where cast line has been caught in the tree line. Volunteers will compile the recovered monofilament\, to be collected\, cleaned\, and recycled. \nThere are a variety of sites in which to participate—all critical bird nesting habitat—throughout Pinellas\, Hillsborough\, and Manatee. \n\nClick here to register to volunteer for this event.
URL:https://baysoundings.com/event/29th-annual-fishing-line-island-cleanup/2022-10-20/
LOCATION:FL
CATEGORIES:Adult Level,Cleanups & Restorations,Coastal & Wetlands,Conservation & Ecology,Fishing & Hunting,Local Community,Marine Life,Maritime Topics,Volunteering,Water Sports
END:VEVENT
BEGIN:VEVENT
DTSTART;TZID=America/New_York:20221020T090000
DTEND;TZID=America/New_York:20221020T120000
DTSTAMP:20260421T163328
CREATED:20220923T174152Z
LAST-MODIFIED:20220923T174152Z
UID:10001905-1666256400-1666267200@baysoundings.com
SUMMARY:Oyster Reef Ball Construction
DESCRIPTION:Join us at the Tampa Bay Watch Marine Education Center\, 3000 Pinellas Bayway South in Tierra Verde to help build oyster reef balls! \nThis task involves pouring marine-friendly concrete into a fiberglass mold to create oyster reef balls\, then taking apart the molds when dry. The reef balls will be installed at a future date to stabilize shorelines and prevent erosion while creating habitat similar to natural oyster communities found along shoreline areas throughout Tampa Bay.  \nClick here to visit our webpage to learn more about reef balls. \nClick here to register to volunteer!
URL:https://baysoundings.com/event/oyster-reef-ball-construction/2022-10-20/
LOCATION:Tampa Bay Watch Marine & Education Center\, 3000 Pinellas Bayway South\, Tierra Verde\, FL\, 33715\, United States
CATEGORIES:Cleanups & Restorations,Conservation & Ecology,Local Community,Marine Life,Volunteering
GEO:27.6549456;-82.7178585
X-APPLE-STRUCTURED-LOCATION;VALUE=URI;X-ADDRESS=Tampa Bay Watch Marine & Education Center 3000 Pinellas Bayway South Tierra Verde FL 33715 United States;X-APPLE-RADIUS=500;X-TITLE=3000 Pinellas Bayway South:geo:-82.7178585,27.6549456
END:VEVENT
BEGIN:VEVENT
DTSTART;TZID=America/New_York:20221021T070000
DTEND;TZID=America/New_York:20221021T190000
DTSTAMP:20260421T163328
CREATED:20220923T182237Z
LAST-MODIFIED:20220923T182237Z
UID:10000680-1666335600-1666378800@baysoundings.com
SUMMARY:29th Annual Fishing Line Island Cleanup
DESCRIPTION:Join Tampa Bay Watch and Audubon Florida for the 29th Annual Fishing Line Island Cleanup. \nThe goal is to remove hazardous monofilament line from mangrove shorelines. Monofilament or “mono\,” is a fancy word for the commonly used plastic fishing line. It has great fishing utility\, but can take over 600 years to break down and poses serious threats to birds and other wildlife. Improperly discarded mono and fishing gear leads to wildlife entanglement\, accidental hooks\, and ingestion. \nThis will be a self-led event\, where participants will travel out to their designated location by personal boat/other watercraft any day between October 15-23 to target shorelines where cast line has been caught in the tree line. Volunteers will compile the recovered monofilament\, to be collected\, cleaned\, and recycled. \nThere are a variety of sites in which to participate—all critical bird nesting habitat—throughout Pinellas\, Hillsborough\, and Manatee. \n\nClick here to register to volunteer for this event.
URL:https://baysoundings.com/event/29th-annual-fishing-line-island-cleanup/2022-10-21/
LOCATION:FL
CATEGORIES:Adult Level,Cleanups & Restorations,Coastal & Wetlands,Conservation & Ecology,Fishing & Hunting,Local Community,Marine Life,Maritime Topics,Volunteering,Water Sports
END:VEVENT
BEGIN:VEVENT
DTSTART;TZID=America/New_York:20221022T070000
DTEND;TZID=America/New_York:20221022T190000
DTSTAMP:20260421T163328
CREATED:20220923T182237Z
LAST-MODIFIED:20220923T182237Z
UID:10000681-1666422000-1666465200@baysoundings.com
SUMMARY:29th Annual Fishing Line Island Cleanup
DESCRIPTION:Join Tampa Bay Watch and Audubon Florida for the 29th Annual Fishing Line Island Cleanup. \nThe goal is to remove hazardous monofilament line from mangrove shorelines. Monofilament or “mono\,” is a fancy word for the commonly used plastic fishing line. It has great fishing utility\, but can take over 600 years to break down and poses serious threats to birds and other wildlife. Improperly discarded mono and fishing gear leads to wildlife entanglement\, accidental hooks\, and ingestion. \nThis will be a self-led event\, where participants will travel out to their designated location by personal boat/other watercraft any day between October 15-23 to target shorelines where cast line has been caught in the tree line. Volunteers will compile the recovered monofilament\, to be collected\, cleaned\, and recycled. \nThere are a variety of sites in which to participate—all critical bird nesting habitat—throughout Pinellas\, Hillsborough\, and Manatee. \n\nClick here to register to volunteer for this event.
URL:https://baysoundings.com/event/29th-annual-fishing-line-island-cleanup/2022-10-22/
LOCATION:FL
CATEGORIES:Adult Level,Cleanups & Restorations,Coastal & Wetlands,Conservation & Ecology,Fishing & Hunting,Local Community,Marine Life,Maritime Topics,Volunteering,Water Sports
END:VEVENT
BEGIN:VEVENT
DTSTART;TZID=America/New_York:20221023T070000
DTEND;TZID=America/New_York:20221023T190000
DTSTAMP:20260421T163328
CREATED:20220923T182237Z
LAST-MODIFIED:20220923T182237Z
UID:10000682-1666508400-1666551600@baysoundings.com
SUMMARY:29th Annual Fishing Line Island Cleanup
DESCRIPTION:Join Tampa Bay Watch and Audubon Florida for the 29th Annual Fishing Line Island Cleanup. \nThe goal is to remove hazardous monofilament line from mangrove shorelines. Monofilament or “mono\,” is a fancy word for the commonly used plastic fishing line. It has great fishing utility\, but can take over 600 years to break down and poses serious threats to birds and other wildlife. Improperly discarded mono and fishing gear leads to wildlife entanglement\, accidental hooks\, and ingestion. \nThis will be a self-led event\, where participants will travel out to their designated location by personal boat/other watercraft any day between October 15-23 to target shorelines where cast line has been caught in the tree line. Volunteers will compile the recovered monofilament\, to be collected\, cleaned\, and recycled. \nThere are a variety of sites in which to participate—all critical bird nesting habitat—throughout Pinellas\, Hillsborough\, and Manatee. \n\nClick here to register to volunteer for this event.
URL:https://baysoundings.com/event/29th-annual-fishing-line-island-cleanup/2022-10-23/
LOCATION:FL
CATEGORIES:Adult Level,Cleanups & Restorations,Coastal & Wetlands,Conservation & Ecology,Fishing & Hunting,Local Community,Marine Life,Maritime Topics,Volunteering,Water Sports
END:VEVENT
BEGIN:VEVENT
DTSTART;TZID=America/New_York:20221024T090000
DTEND;TZID=America/New_York:20221024T120000
DTSTAMP:20260421T163328
CREATED:20220923T174152Z
LAST-MODIFIED:20220923T174152Z
UID:10001906-1666602000-1666612800@baysoundings.com
SUMMARY:Oyster Reef Ball Construction
DESCRIPTION:Join us at the Tampa Bay Watch Marine Education Center\, 3000 Pinellas Bayway South in Tierra Verde to help build oyster reef balls! \nThis task involves pouring marine-friendly concrete into a fiberglass mold to create oyster reef balls\, then taking apart the molds when dry. The reef balls will be installed at a future date to stabilize shorelines and prevent erosion while creating habitat similar to natural oyster communities found along shoreline areas throughout Tampa Bay.  \nClick here to visit our webpage to learn more about reef balls. \nClick here to register to volunteer!
URL:https://baysoundings.com/event/oyster-reef-ball-construction/2022-10-24/
LOCATION:Tampa Bay Watch Marine & Education Center\, 3000 Pinellas Bayway South\, Tierra Verde\, FL\, 33715\, United States
CATEGORIES:Cleanups & Restorations,Conservation & Ecology,Local Community,Marine Life,Volunteering
GEO:27.6549456;-82.7178585
X-APPLE-STRUCTURED-LOCATION;VALUE=URI;X-ADDRESS=Tampa Bay Watch Marine & Education Center 3000 Pinellas Bayway South Tierra Verde FL 33715 United States;X-APPLE-RADIUS=500;X-TITLE=3000 Pinellas Bayway South:geo:-82.7178585,27.6549456
END:VEVENT
BEGIN:VEVENT
DTSTART;TZID=America/New_York:20221028T110000
DTEND;TZID=America/New_York:20221028T130000
DTSTAMP:20260421T163328
CREATED:20220922T210029Z
LAST-MODIFIED:20220922T210029Z
UID:10001900-1666954800-1666962000@baysoundings.com
SUMMARY:Home Composting
DESCRIPTION:Learn how you can compost at home! \n\n\n\n\n\nComposting has significant environmental benefits and is easier than you might think! It happens very naturally and creates a useful soil amendment for your landscape plants and vegetable gardens. Join us for an in-person class to learn more about it! \n>>> REGISTER HERE <<< \nPlease send special accommodation requests to katiebg@ufl.edu at least 10 days prior to event. Refund requests must be submitted at least 24 hours before event.
URL:https://baysoundings.com/event/home-composting/
LOCATION:Manatee County Agriculture and Extension Office\, 1303 17th St W\, Palmetto\, FL\, 34221\, United States
CATEGORIES:Conservation & Ecology,Farming,Gardening & Landscaping,Home & Lifestyle,Workshops & Classes
GEO:27.528425;-82.580584
X-APPLE-STRUCTURED-LOCATION;VALUE=URI;X-ADDRESS=Manatee County Agriculture and Extension Office 1303 17th St W Palmetto FL 34221 United States;X-APPLE-RADIUS=500;X-TITLE=1303 17th St W:geo:-82.580584,27.528425
END:VEVENT
END:VCALENDAR