BEGIN:VCALENDAR
VERSION:2.0
PRODID:-//Bay Soundings - ECPv6.15.11//NONSGML v1.0//EN
CALSCALE:GREGORIAN
METHOD:PUBLISH
X-ORIGINAL-URL:https://baysoundings.com
X-WR-CALDESC:Events for Bay Soundings
REFRESH-INTERVAL;VALUE=DURATION:PT1H
X-Robots-Tag:noindex
X-PUBLISHED-TTL:PT1H
BEGIN:VTIMEZONE
TZID:America/New_York
BEGIN:DAYLIGHT
TZOFFSETFROM:-0500
TZOFFSETTO:-0400
TZNAME:EDT
DTSTART:20210314T070000
END:DAYLIGHT
BEGIN:STANDARD
TZOFFSETFROM:-0400
TZOFFSETTO:-0500
TZNAME:EST
DTSTART:20211107T060000
END:STANDARD
BEGIN:DAYLIGHT
TZOFFSETFROM:-0500
TZOFFSETTO:-0400
TZNAME:EDT
DTSTART:20220313T070000
END:DAYLIGHT
BEGIN:STANDARD
TZOFFSETFROM:-0400
TZOFFSETTO:-0500
TZNAME:EST
DTSTART:20221106T060000
END:STANDARD
BEGIN:DAYLIGHT
TZOFFSETFROM:-0500
TZOFFSETTO:-0400
TZNAME:EDT
DTSTART:20230312T070000
END:DAYLIGHT
BEGIN:STANDARD
TZOFFSETFROM:-0400
TZOFFSETTO:-0500
TZNAME:EST
DTSTART:20231105T060000
END:STANDARD
END:VTIMEZONE
BEGIN:VEVENT
DTSTART;TZID=America/New_York:20221105T080000
DTEND;TZID=America/New_York:20221105T180000
DTSTAMP:20260422T175733
CREATED:20221007T204549Z
LAST-MODIFIED:20221016T210749Z
UID:10001343-1667635200-1667671200@baysoundings.com
SUMMARY:Evening For The Bay
DESCRIPTION:Have you ever wondered what makes our Blue Planet the only one in the solar system to sustain life? Explore the element of water\, and discover how the actions we take in our watershed have a ripple effect across the globe. \n\n\n\nGuests will enjoy dinner by Bonefish Grill\, signature Kozuba & Sons cocktails\, Great Bay Distributors brews\, live entertainment\, out-of-this-world auctions\, and meet n’ greets with TBW restoration staff. \nThis al fresco evening under the stars will benefit the mission to Restore the Bay Every Day.\n\n\n\n\n\n\nPurchase tickets
URL:https://baysoundings.com/event/22666/
LOCATION:FL
CATEGORIES:Charitable Events,Coastal & Wetlands,Cocktails & Socials,Dining,Fundraisers & Sales,Local Community
END:VEVENT
END:VCALENDAR