BEGIN:VCALENDAR
VERSION:2.0
PRODID:-//Bay Soundings - ECPv6.15.11//NONSGML v1.0//EN
CALSCALE:GREGORIAN
METHOD:PUBLISH
X-ORIGINAL-URL:https://baysoundings.com
X-WR-CALDESC:Events for Bay Soundings
REFRESH-INTERVAL;VALUE=DURATION:PT1H
X-Robots-Tag:noindex
X-PUBLISHED-TTL:PT1H
BEGIN:VTIMEZONE
TZID:America/New_York
BEGIN:DAYLIGHT
TZOFFSETFROM:-0500
TZOFFSETTO:-0400
TZNAME:EDT
DTSTART:20220313T070000
END:DAYLIGHT
BEGIN:STANDARD
TZOFFSETFROM:-0400
TZOFFSETTO:-0500
TZNAME:EST
DTSTART:20221106T060000
END:STANDARD
BEGIN:DAYLIGHT
TZOFFSETFROM:-0500
TZOFFSETTO:-0400
TZNAME:EDT
DTSTART:20230312T070000
END:DAYLIGHT
BEGIN:STANDARD
TZOFFSETFROM:-0400
TZOFFSETTO:-0500
TZNAME:EST
DTSTART:20231105T060000
END:STANDARD
BEGIN:DAYLIGHT
TZOFFSETFROM:-0500
TZOFFSETTO:-0400
TZNAME:EDT
DTSTART:20240310T070000
END:DAYLIGHT
BEGIN:STANDARD
TZOFFSETFROM:-0400
TZOFFSETTO:-0500
TZNAME:EST
DTSTART:20241103T060000
END:STANDARD
END:VTIMEZONE
BEGIN:VEVENT
DTSTART;TZID=America/New_York:20230119T090000
DTEND;TZID=America/New_York:20230119T110000
DTSTAMP:20260424T052221
CREATED:20221220T222943Z
LAST-MODIFIED:20221220T222943Z
UID:10001258-1674118800-1674126000@baysoundings.com
SUMMARY:Wading Bird Walk
DESCRIPTION:Meet the wading birds of the Weedon Island Preserve on a guided walk of the trails. \n\n\nLearn the identifying marks and behaviors of the most common wading birds at Weedon Island Preserve during a guided walk of the trails. This walk will take place during a low tide so participants will have the best chance for viewing wildlife that forage on the exposed tidal flats! \nAttendees will meet inside the Cultural and Natural History Center for a short overview of the birds found at Weedon Island\, including tips on when and where different species are most likely to be seen\, before departing for the trails. Total walk distance will be ~1.5 miles. \nProceeds from this program go to the Friends of Weedon Island. The Friends support the Weedon Island Preserve through education\, preservation and protection of its habitats\, ecology\, and cultural history. Become a Friend today! \nSpots are limited on this hike so every individual attending must be registered. \n>>> REGISTER HERE <<<
URL:https://baysoundings.com/event/wading-bird-walk/
LOCATION:Weedon Island Preserve Cultural and Natural History Center\, 1800 Weedon Drive NE\, St. Petersburg\, FL\, United States
CATEGORIES:Beach Activities,Birds & Birding,Coastal & Wetlands,Marine Life,Native Flora & Fauna,Nature Tours & Hikes,Photography,Wildlife
GEO:27.850451;-82.6075539
X-APPLE-STRUCTURED-LOCATION;VALUE=URI;X-ADDRESS=Weedon Island Preserve Cultural and Natural History Center 1800 Weedon Drive NE St. Petersburg FL United States;X-APPLE-RADIUS=500;X-TITLE=1800 Weedon Drive NE:geo:-82.6075539,27.850451
END:VEVENT
BEGIN:VEVENT
DTSTART;TZID=America/New_York:20230119T090000
DTEND;TZID=America/New_York:20230119T120000
DTSTAMP:20260424T052221
CREATED:20221226T213330Z
LAST-MODIFIED:20221226T213330Z
UID:10000749-1674118800-1674129600@baysoundings.com
SUMMARY:Oyster Reef Ball Construction
DESCRIPTION:Join us at the Tampa Bay Watch Marine Education Center\, 3000 Pinellas Bayway South in Tierra Verde to help build oyster reef balls! \nThis task involves pouring marine-friendly concrete into a fiberglass mold to create oyster reef balls\, then taking apart the molds when dry. The reef balls will be installed at a future date to stabilize shorelines and prevent erosion while creating habitat similar to natural oyster communities found along shoreline areas throughout Tampa Bay.  \nClick here to visit our webpage to learn more about reef balls. \nClick here to register for this project date.
URL:https://baysoundings.com/event/oyster-reef-ball-construction-4/2023-01-19/
LOCATION:Tampa Bay Watch Marine & Education Center\, 3000 Pinellas Bayway South\, Tierra Verde\, FL\, 33715\, United States
CATEGORIES:Cleanups & Restorations,Coastal & Wetlands,Local Community,Marine Life,Volunteering
GEO:27.6549456;-82.7178585
X-APPLE-STRUCTURED-LOCATION;VALUE=URI;X-ADDRESS=Tampa Bay Watch Marine & Education Center 3000 Pinellas Bayway South Tierra Verde FL 33715 United States;X-APPLE-RADIUS=500;X-TITLE=3000 Pinellas Bayway South:geo:-82.7178585,27.6549456
END:VEVENT
END:VCALENDAR