BEGIN:VCALENDAR
VERSION:2.0
PRODID:-//Bay Soundings - ECPv6.15.11//NONSGML v1.0//EN
CALSCALE:GREGORIAN
METHOD:PUBLISH
X-ORIGINAL-URL:https://baysoundings.com
X-WR-CALDESC:Events for Bay Soundings
REFRESH-INTERVAL;VALUE=DURATION:PT1H
X-Robots-Tag:noindex
X-PUBLISHED-TTL:PT1H
BEGIN:VTIMEZONE
TZID:America/New_York
BEGIN:DAYLIGHT
TZOFFSETFROM:-0500
TZOFFSETTO:-0400
TZNAME:EDT
DTSTART:20220313T070000
END:DAYLIGHT
BEGIN:STANDARD
TZOFFSETFROM:-0400
TZOFFSETTO:-0500
TZNAME:EST
DTSTART:20221106T060000
END:STANDARD
BEGIN:DAYLIGHT
TZOFFSETFROM:-0500
TZOFFSETTO:-0400
TZNAME:EDT
DTSTART:20230312T070000
END:DAYLIGHT
BEGIN:STANDARD
TZOFFSETFROM:-0400
TZOFFSETTO:-0500
TZNAME:EST
DTSTART:20231105T060000
END:STANDARD
BEGIN:DAYLIGHT
TZOFFSETFROM:-0500
TZOFFSETTO:-0400
TZNAME:EDT
DTSTART:20240310T070000
END:DAYLIGHT
BEGIN:STANDARD
TZOFFSETFROM:-0400
TZOFFSETTO:-0500
TZNAME:EST
DTSTART:20241103T060000
END:STANDARD
END:VTIMEZONE
BEGIN:VEVENT
DTSTART;TZID=America/New_York:20230113T090000
DTEND;TZID=America/New_York:20230113T120000
DTSTAMP:20260424T084344
CREATED:20221226T213330Z
LAST-MODIFIED:20221226T213330Z
UID:10000747-1673600400-1673611200@baysoundings.com
SUMMARY:Oyster Reef Ball Construction
DESCRIPTION:Join us at the Tampa Bay Watch Marine Education Center\, 3000 Pinellas Bayway South in Tierra Verde to help build oyster reef balls! \nThis task involves pouring marine-friendly concrete into a fiberglass mold to create oyster reef balls\, then taking apart the molds when dry. The reef balls will be installed at a future date to stabilize shorelines and prevent erosion while creating habitat similar to natural oyster communities found along shoreline areas throughout Tampa Bay.  \nClick here to visit our webpage to learn more about reef balls. \nClick here to register for this project date.
URL:https://baysoundings.com/event/oyster-reef-ball-construction-4/2023-01-13/
LOCATION:Tampa Bay Watch Marine & Education Center\, 3000 Pinellas Bayway South\, Tierra Verde\, FL\, 33715\, United States
CATEGORIES:Cleanups & Restorations,Coastal & Wetlands,Local Community,Marine Life,Volunteering
GEO:27.6549456;-82.7178585
X-APPLE-STRUCTURED-LOCATION;VALUE=URI;X-ADDRESS=Tampa Bay Watch Marine & Education Center 3000 Pinellas Bayway South Tierra Verde FL 33715 United States;X-APPLE-RADIUS=500;X-TITLE=3000 Pinellas Bayway South:geo:-82.7178585,27.6549456
END:VEVENT
BEGIN:VEVENT
DTSTART;TZID=America/New_York:20230113T103000
DTEND;TZID=America/New_York:20230113T120000
DTSTAMP:20260424T084344
CREATED:20221230T193931Z
LAST-MODIFIED:20221230T194041Z
UID:10001261-1673605800-1673611200@baysoundings.com
SUMMARY:HEADS UP FOR HAWKS HIKE
DESCRIPTION:An introduction to the diurnal (daytime) birds of prey that soar\, swoop\, and glide through Florida’s skies. Learn about how expert watchers identify raptors by their shapes and flight behavior. As we discuss these fascinating predators\, we will also share a few success stories in the ongoing effort to conserve birds of prey. \n>>> REGISTER HERE <<<
URL:https://baysoundings.com/event/heads-up-for-hawks-hike/
LOCATION:Boyd Hill Nature Preserve Classroom\, 1101 COUNTRY CLUB WY S\, St. Petersburg\, FL\, 33705\, United States
CATEGORIES:Birds & Birding,Coastal & Wetlands,Native Flora & Fauna,Nature Tours & Hikes,Raptors,Wildlife
ORGANIZER;CN="Boyd Hill Nature Preserve":MAILTO:stpeteparksrec@stpete.org 
GEO:27.724764;-82.6502749
X-APPLE-STRUCTURED-LOCATION;VALUE=URI;X-ADDRESS=Boyd Hill Nature Preserve Classroom 1101 COUNTRY CLUB WY S St. Petersburg FL 33705 United States;X-APPLE-RADIUS=500;X-TITLE=1101 COUNTRY CLUB WY S:geo:-82.6502749,27.724764
END:VEVENT
END:VCALENDAR