BEGIN:VCALENDAR
VERSION:2.0
PRODID:-//Bay Soundings - ECPv6.15.11//NONSGML v1.0//EN
CALSCALE:GREGORIAN
METHOD:PUBLISH
X-ORIGINAL-URL:https://baysoundings.com
X-WR-CALDESC:Events for Bay Soundings
REFRESH-INTERVAL;VALUE=DURATION:PT1H
X-Robots-Tag:noindex
X-PUBLISHED-TTL:PT1H
BEGIN:VTIMEZONE
TZID:America/New_York
BEGIN:DAYLIGHT
TZOFFSETFROM:-0500
TZOFFSETTO:-0400
TZNAME:EDT
DTSTART:20210314T070000
END:DAYLIGHT
BEGIN:STANDARD
TZOFFSETFROM:-0400
TZOFFSETTO:-0500
TZNAME:EST
DTSTART:20211107T060000
END:STANDARD
BEGIN:DAYLIGHT
TZOFFSETFROM:-0500
TZOFFSETTO:-0400
TZNAME:EDT
DTSTART:20220313T070000
END:DAYLIGHT
BEGIN:STANDARD
TZOFFSETFROM:-0400
TZOFFSETTO:-0500
TZNAME:EST
DTSTART:20221106T060000
END:STANDARD
BEGIN:DAYLIGHT
TZOFFSETFROM:-0500
TZOFFSETTO:-0400
TZNAME:EDT
DTSTART:20230312T070000
END:DAYLIGHT
BEGIN:STANDARD
TZOFFSETFROM:-0400
TZOFFSETTO:-0500
TZNAME:EST
DTSTART:20231105T060000
END:STANDARD
END:VTIMEZONE
BEGIN:VEVENT
DTSTART;TZID=America/New_York:20221215T090000
DTEND;TZID=America/New_York:20221215T120000
DTSTAMP:20260423T143717
CREATED:20221122T214934Z
LAST-MODIFIED:20221122T214934Z
UID:10001950-1671094800-1671105600@baysoundings.com
SUMMARY:Oyster shell project at Lassing Park
DESCRIPTION:We will be installing an oyster shell bar which involves shoveling fossilized shell into mesh bags and transporting the bags to lay on the shoreline. This effort will help restore lost habitat by promoting new oyster growth\, ultimately improving water quality and providing food sources and habitat for many species.  \nTo learn more and watch a video of the process\, visit https://tampabaywatch.org/restoration/oyster-communities/oyster-shell-bags/. \n\nClick here to register for this project.
URL:https://baysoundings.com/event/oyster-shell-project-at-lassing-park-2/2022-12-15/
LOCATION:Lassing Park\, 2042 Beach Dr SE\, St. Petersburg\, FL\, 33705\, United States
CATEGORIES:Cleanups & Restorations,Coastal & Wetlands,Local Community,Marine Life,Volunteering
END:VEVENT
END:VCALENDAR