BEGIN:VCALENDAR
VERSION:2.0
PRODID:-//Bay Soundings - ECPv6.15.11//NONSGML v1.0//EN
CALSCALE:GREGORIAN
METHOD:PUBLISH
X-ORIGINAL-URL:https://baysoundings.com
X-WR-CALDESC:Events for Bay Soundings
REFRESH-INTERVAL;VALUE=DURATION:PT1H
X-Robots-Tag:noindex
X-PUBLISHED-TTL:PT1H
BEGIN:VTIMEZONE
TZID:America/New_York
BEGIN:DAYLIGHT
TZOFFSETFROM:-0500
TZOFFSETTO:-0400
TZNAME:EDT
DTSTART:20210314T070000
END:DAYLIGHT
BEGIN:STANDARD
TZOFFSETFROM:-0400
TZOFFSETTO:-0500
TZNAME:EST
DTSTART:20211107T060000
END:STANDARD
BEGIN:DAYLIGHT
TZOFFSETFROM:-0500
TZOFFSETTO:-0400
TZNAME:EDT
DTSTART:20220313T070000
END:DAYLIGHT
BEGIN:STANDARD
TZOFFSETFROM:-0400
TZOFFSETTO:-0500
TZNAME:EST
DTSTART:20221106T060000
END:STANDARD
BEGIN:DAYLIGHT
TZOFFSETFROM:-0500
TZOFFSETTO:-0400
TZNAME:EDT
DTSTART:20230312T070000
END:DAYLIGHT
BEGIN:STANDARD
TZOFFSETFROM:-0400
TZOFFSETTO:-0500
TZNAME:EST
DTSTART:20231105T060000
END:STANDARD
END:VTIMEZONE
BEGIN:VEVENT
DTSTART;TZID=America/New_York:20221112T090000
DTEND;TZID=America/New_York:20221112T110000
DTSTAMP:20260423T133145
CREATED:20221015T225229Z
LAST-MODIFIED:20221226T203535Z
UID:10001305-1668243600-1668250800@baysoundings.com
SUMMARY:DeSoto/Riverview Pointe Preserve Tour
DESCRIPTION:Join the Manatee County Extension Master Gardener Volunteers on an educational stroll. \n\n\n\n\n\nCasually stroll through the beautiful Riverview Pointe Preserve and learn about Florida’s native plants and inhabitants of a coastal environment. \nSuitable for all ages. \nTour begins in the parking area of DeSoto National Memorial Park and enters into Riverview Pointe Preserve. \n>>> REGISTER HERE <<< \nPlease email special accommodation requests to katiebg@ufl.edu at least 10 days prior to the event.
URL:https://baysoundings.com/event/desoto-riverview-pointe-preserve-tour-2/2022-11-12/
LOCATION:Riverview Pointe Preserve\, Bradenton\, FL\, United States
CATEGORIES:Coastal & Wetlands,Native Flora & Fauna,Nature Tours & Hikes
GEO:27.4989278;-82.5748194
END:VEVENT
END:VCALENDAR