BEGIN:VCALENDAR
VERSION:2.0
PRODID:-//Bay Soundings - ECPv6.15.11//NONSGML v1.0//EN
CALSCALE:GREGORIAN
METHOD:PUBLISH
X-ORIGINAL-URL:https://baysoundings.com
X-WR-CALDESC:Events for Bay Soundings
REFRESH-INTERVAL;VALUE=DURATION:PT1H
X-Robots-Tag:noindex
X-PUBLISHED-TTL:PT1H
BEGIN:VTIMEZONE
TZID:America/New_York
BEGIN:DAYLIGHT
TZOFFSETFROM:-0500
TZOFFSETTO:-0400
TZNAME:EDT
DTSTART:20210314T070000
END:DAYLIGHT
BEGIN:STANDARD
TZOFFSETFROM:-0400
TZOFFSETTO:-0500
TZNAME:EST
DTSTART:20211107T060000
END:STANDARD
BEGIN:DAYLIGHT
TZOFFSETFROM:-0500
TZOFFSETTO:-0400
TZNAME:EDT
DTSTART:20220313T070000
END:DAYLIGHT
BEGIN:STANDARD
TZOFFSETFROM:-0400
TZOFFSETTO:-0500
TZNAME:EST
DTSTART:20221106T060000
END:STANDARD
BEGIN:DAYLIGHT
TZOFFSETFROM:-0500
TZOFFSETTO:-0400
TZNAME:EDT
DTSTART:20230312T070000
END:DAYLIGHT
BEGIN:STANDARD
TZOFFSETFROM:-0400
TZOFFSETTO:-0500
TZNAME:EST
DTSTART:20231105T060000
END:STANDARD
END:VTIMEZONE
BEGIN:VEVENT
DTSTART;TZID=America/New_York:20221029T060000
DTEND;TZID=America/New_York:20221029T073000
DTSTAMP:20260423T041552
CREATED:20220826T205122Z
LAST-MODIFIED:20221015T194932Z
UID:10001805-1667023200-1667028600@baysoundings.com
SUMMARY:Songbird Sunrise
DESCRIPTION:Bring your coffee and favorite folding chair to join a quiet sunrise listening experience! \n\n\n\n\n\nThe event begins in total darkness to allow participants to hear the nighttime calls of nocturnal birds. As the sky lightens with the sun’s ascent\, daytime birds begin their vocal greeting. Birds will be identified by their songs and calls by knowledgeable Preserve volunteer staff. This event encourages silence for optimal enjoyment of the natural environment. \nPlease arrive no later than what is listed below: \n5:30 am start (arrive by 5:15\, gate closes at 5:30) \nThe entrance gate will be closed after this time until the normal opening time of 7:00 am. Free. Open to the public. \n>>> REGISTER HERE <<<
URL:https://baysoundings.com/event/songbird-sunrise-2/2022-10-29/
LOCATION:Brooker Creek Environmental Education Center\, 3940 Keystone Road\, Tarpon Springs\, FL\, 34688\, United States
CATEGORIES:Birds & Birding,Coastal & Wetlands,Native Flora & Fauna,Nature Tours & Hikes
GEO:28.136639;-82.656421
X-APPLE-STRUCTURED-LOCATION;VALUE=URI;X-ADDRESS=Brooker Creek Environmental Education Center 3940 Keystone Road Tarpon Springs FL 34688 United States;X-APPLE-RADIUS=500;X-TITLE=3940 Keystone Road:geo:-82.656421,28.136639
END:VEVENT
END:VCALENDAR