BEGIN:VCALENDAR
VERSION:2.0
PRODID:-//Bay Soundings - ECPv6.15.11//NONSGML v1.0//EN
CALSCALE:GREGORIAN
METHOD:PUBLISH
X-ORIGINAL-URL:https://baysoundings.com
X-WR-CALDESC:Events for Bay Soundings
REFRESH-INTERVAL;VALUE=DURATION:PT1H
X-Robots-Tag:noindex
X-PUBLISHED-TTL:PT1H
BEGIN:VTIMEZONE
TZID:America/New_York
BEGIN:DAYLIGHT
TZOFFSETFROM:-0500
TZOFFSETTO:-0400
TZNAME:EDT
DTSTART:20210314T070000
END:DAYLIGHT
BEGIN:STANDARD
TZOFFSETFROM:-0400
TZOFFSETTO:-0500
TZNAME:EST
DTSTART:20211107T060000
END:STANDARD
BEGIN:DAYLIGHT
TZOFFSETFROM:-0500
TZOFFSETTO:-0400
TZNAME:EDT
DTSTART:20220313T070000
END:DAYLIGHT
BEGIN:STANDARD
TZOFFSETFROM:-0400
TZOFFSETTO:-0500
TZNAME:EST
DTSTART:20221106T060000
END:STANDARD
BEGIN:DAYLIGHT
TZOFFSETFROM:-0500
TZOFFSETTO:-0400
TZNAME:EDT
DTSTART:20230312T070000
END:DAYLIGHT
BEGIN:STANDARD
TZOFFSETFROM:-0400
TZOFFSETTO:-0500
TZNAME:EST
DTSTART:20231105T060000
END:STANDARD
END:VTIMEZONE
BEGIN:VEVENT
DTSTART;TZID=America/New_York:20221015T070000
DTEND;TZID=America/New_York:20221015T190000
DTSTAMP:20260423T030026
CREATED:20220923T182237Z
LAST-MODIFIED:20220923T182237Z
UID:10000674-1665817200-1665860400@baysoundings.com
SUMMARY:29th Annual Fishing Line Island Cleanup
DESCRIPTION:Join Tampa Bay Watch and Audubon Florida for the 29th Annual Fishing Line Island Cleanup. \nThe goal is to remove hazardous monofilament line from mangrove shorelines. Monofilament or “mono\,” is a fancy word for the commonly used plastic fishing line. It has great fishing utility\, but can take over 600 years to break down and poses serious threats to birds and other wildlife. Improperly discarded mono and fishing gear leads to wildlife entanglement\, accidental hooks\, and ingestion. \nThis will be a self-led event\, where participants will travel out to their designated location by personal boat/other watercraft any day between October 15-23 to target shorelines where cast line has been caught in the tree line. Volunteers will compile the recovered monofilament\, to be collected\, cleaned\, and recycled. \nThere are a variety of sites in which to participate—all critical bird nesting habitat—throughout Pinellas\, Hillsborough\, and Manatee. \n\nClick here to register to volunteer for this event.
URL:https://baysoundings.com/event/29th-annual-fishing-line-island-cleanup/2022-10-15/
LOCATION:FL
CATEGORIES:Adult Level,Cleanups & Restorations,Coastal & Wetlands,Conservation & Ecology,Fishing & Hunting,Local Community,Marine Life,Maritime Topics,Volunteering,Water Sports
END:VEVENT
BEGIN:VEVENT
DTSTART;TZID=America/New_York:20221015T080000
DTEND;TZID=America/New_York:20221015T113000
DTSTAMP:20260423T030027
CREATED:20220920T234356Z
LAST-MODIFIED:20220920T234356Z
UID:10001853-1665820800-1665833400@baysoundings.com
SUMMARY:Return the Preserve Work Day
DESCRIPTION:The Preserve Work Days are hosted by the Friends of Brooker Creek Preserve! \n\n\n\n\n\nThe Return The Preserve Work Days focus on areas of the preserve where exotic invasive vegetation and unnatural overgrowth exists.  It is our goal to help return the preserve to its natural beauty. \nWorking with FOBCP leadership and Preserve staff\, volunteers provide the much needed hands-on support necessary to remove nuisance plants providing a more healthy environment for native wildlife. \nRegistration is required. This event is capped at 25 volunteers. In addition\, the Volunteer Form must be completed and brought with you the day of the event. \n>>> REGISTER HERE <<< \nThis Work Day will be focusing on the Friends Trail located at the end of Lora Lane. Lora Lane is located a 1/2 mile west of the main Brooker Entrance off of Keystone. You travel one mile on Lora Lane until the road ends\, and park. Registered participants will meet at 7:45\, start at 8:00\, and work until 11:00. \nImportant notes: There are no facilities or restrooms at this site. \nPlease bring clippers\, loppers\, hand saws\, gloves\, hat\, and sunscreen. Long sleeve shirts and long pants are recommended; closed shoes are required. \nFor more information or questions\, please contact the project leader: Evan Earle at eearlejr@gmail.com
URL:https://baysoundings.com/event/return-the-preserve-work-day-6/
LOCATION:The Friends Trail\, 3620 Fletch Haven Drive\, Tarpon Springs\, FL\, 34688\, United States
CATEGORIES:Adult Level,Cleanups & Restorations,Coastal & Wetlands,Volunteering
ORGANIZER;CN="Friends of Brooker Creek Preserve":MAILTO:info@friendsofbrookercreekpreserve.org
END:VEVENT
BEGIN:VEVENT
DTSTART;TZID=America/New_York:20221015T090000
DTEND;TZID=America/New_York:20221015T110000
DTSTAMP:20260423T030027
CREATED:20220307T222447Z
LAST-MODIFIED:20220307T222447Z
UID:10001666-1665824400-1665831600@baysoundings.com
SUMMARY:Rye Preserve Tour
DESCRIPTION:Join the Manatee County Extension Master Gardener Volunteers on an educational stroll.\n\n\n\n\n\n\n\nTake a hike through upland habitats along the beautiful Rye Branch and learn about Florida’s native plants\, natural history\, and early settlement of the area. \nSuitable for all ages. \nPlease email special accommodation requests to katiebg@ufl.edu at least 10 days prior to the event. \nRegister HERE!
URL:https://baysoundings.com/event/rye-preserve-tour-2/2022-10-15/
LOCATION:Rye Preserve\, 905 Rye Wilderness Trail\, Parrish\, FL\, 34219\, United States
CATEGORIES:Coastal & Wetlands,Native Flora & Fauna,Nature Tours & Hikes
GEO:27.513373;-82.364587
X-APPLE-STRUCTURED-LOCATION;VALUE=URI;X-ADDRESS=Rye Preserve 905 Rye Wilderness Trail Parrish FL 34219 United States;X-APPLE-RADIUS=500;X-TITLE=905 Rye Wilderness Trail:geo:-82.364587,27.513373
END:VEVENT
BEGIN:VEVENT
DTSTART;TZID=America/New_York:20221015T090000
DTEND;TZID=America/New_York:20221015T110000
DTSTAMP:20260423T030027
CREATED:20220921T203739Z
LAST-MODIFIED:20221121T210222Z
UID:10001861-1665824400-1665831600@baysoundings.com
SUMMARY:Weedon Walkabout
DESCRIPTION:Join us for a guided tour of the trails and boardwalks of the Weedon Island Preserve. \n\n\n\n\n\nThis docent-led walk will visit the mangrove and upland ecosystems of the Weedon Island Preserve\, including a visit to the Preserve’s 45 ft. tall Observation Tower for a 360 degree view of the area. Learn about the coastal environment\, native wildlife\, and early history of the Preserve. This tour is recommended for adults and youth ages 6 and up. \nProceeds from this program go to the Friends of Weedon Island. The Friends support the Weedon Island Preserve through education\, preservation and protection of its habitats\, ecology\, and cultural history. Become a Friend today! \n>>> REGISTER HERE <<<
URL:https://baysoundings.com/event/weedon-walkabout-5/2022-10-15/
LOCATION:Weedon Island Preserve Cultural and Natural History Center\, 1800 Weedon Drive NE\, St. Petersburg\, FL\, United States
CATEGORIES:Coastal & Wetlands,Native Flora & Fauna,Nature Tours & Hikes
GEO:27.850451;-82.6075539
X-APPLE-STRUCTURED-LOCATION;VALUE=URI;X-ADDRESS=Weedon Island Preserve Cultural and Natural History Center 1800 Weedon Drive NE St. Petersburg FL United States;X-APPLE-RADIUS=500;X-TITLE=1800 Weedon Drive NE:geo:-82.6075539,27.850451
END:VEVENT
BEGIN:VEVENT
DTSTART;TZID=America/New_York:20221015T100000
DTEND;TZID=America/New_York:20221015T140000
DTSTAMP:20260423T030027
CREATED:20220921T214649Z
LAST-MODIFIED:20220921T214649Z
UID:10001875-1665828000-1665842400@baysoundings.com
SUMMARY:Archaeology Day at Weedon Island
DESCRIPTION:Celebrate International Archaeology Day at the Weedon Island Preserve! \n\n\n\n\n\nExamine ancient artifacts and discover the rich history of Tampa Bay at our celebration of International Archaeology Day at the Weedon Island Preserve! \nThe Alliance for Weedon Island Archaeological Research and Education (AWIARE) and the Central Florida Gulf Coast Archaeological Society (CGCAS) will be on-site with a diverse showcase of pre-Columbian artifacts from the Tampa Bay region and archaeological experts will be on-hand to illustrate the use of these tools and their importance to native populations. \nLocal fossil collectors are encouraged to bring in artifacts such as arrow heads\, lithics\, and pottery sherds for identification during Archaeology Day. No dollar value will be assigned or discussed\, but educational information will be generously shared. \nExplore the artifacts and talk with the archaeologists at your leisure anytime between 10am to 2pm. Also\, check out the 1\,100 year old dugout canoe on display in the Center and visit our free museum exhibit “Connecting People and Place” that tells the story of Weedon Island and its earliest inhabitants. \nThis event is suitable for all ages. The Center and its museum exhibits are open from 9am to 4pm. \n>>> REGISTER HERE <<<
URL:https://baysoundings.com/event/archaeology-day-at-weedon-island-3/
LOCATION:Weedon Island Preserve Cultural and Natural History Center\, 1800 Weedon Drive NE\, St. Petersburg\, FL\, United States
CATEGORIES:Archaeology,Coastal & Wetlands,Exhibits,Geology & Geography,History & Culture,Homeschool,Kids & Families,Lectures & Seminars,Local Community,Native Flora & Fauna,Youth Programs
GEO:27.850451;-82.6075539
X-APPLE-STRUCTURED-LOCATION;VALUE=URI;X-ADDRESS=Weedon Island Preserve Cultural and Natural History Center 1800 Weedon Drive NE St. Petersburg FL United States;X-APPLE-RADIUS=500;X-TITLE=1800 Weedon Drive NE:geo:-82.6075539,27.850451
END:VEVENT
END:VCALENDAR