BEGIN:VCALENDAR
VERSION:2.0
PRODID:-//Bay Soundings - ECPv6.15.11//NONSGML v1.0//EN
CALSCALE:GREGORIAN
METHOD:PUBLISH
X-ORIGINAL-URL:https://baysoundings.com
X-WR-CALDESC:Events for Bay Soundings
REFRESH-INTERVAL;VALUE=DURATION:PT1H
X-Robots-Tag:noindex
X-PUBLISHED-TTL:PT1H
BEGIN:VTIMEZONE
TZID:America/New_York
BEGIN:DAYLIGHT
TZOFFSETFROM:-0500
TZOFFSETTO:-0400
TZNAME:EDT
DTSTART:20210314T070000
END:DAYLIGHT
BEGIN:STANDARD
TZOFFSETFROM:-0400
TZOFFSETTO:-0500
TZNAME:EST
DTSTART:20211107T060000
END:STANDARD
BEGIN:DAYLIGHT
TZOFFSETFROM:-0500
TZOFFSETTO:-0400
TZNAME:EDT
DTSTART:20220313T070000
END:DAYLIGHT
BEGIN:STANDARD
TZOFFSETFROM:-0400
TZOFFSETTO:-0500
TZNAME:EST
DTSTART:20221106T060000
END:STANDARD
BEGIN:DAYLIGHT
TZOFFSETFROM:-0500
TZOFFSETTO:-0400
TZNAME:EDT
DTSTART:20230312T070000
END:DAYLIGHT
BEGIN:STANDARD
TZOFFSETFROM:-0400
TZOFFSETTO:-0500
TZNAME:EST
DTSTART:20231105T060000
END:STANDARD
END:VTIMEZONE
BEGIN:VEVENT
DTSTART;TZID=America/New_York:20221001T080000
DTEND;TZID=America/New_York:20221001T100000
DTSTAMP:20260423T055613
CREATED:20220921T223715Z
LAST-MODIFIED:20220921T223715Z
UID:10001877-1664611200-1664618400@baysoundings.com
SUMMARY:Clearwater Audubon Society Bird Walk
DESCRIPTION:Take a guided hike on Moccasin Lake’s nature trail while seeking birds by sight and sound. Bring binoculars and field guides if you have them. Meet in Moccasin Lake Parking Lot. \n>>> REGISTER HERE <<<
URL:https://baysoundings.com/event/clearwater-audubon-society-bird-walk-2/2022-10-01/
LOCATION:Moccasin Lake Environmental Education Center\, 2750 Park Trail Lane\, Clearwater\, FL\, United States
CATEGORIES:Birds & Birding,Coastal & Wetlands,Marine Life,Native Flora & Fauna,Nature Tours & Hikes,Photography,Raptors,Wildlife
GEO:27.977104;-82.724462
X-APPLE-STRUCTURED-LOCATION;VALUE=URI;X-ADDRESS=Moccasin Lake Environmental Education Center 2750 Park Trail Lane Clearwater FL United States;X-APPLE-RADIUS=500;X-TITLE=2750 Park Trail Lane:geo:-82.724462,27.977104
END:VEVENT
BEGIN:VEVENT
DTSTART;TZID=America/New_York:20221001T090000
DTEND;TZID=America/New_York:20221001T110000
DTSTAMP:20260423T055613
CREATED:20220921T203739Z
LAST-MODIFIED:20221121T210222Z
UID:10001860-1664614800-1664622000@baysoundings.com
SUMMARY:Weedon Walkabout
DESCRIPTION:Join us for a guided tour of the trails and boardwalks of the Weedon Island Preserve. \n\n\n\n\n\nThis docent-led walk will visit the mangrove and upland ecosystems of the Weedon Island Preserve\, including a visit to the Preserve’s 45 ft. tall Observation Tower for a 360 degree view of the area. Learn about the coastal environment\, native wildlife\, and early history of the Preserve. This tour is recommended for adults and youth ages 6 and up. \nProceeds from this program go to the Friends of Weedon Island. The Friends support the Weedon Island Preserve through education\, preservation and protection of its habitats\, ecology\, and cultural history. Become a Friend today! \n>>> REGISTER HERE <<<
URL:https://baysoundings.com/event/weedon-walkabout-5/2022-10-01/
LOCATION:Weedon Island Preserve Cultural and Natural History Center\, 1800 Weedon Drive NE\, St. Petersburg\, FL\, United States
CATEGORIES:Coastal & Wetlands,Native Flora & Fauna,Nature Tours & Hikes
GEO:27.850451;-82.6075539
X-APPLE-STRUCTURED-LOCATION;VALUE=URI;X-ADDRESS=Weedon Island Preserve Cultural and Natural History Center 1800 Weedon Drive NE St. Petersburg FL United States;X-APPLE-RADIUS=500;X-TITLE=1800 Weedon Drive NE:geo:-82.6075539,27.850451
END:VEVENT
BEGIN:VEVENT
DTSTART;TZID=America/New_York:20221001T110000
DTEND;TZID=America/New_York:20221001T120000
DTSTAMP:20260423T055613
CREATED:20220923T200321Z
LAST-MODIFIED:20220923T200441Z
UID:10000666-1664622000-1664625600@baysoundings.com
SUMMARY:Bachman Sparrow Project
DESCRIPTION:Presented by Anya Wojkowiak and Amythist Michalski\nOur two CLI students discuss their findings on Bachman’s Sparrows in relationship to prescribed burns in Starkey Park. \nContact president@westpascoaudubon.com
URL:https://baysoundings.com/event/bachman-sparrow-project/
LOCATION:J. B. Starkey Wilderness Park Education Center\, 10500 Wilderness Road\, New Port Richey\, FL\, 34655\, United States
CATEGORIES:Birds & Birding,Clubs,Coastal & Wetlands,Lectures & Seminars,Local Community,Native Flora & Fauna,Organizational Meetings,Raptors
END:VEVENT
END:VCALENDAR