BEGIN:VCALENDAR
VERSION:2.0
PRODID:-//Bay Soundings - ECPv6.15.11//NONSGML v1.0//EN
CALSCALE:GREGORIAN
METHOD:PUBLISH
X-ORIGINAL-URL:https://baysoundings.com
X-WR-CALDESC:Events for Bay Soundings
REFRESH-INTERVAL;VALUE=DURATION:PT1H
X-Robots-Tag:noindex
X-PUBLISHED-TTL:PT1H
BEGIN:VTIMEZONE
TZID:America/New_York
BEGIN:DAYLIGHT
TZOFFSETFROM:-0500
TZOFFSETTO:-0400
TZNAME:EDT
DTSTART:20190310T070000
END:DAYLIGHT
BEGIN:STANDARD
TZOFFSETFROM:-0400
TZOFFSETTO:-0500
TZNAME:EST
DTSTART:20191103T060000
END:STANDARD
BEGIN:DAYLIGHT
TZOFFSETFROM:-0500
TZOFFSETTO:-0400
TZNAME:EDT
DTSTART:20200308T070000
END:DAYLIGHT
BEGIN:STANDARD
TZOFFSETFROM:-0400
TZOFFSETTO:-0500
TZNAME:EST
DTSTART:20201101T060000
END:STANDARD
BEGIN:DAYLIGHT
TZOFFSETFROM:-0500
TZOFFSETTO:-0400
TZNAME:EDT
DTSTART:20210314T070000
END:DAYLIGHT
BEGIN:STANDARD
TZOFFSETFROM:-0400
TZOFFSETTO:-0500
TZNAME:EST
DTSTART:20211107T060000
END:STANDARD
END:VTIMEZONE
BEGIN:VEVENT
DTSTART;TZID=America/New_York:20200916T100000
DTEND;TZID=America/New_York:20200916T110000
DTSTAMP:20260421T124853
CREATED:20200904T211018Z
LAST-MODIFIED:20200904T211055Z
UID:10000647-1600250400-1600254000@baysoundings.com
SUMMARY:ZOOM: Florida's Turtles
DESCRIPTION:“Florida’s Turtles”\n​Jeanne Murphy\, Senior Wildlife Biologist / Co-Founder\, Sensing Nature​ \n\n​​​Zoom video conference in the comfort of your own home!\nFree; Donations greatly appreciated\n\nLearn about Florida’s incredible turtle diversity\, some of their behaviors\, life histories\, and adaptations. Our majestic\, shelled animals traverse from salt to sandhill.  \nREGISTRATION: https://us02web.zoom.us/webinar/register/WN_-aquzXP3T42lk91kaw0tdQ
URL:https://baysoundings.com/event/zoom/
LOCATION:FL
CATEGORIES:Coastal & Wetlands,Native Flora & Fauna,Reptiles & Amphibians,WEBINARS & ONLINE CLASSES,Wildlife
END:VEVENT
BEGIN:VEVENT
DTSTART;TZID=America/New_York:20200916T140000
DTEND;TZID=America/New_York:20200916T150000
DTSTAMP:20260421T124853
CREATED:20200904T201240Z
LAST-MODIFIED:20200904T201240Z
UID:10001220-1600264800-1600268400@baysoundings.com
SUMMARY:ZOOM: Florida Supernature
DESCRIPTION:These classes take place online in a webinar room. Registered participants will receive the web link via email at the time of registration.  \nUpcoming Webinars & Topics\n\nSeptember 9 – At Home In A Cypress Dome\n\nCypress domes are small swamps dominated by cypress trees. They are often caused by old sinkholes that fill up with fresh water; the perfect habitat for cypress. In these special wetlands you will find plants and animals perfectly-suited for life with their “feet wet.” Join us and let’s see what we can discover! \n\nSeptember 16 – Channel X\, Re-taking a Man-made Waterway\n\nAlthough Brooker Creek Preserve exists more-or-less in its original state\, development all around has created the necessity to channel some of the flow to prevent flooding. We’ll explore a man-made channel\, and channel the energy of the plants and animals found there! \n\nSeptember 23 – On Brooker Pond\n\nCertain areas of Brooker Creek Preserve contain large ponds/small lakes. Let’s dive in and discover submerged\, emergent and floating plants\, and perhaps some wildlife at home there! \n\nSeptember 30 – A Flooded Forest\n\nIn this session\, we’ll stomp through the swamp and explore a flooded hardwood forest. The boardwalks around the Brooker Creek Preserve Environmental Education Center cut through a flooded forest dominated by tupelo and sweetbay trees. What will we find there? Tune in to find out. \nParticipants can register for one or more of the topics by clicking the titles(s) above.  \nRegistration is required. 
URL:https://baysoundings.com/event/zoom-florida-supernature/2020-09-16/
LOCATION:FL
CATEGORIES:Coastal & Wetlands,Geology & Geography,Local Community,Native Flora & Fauna,Wildlife
END:VEVENT
END:VCALENDAR