BEGIN:VCALENDAR
VERSION:2.0
PRODID:-//Bay Soundings - ECPv6.15.11//NONSGML v1.0//EN
CALSCALE:GREGORIAN
METHOD:PUBLISH
X-ORIGINAL-URL:https://baysoundings.com
X-WR-CALDESC:Events for Bay Soundings
REFRESH-INTERVAL;VALUE=DURATION:PT1H
X-Robots-Tag:noindex
X-PUBLISHED-TTL:PT1H
BEGIN:VTIMEZONE
TZID:America/New_York
BEGIN:DAYLIGHT
TZOFFSETFROM:-0500
TZOFFSETTO:-0400
TZNAME:EDT
DTSTART:20190310T070000
END:DAYLIGHT
BEGIN:STANDARD
TZOFFSETFROM:-0400
TZOFFSETTO:-0500
TZNAME:EST
DTSTART:20191103T060000
END:STANDARD
BEGIN:DAYLIGHT
TZOFFSETFROM:-0500
TZOFFSETTO:-0400
TZNAME:EDT
DTSTART:20200308T070000
END:DAYLIGHT
BEGIN:STANDARD
TZOFFSETFROM:-0400
TZOFFSETTO:-0500
TZNAME:EST
DTSTART:20201101T060000
END:STANDARD
BEGIN:DAYLIGHT
TZOFFSETFROM:-0500
TZOFFSETTO:-0400
TZNAME:EDT
DTSTART:20210314T070000
END:DAYLIGHT
BEGIN:STANDARD
TZOFFSETFROM:-0400
TZOFFSETTO:-0500
TZNAME:EST
DTSTART:20211107T060000
END:STANDARD
END:VTIMEZONE
BEGIN:VEVENT
DTSTART;TZID=America/New_York:20200307T090000
DTEND;TZID=America/New_York:20200307T103000
DTSTAMP:20260423T100558
CREATED:20200220T191552Z
LAST-MODIFIED:20200220T191552Z
UID:10000479-1583571600-1583577000@baysoundings.com
SUMMARY:Wetlands Explorers Tour
DESCRIPTION:Hike and learn as you explore the plants of Brooker with Wetlands Specialist\, Rose O’Donovan. Plants have a lot more to offer than you think when you take a closer look. The Preserve wetlands offer plenty of changes in the flora with the seasons\, so join us for this educational and entertaining guided tour as we discover “Winter” in Brooker Creek Preserve. Attendees will stay dry during this hike. \nRegistration:  https://www.eventbrite.com/e/wetlands-explorers-tour-tickets-89483689123
URL:https://baysoundings.com/event/wetlands-explorers-tour-4/
LOCATION:Brooker Creek Environmental Education Center\, 3940 Keystone Road\, Tarpon Springs\, FL\, 34688\, United States
CATEGORIES:Coastal & Wetlands,Native Flora & Fauna,Nature Tours & Hikes
GEO:28.136639;-82.656421
X-APPLE-STRUCTURED-LOCATION;VALUE=URI;X-ADDRESS=Brooker Creek Environmental Education Center 3940 Keystone Road Tarpon Springs FL 34688 United States;X-APPLE-RADIUS=500;X-TITLE=3940 Keystone Road:geo:-82.656421,28.136639
END:VEVENT
BEGIN:VEVENT
DTSTART;TZID=America/New_York:20200307T103000
DTEND;TZID=America/New_York:20200307T120000
DTSTAMP:20260423T100558
CREATED:20200220T193029Z
LAST-MODIFIED:20200220T193029Z
UID:10000536-1583577000-1583582400@baysoundings.com
SUMMARY:The Swamp Ecosystem
DESCRIPTION:Learn about one of Florida’s amazing and unique ecosystems: the swamp\, in a hands on and creative way! By pairing science with music and songwriting\, this fun\, family friendly program is designed to teach students all about Florida swamps\, give them the opportunity to meet a LIVE resident of the swamp\, and work together to create a song about what they learned! Family Friendly! \nPresented by Paige Konger of Paige’s Planet \nRegistration:  https://www.eventbrite.com/e/the-swamp-ecosystem-tickets-91178793225 \n 
URL:https://baysoundings.com/event/the-swamp-ecosystem-2/
LOCATION:Brooker Creek Environmental Education Center\, 3940 Keystone Road\, Tarpon Springs\, FL\, 34688\, United States
CATEGORIES:Coastal & Wetlands,Kids & Families,Native Flora & Fauna,Youth Programs
GEO:28.136639;-82.656421
X-APPLE-STRUCTURED-LOCATION;VALUE=URI;X-ADDRESS=Brooker Creek Environmental Education Center 3940 Keystone Road Tarpon Springs FL 34688 United States;X-APPLE-RADIUS=500;X-TITLE=3940 Keystone Road:geo:-82.656421,28.136639
END:VEVENT
END:VCALENDAR