BEGIN:VCALENDAR
VERSION:2.0
PRODID:-//Bay Soundings - ECPv6.15.11//NONSGML v1.0//EN
CALSCALE:GREGORIAN
METHOD:PUBLISH
X-ORIGINAL-URL:https://baysoundings.com
X-WR-CALDESC:Events for Bay Soundings
REFRESH-INTERVAL;VALUE=DURATION:PT1H
X-Robots-Tag:noindex
X-PUBLISHED-TTL:PT1H
BEGIN:VTIMEZONE
TZID:America/New_York
BEGIN:DAYLIGHT
TZOFFSETFROM:-0500
TZOFFSETTO:-0400
TZNAME:EDT
DTSTART:20210314T070000
END:DAYLIGHT
BEGIN:STANDARD
TZOFFSETFROM:-0400
TZOFFSETTO:-0500
TZNAME:EST
DTSTART:20211107T060000
END:STANDARD
BEGIN:DAYLIGHT
TZOFFSETFROM:-0500
TZOFFSETTO:-0400
TZNAME:EDT
DTSTART:20220313T070000
END:DAYLIGHT
BEGIN:STANDARD
TZOFFSETFROM:-0400
TZOFFSETTO:-0500
TZNAME:EST
DTSTART:20221106T060000
END:STANDARD
BEGIN:DAYLIGHT
TZOFFSETFROM:-0500
TZOFFSETTO:-0400
TZNAME:EDT
DTSTART:20230312T070000
END:DAYLIGHT
BEGIN:STANDARD
TZOFFSETFROM:-0400
TZOFFSETTO:-0500
TZNAME:EST
DTSTART:20231105T060000
END:STANDARD
END:VTIMEZONE
BEGIN:VEVENT
DTSTART;TZID=America/New_York:20220806T080000
DTEND;TZID=America/New_York:20220806T100000
DTSTAMP:20260422T092402
CREATED:20220425T194018Z
LAST-MODIFIED:20220726T204837Z
UID:10001726-1659772800-1659780000@baysoundings.com
SUMMARY:Weedon Walkabout
DESCRIPTION:Join us for a guided tour of the trails and boardwalks of the Weedon Island Preserve.\n\n\n\n\n\n\n\nThis docent-led walk will visit the mangrove and upland ecosystems of the Weedon Island Preserve\, including a visit to the Preserve’s 45 ft. tall Observation Tower for a 360 degree view of the area. Learn about the coastal environment\, native wildlife\, and early history of the Preserve. This tour is recommended for adults and youth ages 6 and up. \nProceeds from this program go to the Friends of Weedon Island. The Friends support the Weedon Island Preserve through education\, preservation and protection of its habitats\, ecology\, and cultural history. Become a Friend today! \n>>> REGISTER HERE <<<
URL:https://baysoundings.com/event/weedon-walkabout-4-2022-06-18/2022-08-06/
LOCATION:Weedon Island Preserve Cultural and Natural History Center\, 1800 Weedon Drive NE\, St. Petersburg\, FL\, United States
CATEGORIES:Coastal & Wetlands,Native Flora & Fauna,Nature Tours & Hikes,Wildlife
GEO:27.850451;-82.6075539
X-APPLE-STRUCTURED-LOCATION;VALUE=URI;X-ADDRESS=Weedon Island Preserve Cultural and Natural History Center 1800 Weedon Drive NE St. Petersburg FL United States;X-APPLE-RADIUS=500;X-TITLE=1800 Weedon Drive NE:geo:-82.6075539,27.850451
END:VEVENT
BEGIN:VEVENT
DTSTART;TZID=America/New_York:20220820T090000
DTEND;TZID=America/New_York:20220820T110000
DTSTAMP:20260422T092402
CREATED:20220307T222447Z
LAST-MODIFIED:20220307T222447Z
UID:10001664-1660986000-1660993200@baysoundings.com
SUMMARY:Rye Preserve Tour
DESCRIPTION:Join the Manatee County Extension Master Gardener Volunteers on an educational stroll.\n\n\n\n\n\n\n\nTake a hike through upland habitats along the beautiful Rye Branch and learn about Florida’s native plants\, natural history\, and early settlement of the area. \nSuitable for all ages. \nPlease email special accommodation requests to katiebg@ufl.edu at least 10 days prior to the event. \nRegister HERE!
URL:https://baysoundings.com/event/rye-preserve-tour-2/2022-08-20/
LOCATION:Rye Preserve\, 905 Rye Wilderness Trail\, Parrish\, FL\, 34219\, United States
CATEGORIES:Coastal & Wetlands,Native Flora & Fauna,Nature Tours & Hikes
GEO:27.513373;-82.364587
X-APPLE-STRUCTURED-LOCATION;VALUE=URI;X-ADDRESS=Rye Preserve 905 Rye Wilderness Trail Parrish FL 34219 United States;X-APPLE-RADIUS=500;X-TITLE=905 Rye Wilderness Trail:geo:-82.364587,27.513373
END:VEVENT
BEGIN:VEVENT
DTSTART;TZID=America/New_York:20220820T093000
DTEND;TZID=America/New_York:20220820T110000
DTSTAMP:20260422T092402
CREATED:20220727T183212Z
LAST-MODIFIED:20220727T183212Z
UID:10001766-1660987800-1660993200@baysoundings.com
SUMMARY:Forest Bathing Guided Walk
DESCRIPTION:Forest bathing is a guided walk designed to relax and rejuvenate. We’ll bathe our senses in the healing qualities of nature and share our experiences through conversation. We’ll leave refreshed by this contemplative practice that we can carry into our everyday routines. Please wear closed-toe shoes and comfortable clothing and bring a water bottle. \n>>> REGISTER HERE <<<
URL:https://baysoundings.com/event/forest-bathing-guided-walk/
LOCATION:Boyd Hill Nature Preserve Classroom\, 1101 COUNTRY CLUB WY S\, St. Petersburg\, FL\, 33705\, United States
CATEGORIES:Coastal & Wetlands,Health & Fitness,Home & Lifestyle,Local Community,Native Flora & Fauna,Nature Tours & Hikes
ORGANIZER;CN="Boyd Hill Nature Preserve":MAILTO:stpeteparksrec@stpete.org 
GEO:27.724764;-82.6502749
X-APPLE-STRUCTURED-LOCATION;VALUE=URI;X-ADDRESS=Boyd Hill Nature Preserve Classroom 1101 COUNTRY CLUB WY S St. Petersburg FL 33705 United States;X-APPLE-RADIUS=500;X-TITLE=1101 COUNTRY CLUB WY S:geo:-82.6502749,27.724764
END:VEVENT
BEGIN:VEVENT
DTSTART;TZID=America/New_York:20220826T100000
DTEND;TZID=America/New_York:20220826T120000
DTSTAMP:20260422T092402
CREATED:20220725T224624Z
LAST-MODIFIED:20220725T224624Z
UID:10001068-1661508000-1661515200@baysoundings.com
SUMMARY:Youth Program: Mosquito Mania
DESCRIPTION:Have a future entomologist on your hands? Kids ages 6-11 are invited to learn about the wonderful world of insects! \n\n\n\n\n\nWe will discuss what makes insects different from other animals\, what they need to live\, their life cycle\, and then apply what we learn to mosquitoes. After the presentation attendees can explore live aquatic insect stations and use microscopes to view them up close! \nThis youth program is geared toward ages 6 to 12. Registration is required and space is limited. Please register just your child (children). This is not a drop-off program. \n>>> REGISTER HERE <<< \nPresented by Kailey Travis\, Environmental Specialist III with Pinellas County \nAdditional Notes: This program will be held in our auditorium. It takes about 10 minutes to drive from the preserve entrance (Keystone Rd.) to the parking lot\, and there is a 2-5 minute walk from the parking lot to the auditorium. Follow signs to the auditorium. We will start promptly at 10am.
URL:https://baysoundings.com/event/youth-program-mosquito-mania-3/
LOCATION:Brooker Creek Environmental Education Center\, 3940 Keystone Road\, Tarpon Springs\, FL\, 34688\, United States
CATEGORIES:Agriculture & Botany,Coastal & Wetlands,Gardening & Landscaping,Homeschool,Insects,Invasive & Intrusive Species,Workshops & Classes,Youth Programs
GEO:28.136639;-82.656421
X-APPLE-STRUCTURED-LOCATION;VALUE=URI;X-ADDRESS=Brooker Creek Environmental Education Center 3940 Keystone Road Tarpon Springs FL 34688 United States;X-APPLE-RADIUS=500;X-TITLE=3940 Keystone Road:geo:-82.656421,28.136639
END:VEVENT
END:VCALENDAR