BEGIN:VCALENDAR
VERSION:2.0
PRODID:-//Bay Soundings - ECPv6.15.11//NONSGML v1.0//EN
CALSCALE:GREGORIAN
METHOD:PUBLISH
X-ORIGINAL-URL:https://baysoundings.com
X-WR-CALDESC:Events for Bay Soundings
REFRESH-INTERVAL;VALUE=DURATION:PT1H
X-Robots-Tag:noindex
X-PUBLISHED-TTL:PT1H
BEGIN:VTIMEZONE
TZID:America/New_York
BEGIN:DAYLIGHT
TZOFFSETFROM:-0500
TZOFFSETTO:-0400
TZNAME:EDT
DTSTART:20210314T070000
END:DAYLIGHT
BEGIN:STANDARD
TZOFFSETFROM:-0400
TZOFFSETTO:-0500
TZNAME:EST
DTSTART:20211107T060000
END:STANDARD
BEGIN:DAYLIGHT
TZOFFSETFROM:-0500
TZOFFSETTO:-0400
TZNAME:EDT
DTSTART:20220313T070000
END:DAYLIGHT
BEGIN:STANDARD
TZOFFSETFROM:-0400
TZOFFSETTO:-0500
TZNAME:EST
DTSTART:20221106T060000
END:STANDARD
BEGIN:DAYLIGHT
TZOFFSETFROM:-0500
TZOFFSETTO:-0400
TZNAME:EDT
DTSTART:20230312T070000
END:DAYLIGHT
BEGIN:STANDARD
TZOFFSETFROM:-0400
TZOFFSETTO:-0500
TZNAME:EST
DTSTART:20231105T060000
END:STANDARD
END:VTIMEZONE
BEGIN:VEVENT
DTSTART;TZID=America/New_York:20220702T080000
DTEND;TZID=America/New_York:20220702T100000
DTSTAMP:20260422T063704
CREATED:20220425T194018Z
LAST-MODIFIED:20220726T204837Z
UID:10001724-1656748800-1656756000@baysoundings.com
SUMMARY:Weedon Walkabout
DESCRIPTION:Join us for a guided tour of the trails and boardwalks of the Weedon Island Preserve.\n\n\n\n\n\n\n\nThis docent-led walk will visit the mangrove and upland ecosystems of the Weedon Island Preserve\, including a visit to the Preserve’s 45 ft. tall Observation Tower for a 360 degree view of the area. Learn about the coastal environment\, native wildlife\, and early history of the Preserve. This tour is recommended for adults and youth ages 6 and up. \nProceeds from this program go to the Friends of Weedon Island. The Friends support the Weedon Island Preserve through education\, preservation and protection of its habitats\, ecology\, and cultural history. Become a Friend today! \n>>> REGISTER HERE <<<
URL:https://baysoundings.com/event/weedon-walkabout-4-2022-06-18/2022-07-02/
LOCATION:Weedon Island Preserve Cultural and Natural History Center\, 1800 Weedon Drive NE\, St. Petersburg\, FL\, United States
CATEGORIES:Coastal & Wetlands,Native Flora & Fauna,Nature Tours & Hikes,Wildlife
GEO:27.850451;-82.6075539
X-APPLE-STRUCTURED-LOCATION;VALUE=URI;X-ADDRESS=Weedon Island Preserve Cultural and Natural History Center 1800 Weedon Drive NE St. Petersburg FL United States;X-APPLE-RADIUS=500;X-TITLE=1800 Weedon Drive NE:geo:-82.6075539,27.850451
END:VEVENT
BEGIN:VEVENT
DTSTART;TZID=America/New_York:20220704T100000
DTEND;TZID=America/New_York:20220704T170000
DTSTAMP:20260422T063704
CREATED:20220626T204537Z
LAST-MODIFIED:20220626T204537Z
UID:10000803-1656928800-1656954000@baysoundings.com
SUMMARY:Celebrate July 4th with us!
DESCRIPTION:Weather permitting\, our enthusiastic educators will be out on the pier\, July 4th\, with their teaching table at 11am\, 1pm\, and 3pm. To celebrate the day\, we are adding extra events throughout the day in addition to the teaching tabling times! \nThe Discovery Center will also be open for regular 10am – 5pm hours. Stop by the St. Pete Pier to enjoy learning about some of our favorite Tampa Bay estuary topics! From peering through our microscope to observe plankton pulled from under the Pier\, touch artifacts collected from the ocean\, or creating a craft; there’s a multitude of fun to celebrate the holiday\, with fireworks to end the day sponsored by the City of St. Petersburg.
URL:https://baysoundings.com/event/celebrate-july-4th-with-us/
LOCATION:Tampa Bay Watch Marine & Education Center\, 3000 Pinellas Bayway South\, Tierra Verde\, FL\, 33715\, United States
CATEGORIES:Coastal & Wetlands,Exhibits,Festivals & Fairs,Holiday Events,Kids & Families,Lectures & Seminars,Local Community,Marine Life,Maritime Topics,Native Flora & Fauna
GEO:27.6549456;-82.7178585
X-APPLE-STRUCTURED-LOCATION;VALUE=URI;X-ADDRESS=Tampa Bay Watch Marine & Education Center 3000 Pinellas Bayway South Tierra Verde FL 33715 United States;X-APPLE-RADIUS=500;X-TITLE=3000 Pinellas Bayway South:geo:-82.7178585,27.6549456
END:VEVENT
BEGIN:VEVENT
DTSTART;TZID=America/New_York:20220708T100000
DTEND;TZID=America/New_York:20220708T120000
DTSTAMP:20260422T063704
CREATED:20220525T204514Z
LAST-MODIFIED:20220525T210022Z
UID:10000388-1657274400-1657281600@baysoundings.com
SUMMARY:Turtle Bioartifacts
DESCRIPTION:Turtle Bioartifacts and What They Can Teach Us\n\n\n\n\nExamine turtle bioartifacts and learn about turtle biology and ecology.\n\n\n\n\n\n\n\nThis hands-on workshop will focus on turtle bioartifacts (natural history objects) commonly found during nature forays. Numerous specimens of shells and skulls will allow us to learn about turtle anatomy and explore their diversity. We will also examine a variety of eggs and dissect gopher tortoise scat. This workshop is recommended for ages 16+. \nThis workshop is part of “Turtle Science 101\,” a 3-part series of monthly programs led by George L. Heinrich. Heinrich is a field biologist and environmental educator specializing in Florida reptiles. \n\nJune 9\, 2022 at 2:00pm: Why Turtles Are Cool\nJuly 8\, 2022 at 10:00am: Turtle Bioartifacts and What They Can Teach Us\nAugust 26\, 2022 at 2:00pm: Turtle Eggs\, Nesting\, and Conservation Concerns\n\nThis program is sponsored by the Friends of Weedon Island. Our Friends support the Weedon Island Preserve through education\, preservation and protection of its habitats\, ecology\, and cultural history. Learn more about our Friends at https://friendsofweedonisland.org/. \n>>> REGISTER HERE <<< \n 
URL:https://baysoundings.com/event/turtle-bioartifacts/
LOCATION:Weedon Island Preserve Cultural and Natural History Center\, 1800 Weedon Drive NE\, St. Petersburg\, FL\, United States
CATEGORIES:Archaeology,Biology & Medicine,Coastal & Wetlands,Native Flora & Fauna,Reptiles & Amphibians,Wildlife,Workshops & Classes
GEO:27.850451;-82.6075539
X-APPLE-STRUCTURED-LOCATION;VALUE=URI;X-ADDRESS=Weedon Island Preserve Cultural and Natural History Center 1800 Weedon Drive NE St. Petersburg FL United States;X-APPLE-RADIUS=500;X-TITLE=1800 Weedon Drive NE:geo:-82.6075539,27.850451
END:VEVENT
BEGIN:VEVENT
DTSTART;TZID=America/New_York:20220709T090000
DTEND;TZID=America/New_York:20220709T120000
DTSTAMP:20260422T063704
CREATED:20220626T184419Z
LAST-MODIFIED:20220626T184419Z
UID:10001053-1657357200-1657368000@baysoundings.com
SUMMARY:Summer Cleanup
DESCRIPTION:Join us for our mid-summer community cleanups on Saturday\, July 9 from 9 am till Noon at Grandview Park\, Bartlett Park\, and Coquina Key Park in St. Petersburg.\n\nThis event is an effort to clean up after the Fourth of July celebrations.  A big thank-you to SeaWorld Conservation Fund for supporting us in our marine debris efforts and our partners with the City of St. Petersburg!\n\nOur cleanup efforts will focus along the shorelines\, so please wear shoes that you don’t mind getting dirty. Long sleeves and long pants are recommended. Bring a refillable water bottle to stay hydrated. Wear a hat\, sunscreen\, bug spray\, and bring garden gloves.\n\nRegister for your preferred site:\nGrandview Park  |  Bartlett Park  |  Coquina Key Park
URL:https://baysoundings.com/event/summer-cleanup/
LOCATION:FL
CATEGORIES:Cleanups & Restorations,Coastal & Wetlands,Local Community,Marine Life,Volunteering
END:VEVENT
BEGIN:VEVENT
DTSTART;TZID=America/New_York:20220716T080000
DTEND;TZID=America/New_York:20220716T100000
DTSTAMP:20260422T063705
CREATED:20220425T194018Z
LAST-MODIFIED:20220726T204837Z
UID:10001725-1657958400-1657965600@baysoundings.com
SUMMARY:Weedon Walkabout
DESCRIPTION:Join us for a guided tour of the trails and boardwalks of the Weedon Island Preserve.\n\n\n\n\n\n\n\nThis docent-led walk will visit the mangrove and upland ecosystems of the Weedon Island Preserve\, including a visit to the Preserve’s 45 ft. tall Observation Tower for a 360 degree view of the area. Learn about the coastal environment\, native wildlife\, and early history of the Preserve. This tour is recommended for adults and youth ages 6 and up. \nProceeds from this program go to the Friends of Weedon Island. The Friends support the Weedon Island Preserve through education\, preservation and protection of its habitats\, ecology\, and cultural history. Become a Friend today! \n>>> REGISTER HERE <<<
URL:https://baysoundings.com/event/weedon-walkabout-4-2022-06-18/2022-07-16/
LOCATION:Weedon Island Preserve Cultural and Natural History Center\, 1800 Weedon Drive NE\, St. Petersburg\, FL\, United States
CATEGORIES:Coastal & Wetlands,Native Flora & Fauna,Nature Tours & Hikes,Wildlife
GEO:27.850451;-82.6075539
X-APPLE-STRUCTURED-LOCATION;VALUE=URI;X-ADDRESS=Weedon Island Preserve Cultural and Natural History Center 1800 Weedon Drive NE St. Petersburg FL United States;X-APPLE-RADIUS=500;X-TITLE=1800 Weedon Drive NE:geo:-82.6075539,27.850451
END:VEVENT
BEGIN:VEVENT
DTSTART;TZID=America/New_York:20220716T090000
DTEND;TZID=America/New_York:20220716T110000
DTSTAMP:20260422T063705
CREATED:20220307T222447Z
LAST-MODIFIED:20220307T222447Z
UID:10001663-1657962000-1657969200@baysoundings.com
SUMMARY:Rye Preserve Tour
DESCRIPTION:Join the Manatee County Extension Master Gardener Volunteers on an educational stroll.\n\n\n\n\n\n\n\nTake a hike through upland habitats along the beautiful Rye Branch and learn about Florida’s native plants\, natural history\, and early settlement of the area. \nSuitable for all ages. \nPlease email special accommodation requests to katiebg@ufl.edu at least 10 days prior to the event. \nRegister HERE!
URL:https://baysoundings.com/event/rye-preserve-tour-2/2022-07-16/
LOCATION:Rye Preserve\, 905 Rye Wilderness Trail\, Parrish\, FL\, 34219\, United States
CATEGORIES:Coastal & Wetlands,Native Flora & Fauna,Nature Tours & Hikes
GEO:27.513373;-82.364587
X-APPLE-STRUCTURED-LOCATION;VALUE=URI;X-ADDRESS=Rye Preserve 905 Rye Wilderness Trail Parrish FL 34219 United States;X-APPLE-RADIUS=500;X-TITLE=905 Rye Wilderness Trail:geo:-82.364587,27.513373
END:VEVENT
END:VCALENDAR