BEGIN:VCALENDAR
VERSION:2.0
PRODID:-//Bay Soundings - ECPv6.15.11//NONSGML v1.0//EN
CALSCALE:GREGORIAN
METHOD:PUBLISH
X-ORIGINAL-URL:https://baysoundings.com
X-WR-CALDESC:Events for Bay Soundings
REFRESH-INTERVAL;VALUE=DURATION:PT1H
X-Robots-Tag:noindex
X-PUBLISHED-TTL:PT1H
BEGIN:VTIMEZONE
TZID:America/New_York
BEGIN:DAYLIGHT
TZOFFSETFROM:-0500
TZOFFSETTO:-0400
TZNAME:EDT
DTSTART:20210314T070000
END:DAYLIGHT
BEGIN:STANDARD
TZOFFSETFROM:-0400
TZOFFSETTO:-0500
TZNAME:EST
DTSTART:20211107T060000
END:STANDARD
BEGIN:DAYLIGHT
TZOFFSETFROM:-0500
TZOFFSETTO:-0400
TZNAME:EDT
DTSTART:20220313T070000
END:DAYLIGHT
BEGIN:STANDARD
TZOFFSETFROM:-0400
TZOFFSETTO:-0500
TZNAME:EST
DTSTART:20221106T060000
END:STANDARD
BEGIN:DAYLIGHT
TZOFFSETFROM:-0500
TZOFFSETTO:-0400
TZNAME:EDT
DTSTART:20230312T070000
END:DAYLIGHT
BEGIN:STANDARD
TZOFFSETFROM:-0400
TZOFFSETTO:-0500
TZNAME:EST
DTSTART:20231105T060000
END:STANDARD
END:VTIMEZONE
BEGIN:VEVENT
DTSTART;TZID=America/New_York:20220410T100000
DTEND;TZID=America/New_York:20220410T120000
DTSTAMP:20260421T195726
CREATED:20220403T215340Z
LAST-MODIFIED:20220403T215340Z
UID:10001695-1649584800-1649592000@baysoundings.com
SUMMARY:CLAM BAYOU PRESERVE ESTUARY WALK
DESCRIPTION:Join us for a guided tour of Clam Bayou Preserve. Learn about this local estuary and the plants and wildlife found in this unique environment. We will meet at the Nature Center and drive over to Clam Bayou as a group. \nWe recommend that you wear closed-toe shoes and bring a carrier or stroller for young children.
URL:https://baysoundings.com/event/clam-bayou-preserve-estuary-walk/
LOCATION:Moccasin Lake Environmental Education Center\, 2750 Park Trail Lane\, Clearwater\, FL\, United States
CATEGORIES:Coastal & Wetlands,Native Flora & Fauna,Nature Tours & Hikes
GEO:27.977104;-82.724462
X-APPLE-STRUCTURED-LOCATION;VALUE=URI;X-ADDRESS=Moccasin Lake Environmental Education Center 2750 Park Trail Lane Clearwater FL United States;X-APPLE-RADIUS=500;X-TITLE=2750 Park Trail Lane:geo:-82.724462,27.977104
END:VEVENT
BEGIN:VEVENT
DTSTART;TZID=America/New_York:20220416T090000
DTEND;TZID=America/New_York:20220416T110000
DTSTAMP:20260421T195726
CREATED:20220307T222447Z
LAST-MODIFIED:20220307T222447Z
UID:10001660-1650099600-1650106800@baysoundings.com
SUMMARY:Rye Preserve Tour
DESCRIPTION:Join the Manatee County Extension Master Gardener Volunteers on an educational stroll.\n\n\n\n\n\n\n\nTake a hike through upland habitats along the beautiful Rye Branch and learn about Florida’s native plants\, natural history\, and early settlement of the area. \nSuitable for all ages. \nPlease email special accommodation requests to katiebg@ufl.edu at least 10 days prior to the event. \nRegister HERE!
URL:https://baysoundings.com/event/rye-preserve-tour-2/2022-04-16/
LOCATION:Rye Preserve\, 905 Rye Wilderness Trail\, Parrish\, FL\, 34219\, United States
CATEGORIES:Coastal & Wetlands,Native Flora & Fauna,Nature Tours & Hikes
GEO:27.513373;-82.364587
X-APPLE-STRUCTURED-LOCATION;VALUE=URI;X-ADDRESS=Rye Preserve 905 Rye Wilderness Trail Parrish FL 34219 United States;X-APPLE-RADIUS=500;X-TITLE=905 Rye Wilderness Trail:geo:-82.364587,27.513373
END:VEVENT
BEGIN:VEVENT
DTSTART;TZID=America/New_York:20220416T100000
DTEND;TZID=America/New_York:20220416T120000
DTSTAMP:20260421T195726
CREATED:20220403T204442Z
LAST-MODIFIED:20220403T204442Z
UID:10000954-1650103200-1650110400@baysoundings.com
SUMMARY:Archaeology Hike
DESCRIPTION:Take a walk through the early history of Weedon Island to learn about the indigenous cultures that lived here long ago.\n\n\n\n\n\n\n\nLed by professional archaeologists with the Florida Public Archaeology Network\, hike to an active archaeological dig-site on Weeden Island. Attendees will learn about the early peoples that inhabited Weedon Island thousands of years ago\, and the ongoing work being done by researchers to better understand these ancient cultures and how they interacted with their environment. \nThis hike is recommended for adults and youth ages 12+. Participants should be prepared for a 2 mile hike on uneven terrain. \nProceeds will support the West Central chapter of the Florida Public Archaeology Network (FPAN)\, an organization that promotes and facilitates the stewardship\, public appreciation\, and value of Florida’s archaeological heritage through regional centers\, partnerships\, and community engagement. Learn about FPAN at https://flpublicarchaeology.org/regions/west-central/. \nREGISTER HERE
URL:https://baysoundings.com/event/archaeology-hike/
LOCATION:Weedon Island Preserve Cultural and Natural History Center\, 1800 Weedon Drive NE\, St. Petersburg\, FL\, United States
CATEGORIES:Archaeology,Coastal & Wetlands,Geology & Geography,History & Culture,Local Community,Native Flora & Fauna,Nature Tours & Hikes,Workshops & Classes
GEO:27.850451;-82.6075539
X-APPLE-STRUCTURED-LOCATION;VALUE=URI;X-ADDRESS=Weedon Island Preserve Cultural and Natural History Center 1800 Weedon Drive NE St. Petersburg FL United States;X-APPLE-RADIUS=500;X-TITLE=1800 Weedon Drive NE:geo:-82.6075539,27.850451
END:VEVENT
BEGIN:VEVENT
DTSTART;TZID=America/New_York:20220430T090000
DTEND;TZID=America/New_York:20220430T110000
DTSTAMP:20260421T195726
CREATED:20220403T205728Z
LAST-MODIFIED:20220403T205728Z
UID:10000956-1651309200-1651316400@baysoundings.com
SUMMARY:Spring Migration: Birds and Butterflies Hike
DESCRIPTION:Search for migratory birds and butterflies at the Weedon Island Preserve on a guided hike!\n\n\n\n\n\n\n\nDuring the spring\, many species of birds and butterflies begin their migrations from overwintering areas in South or Central America to their breeding grounds in more northerly latitudes. Florida is an ideal stopover point on these migration routes for species to rest and refuel before continuing their long journeys. In Pinellas County\, this time of year affords us the opportunity to see many species that aren’t found here year-round or very often at all. Join us for a guided hike led by Ron Smith\, an expert on Pinellas County’s bird and butterfly species\, to observe some of these migrants at the Weedon Island Preserve. \nThis hike is recommended for adults. \nProceeds from this hike go to the Friends of Weedon Island. The Friends support the Weedon Island Preserve through education\, preservation and protection of its habitats\, ecology\, and cultural history. Become a Friend today! \nREGISTER HERE
URL:https://baysoundings.com/event/spring-migration-birds-and-butterflies-hike/
LOCATION:Weedon Island Preserve Cultural and Natural History Center\, 1800 Weedon Drive NE\, St. Petersburg\, FL\, United States
CATEGORIES:Adult Level,Birds & Birding,Coastal & Wetlands,Native Flora & Fauna,Nature Tours & Hikes,Photography,Wildlife
GEO:27.850451;-82.6075539
X-APPLE-STRUCTURED-LOCATION;VALUE=URI;X-ADDRESS=Weedon Island Preserve Cultural and Natural History Center 1800 Weedon Drive NE St. Petersburg FL United States;X-APPLE-RADIUS=500;X-TITLE=1800 Weedon Drive NE:geo:-82.6075539,27.850451
END:VEVENT
END:VCALENDAR