BEGIN:VCALENDAR
VERSION:2.0
PRODID:-//Bay Soundings - ECPv6.15.11//NONSGML v1.0//EN
CALSCALE:GREGORIAN
METHOD:PUBLISH
X-ORIGINAL-URL:https://baysoundings.com
X-WR-CALDESC:Events for Bay Soundings
REFRESH-INTERVAL;VALUE=DURATION:PT1H
X-Robots-Tag:noindex
X-PUBLISHED-TTL:PT1H
BEGIN:VTIMEZONE
TZID:America/New_York
BEGIN:DAYLIGHT
TZOFFSETFROM:-0500
TZOFFSETTO:-0400
TZNAME:EDT
DTSTART:20210314T070000
END:DAYLIGHT
BEGIN:STANDARD
TZOFFSETFROM:-0400
TZOFFSETTO:-0500
TZNAME:EST
DTSTART:20211107T060000
END:STANDARD
BEGIN:DAYLIGHT
TZOFFSETFROM:-0500
TZOFFSETTO:-0400
TZNAME:EDT
DTSTART:20220313T070000
END:DAYLIGHT
BEGIN:STANDARD
TZOFFSETFROM:-0400
TZOFFSETTO:-0500
TZNAME:EST
DTSTART:20221106T060000
END:STANDARD
BEGIN:DAYLIGHT
TZOFFSETFROM:-0500
TZOFFSETTO:-0400
TZNAME:EDT
DTSTART:20230312T070000
END:DAYLIGHT
BEGIN:STANDARD
TZOFFSETFROM:-0400
TZOFFSETTO:-0500
TZNAME:EST
DTSTART:20231105T060000
END:STANDARD
END:VTIMEZONE
BEGIN:VEVENT
DTSTART;TZID=America/New_York:20220305T090000
DTEND;TZID=America/New_York:20220305T110000
DTSTAMP:20260421T164408
CREATED:20220118T223522Z
LAST-MODIFIED:20220118T223949Z
UID:10001594-1646470800-1646478000@baysoundings.com
SUMMARY:Weedon Walkabout
DESCRIPTION:Join us for a guided tour of the trails and boardwalks of the Weedon Island Preserve.\n\n\n\n\n\n\n\nThis docent-led walk will visit the mangrove and upland ecosystems of the Weedon Island Preserve\, including a visit to the Preserve’s 45 ft. tall Observation Tower for a 360 degree view of the area. Learn about the coastal environment\, native wildlife\, and early history of the Preserve. This program is recommended for adults and youth ages 6 and up. \nREGISTER HERE
URL:https://baysoundings.com/event/weedon-walkabout-3/2022-03-05/
LOCATION:Weedon Island Preserve Cultural and Natural History Center\, 1800 Weedon Drive NE\, St. Petersburg\, FL\, United States
CATEGORIES:Coastal & Wetlands,Native Flora & Fauna,Nature Tours & Hikes
GEO:27.850451;-82.6075539
X-APPLE-STRUCTURED-LOCATION;VALUE=URI;X-ADDRESS=Weedon Island Preserve Cultural and Natural History Center 1800 Weedon Drive NE St. Petersburg FL United States;X-APPLE-RADIUS=500;X-TITLE=1800 Weedon Drive NE:geo:-82.6075539,27.850451
END:VEVENT
BEGIN:VEVENT
DTSTART;TZID=America/New_York:20220311T100000
DTEND;TZID=America/New_York:20220311T110000
DTSTAMP:20260421T164408
CREATED:20220305T234307Z
LAST-MODIFIED:20220305T234307Z
UID:10000915-1646992800-1646996400@baysoundings.com
SUMMARY:Youth Water Program
DESCRIPTION:Let’s take a closer look at the water cycle!\n\n\n\n\n\n\n\nWater is essential for life\, but our water supply and water quality are constantly being impacted by human activities. Learn about the urban water cycle and watch a hands-on demonstration of water quality testing of Brooker Creek. Targeted for upper elementary and middle school aged youth. \nPresented by Lara Milligan\, Pinellas County Natural Resources Agent for UF/IFAS Extension. \nRegistration is required. Space is limited and this program will cap at 20 participants. Please register just your child (children). \nAdditional Notes: This program will be held outdoors. Check your confirmation email for specific details. It takes about 10 minutes to drive from the preserve entrance (Keystone Rd.) to the parking lot. We will start promptly at 10am. \nREGISTER HERE
URL:https://baysoundings.com/event/youth-water-program-2/
LOCATION:Brooker Creek Environmental Education Center\, 3940 Keystone Road\, Tarpon Springs\, FL\, 34688\, United States
CATEGORIES:Clean Water,Coastal & Wetlands,Conservation & Ecology,Homeschool,Local Community,Native Flora & Fauna,Workshops & Classes,Youth Programs
GEO:28.136639;-82.656421
X-APPLE-STRUCTURED-LOCATION;VALUE=URI;X-ADDRESS=Brooker Creek Environmental Education Center 3940 Keystone Road Tarpon Springs FL 34688 United States;X-APPLE-RADIUS=500;X-TITLE=3940 Keystone Road:geo:-82.656421,28.136639
END:VEVENT
BEGIN:VEVENT
DTSTART;TZID=America/New_York:20220312T083000
DTEND;TZID=America/New_York:20220312T103000
DTSTAMP:20260421T164408
CREATED:20220306T230420Z
LAST-MODIFIED:20220306T230420Z
UID:10001644-1647073800-1647081000@baysoundings.com
SUMMARY:Wading Bird Walk
DESCRIPTION:Meet the wading birds of the Weedon Island Preserve!\n\n\n\n\n\n\n\nLearn the identifying marks and behaviors of the most common wading birds at Weedon Island Preserve during a one to two mile guided walk of the trails. A brief classroom session before the walk will give visitors an overview of the birds found at Weedon Island\, including tips on when and where different species are most likely to be seen. \nProceeds from this program go to the Friends of Weedon Island. The Friends support the Weedon Island Preserve through education\, preservation and protection of its habitats\, ecology\, and cultural history. Become a Friend today! \nREGISTER HERE
URL:https://baysoundings.com/event/wading-bird-walk-4/
LOCATION:Weedon Island Preserve Cultural and Natural History Center\, 1800 Weedon Drive NE\, St. Petersburg\, FL\, United States
CATEGORIES:Birds & Birding,Coastal & Wetlands,Marine Life,Native Flora & Fauna,Nature Tours & Hikes,Photography,Wildlife
GEO:27.850451;-82.6075539
X-APPLE-STRUCTURED-LOCATION;VALUE=URI;X-ADDRESS=Weedon Island Preserve Cultural and Natural History Center 1800 Weedon Drive NE St. Petersburg FL United States;X-APPLE-RADIUS=500;X-TITLE=1800 Weedon Drive NE:geo:-82.6075539,27.850451
END:VEVENT
BEGIN:VEVENT
DTSTART;TZID=America/New_York:20220319T090000
DTEND;TZID=America/New_York:20220319T110000
DTSTAMP:20260421T164408
CREATED:20220118T223522Z
LAST-MODIFIED:20220118T223949Z
UID:10001595-1647680400-1647687600@baysoundings.com
SUMMARY:Weedon Walkabout
DESCRIPTION:Join us for a guided tour of the trails and boardwalks of the Weedon Island Preserve.\n\n\n\n\n\n\n\nThis docent-led walk will visit the mangrove and upland ecosystems of the Weedon Island Preserve\, including a visit to the Preserve’s 45 ft. tall Observation Tower for a 360 degree view of the area. Learn about the coastal environment\, native wildlife\, and early history of the Preserve. This program is recommended for adults and youth ages 6 and up. \nREGISTER HERE
URL:https://baysoundings.com/event/weedon-walkabout-3/2022-03-19/
LOCATION:Weedon Island Preserve Cultural and Natural History Center\, 1800 Weedon Drive NE\, St. Petersburg\, FL\, United States
CATEGORIES:Coastal & Wetlands,Native Flora & Fauna,Nature Tours & Hikes
GEO:27.850451;-82.6075539
X-APPLE-STRUCTURED-LOCATION;VALUE=URI;X-ADDRESS=Weedon Island Preserve Cultural and Natural History Center 1800 Weedon Drive NE St. Petersburg FL United States;X-APPLE-RADIUS=500;X-TITLE=1800 Weedon Drive NE:geo:-82.6075539,27.850451
END:VEVENT
BEGIN:VEVENT
DTSTART;TZID=America/New_York:20220319T090000
DTEND;TZID=America/New_York:20220319T110000
DTSTAMP:20260421T164408
CREATED:20220307T222447Z
LAST-MODIFIED:20220307T222447Z
UID:10001659-1647680400-1647687600@baysoundings.com
SUMMARY:Rye Preserve Tour
DESCRIPTION:Join the Manatee County Extension Master Gardener Volunteers on an educational stroll.\n\n\n\n\n\n\n\nTake a hike through upland habitats along the beautiful Rye Branch and learn about Florida’s native plants\, natural history\, and early settlement of the area. \nSuitable for all ages. \nPlease email special accommodation requests to katiebg@ufl.edu at least 10 days prior to the event. \nRegister HERE!
URL:https://baysoundings.com/event/rye-preserve-tour-2/2022-03-19/
LOCATION:Rye Preserve\, 905 Rye Wilderness Trail\, Parrish\, FL\, 34219\, United States
CATEGORIES:Coastal & Wetlands,Native Flora & Fauna,Nature Tours & Hikes
GEO:27.513373;-82.364587
X-APPLE-STRUCTURED-LOCATION;VALUE=URI;X-ADDRESS=Rye Preserve 905 Rye Wilderness Trail Parrish FL 34219 United States;X-APPLE-RADIUS=500;X-TITLE=905 Rye Wilderness Trail:geo:-82.364587,27.513373
END:VEVENT
BEGIN:VEVENT
DTSTART;TZID=America/New_York:20220326T100000
DTEND;TZID=America/New_York:20220326T140000
DTSTAMP:20260421T164408
CREATED:20220306T233304Z
LAST-MODIFIED:20220306T233426Z
UID:10001646-1648288800-1648303200@baysoundings.com
SUMMARY:Archaeology Day at Weedon Island
DESCRIPTION:Celebrate Florida Archaeology Month at the Weedon Island Preserve!\n\n\n\n\n\n\n\nExamine ancient artifacts and discover the rich history of Tampa Bay at our celebration of Florida Archaeology Month at the Weedon Island Preserve! \nThe Alliance for Weedon Island Archaeological Research and Education (AWIARE) and the Central Florida Gulf Coast Archaeological Society (CGCAS) will be on-site with a diverse showcase of pre-Columbian artifacts from the Tampa Bay region and archaeological experts will be on-hand to illustrate the use of these tools and their importance to native populations. \nThere will also be a special guided hike to an active archaeological dig-site on the Preserve. Spots on this hike are limited so advance registration is required. Register for the Archaeology Day Hike & Site Visit today! \nLocal fossil collectors are encouraged to bring in artifacts such as arrow heads\, lithics\, and pottery sherds for identification during Archaeology Day. No dollar value will be assigned or discussed\, but educational information will be generously shared. \nExplore the artifacts and talk with the archaeologists at your leisure anytime between 10am to 2pm. Also\, check out the 1\,100 year old dugout canoe on display in the Center and visit our free museum exhibit “Connecting People and Place” that tells the story of Weedon Island and its earliest inhabitants. \nThis event is suitable for all ages. The Center and its museum exhibits are open from 9am to 4pm. \nREGISTER HERE
URL:https://baysoundings.com/event/archaeology-day-at-weedon-island-2/
LOCATION:Weedon Island Preserve Cultural and Natural History Center\, 1800 Weedon Drive NE\, St. Petersburg\, FL\, United States
CATEGORIES:Archaeology,Coastal & Wetlands,Exhibits,Geology & Geography,History & Culture,Homeschool,Kids & Families,Local Community,Youth Programs
GEO:27.850451;-82.6075539
X-APPLE-STRUCTURED-LOCATION;VALUE=URI;X-ADDRESS=Weedon Island Preserve Cultural and Natural History Center 1800 Weedon Drive NE St. Petersburg FL United States;X-APPLE-RADIUS=500;X-TITLE=1800 Weedon Drive NE:geo:-82.6075539,27.850451
END:VEVENT
END:VCALENDAR