BEGIN:VCALENDAR
VERSION:2.0
PRODID:-//Bay Soundings - ECPv6.15.11//NONSGML v1.0//EN
CALSCALE:GREGORIAN
METHOD:PUBLISH
X-ORIGINAL-URL:https://baysoundings.com
X-WR-CALDESC:Events for Bay Soundings
REFRESH-INTERVAL;VALUE=DURATION:PT1H
X-Robots-Tag:noindex
X-PUBLISHED-TTL:PT1H
BEGIN:VTIMEZONE
TZID:America/New_York
BEGIN:DAYLIGHT
TZOFFSETFROM:-0500
TZOFFSETTO:-0400
TZNAME:EDT
DTSTART:20210314T070000
END:DAYLIGHT
BEGIN:STANDARD
TZOFFSETFROM:-0400
TZOFFSETTO:-0500
TZNAME:EST
DTSTART:20211107T060000
END:STANDARD
BEGIN:DAYLIGHT
TZOFFSETFROM:-0500
TZOFFSETTO:-0400
TZNAME:EDT
DTSTART:20220313T070000
END:DAYLIGHT
BEGIN:STANDARD
TZOFFSETFROM:-0400
TZOFFSETTO:-0500
TZNAME:EST
DTSTART:20221106T060000
END:STANDARD
BEGIN:DAYLIGHT
TZOFFSETFROM:-0500
TZOFFSETTO:-0400
TZNAME:EDT
DTSTART:20230312T070000
END:DAYLIGHT
BEGIN:STANDARD
TZOFFSETFROM:-0400
TZOFFSETTO:-0500
TZNAME:EST
DTSTART:20231105T060000
END:STANDARD
END:VTIMEZONE
BEGIN:VEVENT
DTSTART;TZID=America/New_York:20220205T090000
DTEND;TZID=America/New_York:20220205T110000
DTSTAMP:20260421T134913
CREATED:20220118T223522Z
LAST-MODIFIED:20220118T223949Z
UID:10001592-1644051600-1644058800@baysoundings.com
SUMMARY:Weedon Walkabout
DESCRIPTION:Join us for a guided tour of the trails and boardwalks of the Weedon Island Preserve.\n\n\n\n\n\n\n\nThis docent-led walk will visit the mangrove and upland ecosystems of the Weedon Island Preserve\, including a visit to the Preserve’s 45 ft. tall Observation Tower for a 360 degree view of the area. Learn about the coastal environment\, native wildlife\, and early history of the Preserve. This program is recommended for adults and youth ages 6 and up. \nREGISTER HERE
URL:https://baysoundings.com/event/weedon-walkabout-3/2022-02-05/
LOCATION:Weedon Island Preserve Cultural and Natural History Center\, 1800 Weedon Drive NE\, St. Petersburg\, FL\, United States
CATEGORIES:Coastal & Wetlands,Native Flora & Fauna,Nature Tours & Hikes
GEO:27.850451;-82.6075539
X-APPLE-STRUCTURED-LOCATION;VALUE=URI;X-ADDRESS=Weedon Island Preserve Cultural and Natural History Center 1800 Weedon Drive NE St. Petersburg FL United States;X-APPLE-RADIUS=500;X-TITLE=1800 Weedon Drive NE:geo:-82.6075539,27.850451
END:VEVENT
BEGIN:VEVENT
DTSTART;TZID=America/New_York:20220205T103000
DTEND;TZID=America/New_York:20220205T120000
DTSTAMP:20260421T134913
CREATED:20220118T211735Z
LAST-MODIFIED:20220118T211735Z
UID:10001580-1644057000-1644062400@baysoundings.com
SUMMARY:Youth Program: The Swamp Ecosystem
DESCRIPTION:Learn about one of Florida’s amazing and unique ecosystems: the swamp\, in a hands on and creative way!\n\n\n\n\n\n\n\nLearn about one of Florida’s amazing and unique ecosystems: the swamp\, in a hands on and creative way! By pairing science with music and songwriting\, this fun\, family friendly program is designed to teach students all about Florida swamps\, give them the opportunity to meet a LIVE resident of the swamp\, and work together to create a song about what they learned! Family Friendly! \nPresented by Paige Konger of Paige’s Planet \nAdditional Notes: Registration is required. This program will be held in our auditorium. It takes about 10 minutes to drive from the preserve entrance (Keystone Rd.) to the parking lot\, and there is a 2-5 minute walk from the parking lot to the auditorium. We will start promptly at 2pm. Follow signs to the auditorium. \nREGISTER HERE
URL:https://baysoundings.com/event/youth-program-the-swamp-ecosystem/
LOCATION:Brooker Creek Environmental Education Center\, 3940 Keystone Road\, Tarpon Springs\, FL\, 34688\, United States
CATEGORIES:Coastal & Wetlands,Native Flora & Fauna,Reptiles & Amphibians,Wildlife,Youth Programs
GEO:28.136639;-82.656421
X-APPLE-STRUCTURED-LOCATION;VALUE=URI;X-ADDRESS=Brooker Creek Environmental Education Center 3940 Keystone Road Tarpon Springs FL 34688 United States;X-APPLE-RADIUS=500;X-TITLE=3940 Keystone Road:geo:-82.656421,28.136639
END:VEVENT
BEGIN:VEVENT
DTSTART;TZID=America/New_York:20220208T190000
DTEND;TZID=America/New_York:20220208T203000
DTSTAMP:20260421T134913
CREATED:20220124T175716Z
LAST-MODIFIED:20220124T175716Z
UID:10001605-1644346800-1644352200@baysoundings.com
SUMMARY:Invasive Exotic Plants on Nature Lands
DESCRIPTION:The Nature Coast Chapter of the Florida Native Plant Society meets the second Tuesday of every month at 7:00 PM at The Land O’ Lakes Heritage Park Community Center\, 5401 Land O’ Lakes Blvd/US 41\, Land O’ Lakes\, 34639\, between SR 52 and SR 54. The subject of the February 8\, 2022 meeting is “Invasive Exotic Plants on Nature Lands” presented by Michael Terry. This presentation will focus on the invasive plant species on the Southwest Florida Water Management District’s (SWFWMD) Upper Hillsborough Tract – 6\,978 acres that protects the upper reaches of the Hillsborough River. This river’s floodplain provides natural storage of floodwaters\, acts as a filtration system for runoff and serves as an important link in protecting wildlife habitat in the Hillsborough River greenway corridor. Mike will identify some of the invasive plant species on the property\, describe the damage they cause\, and explain what is being done to remove these invasives from this property. \nMichael is the Senior Vegetation Management Specialist in the Operations and Land Management Bureau with SWFWMD. He has been with the District for 37 years\, working with terrestrial and aquatic exotic vegetation. His duties include working with private contractors on SWFWMD lands to oversee their exotic treatment and helicopter surveys for Old World Climbing Fern. He also works control burns and wildfires as needed. \nMeetings of the Chapter are free\, and all interested parties are invited to attend and bring questions about their yard. There will not be any refreshments or drinks available\, so everyone needs to bring their own. Please wear a mask! Telephone inquiries are taken by Molly at (813) 469-9597. \nChapter website: http://www.pasconativeplants.org.
URL:https://baysoundings.com/event/invasive-exotic-plants-on-nature-lands/
LOCATION:Land O’ Lakes Community Center\, 5401 Land O' Lakes Blvd.\, Land O' Lakes\, FL\, United States
CATEGORIES:Agriculture & Botany,Clubs,Coastal & Wetlands,Gardening & Landscaping,Invasive & Intrusive Species,Local Community
GEO:28.235835;-82.460655
X-APPLE-STRUCTURED-LOCATION;VALUE=URI;X-ADDRESS=Land O’ Lakes Community Center 5401 Land O' Lakes Blvd. Land O' Lakes FL United States;X-APPLE-RADIUS=500;X-TITLE=5401 Land O' Lakes Blvd.:geo:-82.460655,28.235835
END:VEVENT
BEGIN:VEVENT
DTSTART;TZID=America/New_York:20220212T073000
DTEND;TZID=America/New_York:20220212T103000
DTSTAMP:20260421T134913
CREATED:20220123T201506Z
LAST-MODIFIED:20220123T201506Z
UID:10000866-1644651000-1644661800@baysoundings.com
SUMMARY:Birding Tour: Tom Bennett Park
DESCRIPTION:Manatee Audubon Society Birding Tour: Tom Bennett Park \nSearch the skies for Florida’s fabulous fliers! Our Audubon guide will lead participants on a tour through Tom Bennett Park’s upland and wetland habitats. Check out the “locals” as well as the migratory birds that are wintering here. Program suitable for adults. \nProgram sponsored by Manatee County Audubon Society in partnership with Manatee County Parks and Natural Resources.  \nReservations are required. To register please contact ford.tony23@yahoo.com.\nTom Bennett Park – Playground Parking Lot
URL:https://baysoundings.com/event/birding-tour-tom-bennett-park/
LOCATION:Tom Bennett Park\, 280 Kay Road\, Bradenton\, FL\, 34208\, United States
CATEGORIES:Adult Level,Birds & Birding,Coastal & Wetlands,Native Flora & Fauna,Nature Tours & Hikes,Wildlife
END:VEVENT
BEGIN:VEVENT
DTSTART;TZID=America/New_York:20220212T083000
DTEND;TZID=America/New_York:20220212T103000
DTSTAMP:20260421T134913
CREATED:20220118T224513Z
LAST-MODIFIED:20220118T224513Z
UID:10001596-1644654600-1644661800@baysoundings.com
SUMMARY:Photography Hike
DESCRIPTION:Walk the boardwalks and natural paths of Weedon Island\, capturing photographs of native flora and fauna along the way.\n\n\n\n\n\n\n\nGrab your camera of choice and enjoy a guided tour of the trails at the Weedon Island Preserve! This program will begin with a brief classroom session to highlight the seasonal features of the Preserve\, as well as specific wildlife behaviors\, that will help participants capture the natural beauty of the area. Photographers of all skill levels are welcome. \nThis hike is roughly 2 miles in total length on a combination of boardwalks and unimproved\, natural paths. This program is is best suited for adults. \nProceeds will support the Friends of Weedon Island\, a non-profit organization that works to promote education and conservation of the Weedon Island Preserve. Learn about our Friends! \nREGISTER HERE
URL:https://baysoundings.com/event/photography-hike-2/
LOCATION:Weedon Island Preserve Cultural and Natural History Center\, 1800 Weedon Drive NE\, St. Petersburg\, FL\, United States
CATEGORIES:Birds & Birding,Coastal & Wetlands,Homeschool,Native Flora & Fauna,Nature Tours & Hikes,Photography,Wildlife
GEO:27.850451;-82.6075539
X-APPLE-STRUCTURED-LOCATION;VALUE=URI;X-ADDRESS=Weedon Island Preserve Cultural and Natural History Center 1800 Weedon Drive NE St. Petersburg FL United States;X-APPLE-RADIUS=500;X-TITLE=1800 Weedon Drive NE:geo:-82.6075539,27.850451
END:VEVENT
BEGIN:VEVENT
DTSTART;TZID=America/New_York:20220218T173000
DTEND;TZID=America/New_York:20220218T183000
DTSTAMP:20260421T134913
CREATED:20220123T215652Z
LAST-MODIFIED:20220123T215652Z
UID:10000873-1645205400-1645209000@baysoundings.com
SUMMARY:Sunset Bird Walk
DESCRIPTION:Grab your binoculars and enjoy a relaxing sunset stroll on Coquina Beach! Explore the beautiful coastline and look for shorebirds\, wading birds and\, other feathered friends. Learn how to identify these beach birds and discover their important role in the coastal environment. The program will conclude with a view of Coquina Beach’s iconic sunset. Program suitable for adults. \nBinoculars recommended. Reservations are required. \nTo register please visit https://www.eventbrite.com/e/239216381637. For more information please contact elena.burke@mymanatee.org or call (941) 742-5923 ext. 6036. \nCoquina Beach – Café
URL:https://baysoundings.com/event/sunset-bird-walk/
LOCATION:Coquina Beach
CATEGORIES:Adult Level,Beach Activities,Birds & Birding,Coastal & Wetlands,Native Flora & Fauna,Nature Tours & Hikes,Photography
END:VEVENT
BEGIN:VEVENT
DTSTART;TZID=America/New_York:20220219T090000
DTEND;TZID=America/New_York:20220219T110000
DTSTAMP:20260421T134913
CREATED:20220118T223522Z
LAST-MODIFIED:20220118T223949Z
UID:10001593-1645261200-1645268400@baysoundings.com
SUMMARY:Weedon Walkabout
DESCRIPTION:Join us for a guided tour of the trails and boardwalks of the Weedon Island Preserve.\n\n\n\n\n\n\n\nThis docent-led walk will visit the mangrove and upland ecosystems of the Weedon Island Preserve\, including a visit to the Preserve’s 45 ft. tall Observation Tower for a 360 degree view of the area. Learn about the coastal environment\, native wildlife\, and early history of the Preserve. This program is recommended for adults and youth ages 6 and up. \nREGISTER HERE
URL:https://baysoundings.com/event/weedon-walkabout-3/2022-02-19/
LOCATION:Weedon Island Preserve Cultural and Natural History Center\, 1800 Weedon Drive NE\, St. Petersburg\, FL\, United States
CATEGORIES:Coastal & Wetlands,Native Flora & Fauna,Nature Tours & Hikes
GEO:27.850451;-82.6075539
X-APPLE-STRUCTURED-LOCATION;VALUE=URI;X-ADDRESS=Weedon Island Preserve Cultural and Natural History Center 1800 Weedon Drive NE St. Petersburg FL United States;X-APPLE-RADIUS=500;X-TITLE=1800 Weedon Drive NE:geo:-82.6075539,27.850451
END:VEVENT
BEGIN:VEVENT
DTSTART;TZID=America/New_York:20220224T090000
DTEND;TZID=America/New_York:20220224T103000
DTSTAMP:20260421T134913
CREATED:20220123T223306Z
LAST-MODIFIED:20220123T223306Z
UID:10001598-1645693200-1645698600@baysoundings.com
SUMMARY:Seashell Shore Walk
DESCRIPTION:Calling all beachcombers and seashell enthusiasts! Join us for a relaxing walk on the beach to search for seashells and learn to identify them. This program will explore what makes mollusks unique and the amazing adaptations that help them to survive in the wild. Learn about ethical seashell collecting methods while discovering a new appreciation for our beautiful shorelines. Program suitable for all ages. \nReservations are required. To register please visit https://www.eventbrite.com/e/239166783287. For more information please contact elena.burke@mymanatee.org or call (941) 742-5923 ext. 6036. \nCoquina Beach  South – Under Longboat Key Bridge
URL:https://baysoundings.com/event/seashell-shore-walk/
LOCATION:Coquina Beach
CATEGORIES:Beach Activities,Coastal & Wetlands,Kids & Families,Marine Life,Nature Tours & Hikes
END:VEVENT
END:VCALENDAR