BEGIN:VCALENDAR
VERSION:2.0
PRODID:-//Bay Soundings - ECPv6.15.11//NONSGML v1.0//EN
CALSCALE:GREGORIAN
METHOD:PUBLISH
X-ORIGINAL-URL:https://baysoundings.com
X-WR-CALDESC:Events for Bay Soundings
REFRESH-INTERVAL;VALUE=DURATION:PT1H
X-Robots-Tag:noindex
X-PUBLISHED-TTL:PT1H
BEGIN:VTIMEZONE
TZID:America/New_York
BEGIN:DAYLIGHT
TZOFFSETFROM:-0500
TZOFFSETTO:-0400
TZNAME:EDT
DTSTART:20190310T070000
END:DAYLIGHT
BEGIN:STANDARD
TZOFFSETFROM:-0400
TZOFFSETTO:-0500
TZNAME:EST
DTSTART:20191103T060000
END:STANDARD
BEGIN:DAYLIGHT
TZOFFSETFROM:-0500
TZOFFSETTO:-0400
TZNAME:EDT
DTSTART:20200308T070000
END:DAYLIGHT
BEGIN:STANDARD
TZOFFSETFROM:-0400
TZOFFSETTO:-0500
TZNAME:EST
DTSTART:20201101T060000
END:STANDARD
BEGIN:DAYLIGHT
TZOFFSETFROM:-0500
TZOFFSETTO:-0400
TZNAME:EDT
DTSTART:20210314T070000
END:DAYLIGHT
BEGIN:STANDARD
TZOFFSETFROM:-0400
TZOFFSETTO:-0500
TZNAME:EST
DTSTART:20211107T060000
END:STANDARD
END:VTIMEZONE
BEGIN:VEVENT
DTSTART;TZID=America/New_York:20200112T140000
DTEND;TZID=America/New_York:20200112T160000
DTSTAMP:20260424T150005
CREATED:20191230T170625Z
LAST-MODIFIED:20191230T170625Z
UID:10001073-1578837600-1578844800@baysoundings.com
SUMMARY:Young Women in Science: Dip Netting
DESCRIPTION:Spend the afternoon exploring Wax Myrtle Pond using scientific equipment. Led by an experienced female scientist\, this is a great program for young women exploring science as a career. \nCost: $15 | Ages 14 & Up
URL:https://baysoundings.com/event/young-women-in-science-dip-netting/
LOCATION:Boyd Hill Nature Preserve Classroom\, 1101 COUNTRY CLUB WY S\, St. Petersburg\, FL\, 33705\, United States
CATEGORIES:Certification & Training Programs,Coastal & Wetlands,Marine Life,Native Flora & Fauna,Workshops & Classes,Youth Programs
ORGANIZER;CN="Boyd Hill Nature Preserve":MAILTO:stpeteparksrec@stpete.org 
GEO:27.724764;-82.6502749
X-APPLE-STRUCTURED-LOCATION;VALUE=URI;X-ADDRESS=Boyd Hill Nature Preserve Classroom 1101 COUNTRY CLUB WY S St. Petersburg FL 33705 United States;X-APPLE-RADIUS=500;X-TITLE=1101 COUNTRY CLUB WY S:geo:-82.6502749,27.724764
END:VEVENT
BEGIN:VEVENT
DTSTART;TZID=America/New_York:20200125T100000
DTEND;TZID=America/New_York:20200125T120000
DTSTAMP:20260424T150005
CREATED:20191229T232728Z
LAST-MODIFIED:20191229T232728Z
UID:10001048-1579946400-1579953600@baysoundings.com
SUMMARY:Archaeology Works: Heritage Monitoring Scouts
DESCRIPTION:Heritage Monitoring Scouts (HMS Florida) is a public engagement program focused on tracking changes to archaeological sites at risk\, particularly those impacted by climate change in the form of erosion and sea level rise. Join archaeologists from the Florida Public Archaeology Network (FPAN) for this information session to learn how to become a heritage monitoring scout. FPAN will discuss threats to archaeological sites\, how to identify some common site types and artifacts\, and the best way to record and monitor them. \nFollowing this introductory session\, FPAN will do a short hike in the Weedon Island Preserve to do a hands-on training of how HMS tracks data on archaeological sites. For more information on this program go to www.fpan.us/HMSflorida \nQuestions or concerns? Please contact Weedon Island Preserve ta 727-453-6500 or weedonisland@pinellascounty.org. \nRegistration: https://www.eventbrite.com/o/weedon-island-preserve-cultural-and-natural-history-center-1250121017
URL:https://baysoundings.com/event/archaeology-works-heritage-monitoring-scouts/
LOCATION:Weedon Island Preserve Cultural and Natural History Center\, 1800 Weedon Drive NE\, St. Petersburg\, FL\, United States
CATEGORIES:Archaeology,Certification & Training Programs,Coastal & Wetlands,Maritime Topics,Workshops & Classes
GEO:27.850451;-82.6075539
X-APPLE-STRUCTURED-LOCATION;VALUE=URI;X-ADDRESS=Weedon Island Preserve Cultural and Natural History Center 1800 Weedon Drive NE St. Petersburg FL United States;X-APPLE-RADIUS=500;X-TITLE=1800 Weedon Drive NE:geo:-82.6075539,27.850451
END:VEVENT
END:VCALENDAR