BEGIN:VCALENDAR
VERSION:2.0
PRODID:-//Bay Soundings - ECPv6.15.11//NONSGML v1.0//EN
CALSCALE:GREGORIAN
METHOD:PUBLISH
X-ORIGINAL-URL:https://baysoundings.com
X-WR-CALDESC:Events for Bay Soundings
REFRESH-INTERVAL;VALUE=DURATION:PT1H
X-Robots-Tag:noindex
X-PUBLISHED-TTL:PT1H
BEGIN:VTIMEZONE
TZID:America/New_York
BEGIN:DAYLIGHT
TZOFFSETFROM:-0500
TZOFFSETTO:-0400
TZNAME:EDT
DTSTART:20190310T070000
END:DAYLIGHT
BEGIN:STANDARD
TZOFFSETFROM:-0400
TZOFFSETTO:-0500
TZNAME:EST
DTSTART:20191103T060000
END:STANDARD
BEGIN:DAYLIGHT
TZOFFSETFROM:-0500
TZOFFSETTO:-0400
TZNAME:EDT
DTSTART:20200308T070000
END:DAYLIGHT
BEGIN:STANDARD
TZOFFSETFROM:-0400
TZOFFSETTO:-0500
TZNAME:EST
DTSTART:20201101T060000
END:STANDARD
BEGIN:DAYLIGHT
TZOFFSETFROM:-0500
TZOFFSETTO:-0400
TZNAME:EDT
DTSTART:20210314T070000
END:DAYLIGHT
BEGIN:STANDARD
TZOFFSETFROM:-0400
TZOFFSETTO:-0500
TZNAME:EST
DTSTART:20211107T060000
END:STANDARD
END:VTIMEZONE
BEGIN:VEVENT
DTSTART;TZID=America/New_York:20200106T183000
DTEND;TZID=America/New_York:20200106T203000
DTSTAMP:20260424T053051
CREATED:20191230T012003Z
LAST-MODIFIED:20191230T012003Z
UID:10000526-1578335400-1578342600@baysoundings.com
SUMMARY:CLEARWATER AUDUBON SOCIETY MEETING
DESCRIPTION:The local chapter of the National Audubon Society conducts field trips to Florida’s natural areas\, supports local environmental education efforts and sponsors environmental educators to Audubon training centers. Everyone is welcome. \nMeetup: https://www.meetup.com/Moccasin-Lake-Environmental-Education-Center/
URL:https://baysoundings.com/event/clearwater-audubon-society-meeting-3/
LOCATION:Moccasin Lake Environmental Education Center\, 2750 Park Trail Lane\, Clearwater\, FL\, United States
CATEGORIES:Birds & Birding,Clubs
GEO:27.977104;-82.724462
X-APPLE-STRUCTURED-LOCATION;VALUE=URI;X-ADDRESS=Moccasin Lake Environmental Education Center 2750 Park Trail Lane Clearwater FL United States;X-APPLE-RADIUS=500;X-TITLE=2750 Park Trail Lane:geo:-82.724462,27.977104
END:VEVENT
BEGIN:VEVENT
DTSTART;TZID=America/New_York:20200106T190000
DTEND;TZID=America/New_York:20200106T210000
DTSTAMP:20260424T053051
CREATED:20191230T192218Z
LAST-MODIFIED:20191230T192218Z
UID:10001133-1578337200-1578344400@baysoundings.com
SUMMARY:Belugas\, Polar Bears & Birds of Churchill\, Manitoba
DESCRIPTION:Tom & Lindsay Bell\nBelugas\, Polar Bears and Birds of Churchill\, Manitoba \nThe Bell’s share another one of their breathtaking adventures from the Canadian Arctic.
URL:https://baysoundings.com/event/belugas-polar-bears-birds-of-churchill-manitoba/
LOCATION:Moccasin Lake Environmental Education Center\, 2750 Park Trail Lane\, Clearwater\, FL\, United States
CATEGORIES:Birds & Birding,Clubs,Lectures & Seminars,Marine Life
GEO:27.977104;-82.724462
X-APPLE-STRUCTURED-LOCATION;VALUE=URI;X-ADDRESS=Moccasin Lake Environmental Education Center 2750 Park Trail Lane Clearwater FL United States;X-APPLE-RADIUS=500;X-TITLE=2750 Park Trail Lane:geo:-82.724462,27.977104
END:VEVENT
END:VCALENDAR