BEGIN:VCALENDAR
VERSION:2.0
PRODID:-//Bay Soundings - ECPv6.15.11//NONSGML v1.0//EN
CALSCALE:GREGORIAN
METHOD:PUBLISH
X-ORIGINAL-URL:https://baysoundings.com
X-WR-CALDESC:Events for Bay Soundings
REFRESH-INTERVAL;VALUE=DURATION:PT1H
X-Robots-Tag:noindex
X-PUBLISHED-TTL:PT1H
BEGIN:VTIMEZONE
TZID:America/New_York
BEGIN:DAYLIGHT
TZOFFSETFROM:-0500
TZOFFSETTO:-0400
TZNAME:EDT
DTSTART:20190310T070000
END:DAYLIGHT
BEGIN:STANDARD
TZOFFSETFROM:-0400
TZOFFSETTO:-0500
TZNAME:EST
DTSTART:20191103T060000
END:STANDARD
BEGIN:DAYLIGHT
TZOFFSETFROM:-0500
TZOFFSETTO:-0400
TZNAME:EDT
DTSTART:20200308T070000
END:DAYLIGHT
BEGIN:STANDARD
TZOFFSETFROM:-0400
TZOFFSETTO:-0500
TZNAME:EST
DTSTART:20201101T060000
END:STANDARD
BEGIN:DAYLIGHT
TZOFFSETFROM:-0500
TZOFFSETTO:-0400
TZNAME:EDT
DTSTART:20210314T070000
END:DAYLIGHT
BEGIN:STANDARD
TZOFFSETFROM:-0400
TZOFFSETTO:-0500
TZNAME:EST
DTSTART:20211107T060000
END:STANDARD
END:VTIMEZONE
BEGIN:VEVENT
DTSTART;TZID=America/New_York:20200302T183000
DTEND;TZID=America/New_York:20200302T203000
DTSTAMP:20260422T121421
CREATED:20200218T191018Z
LAST-MODIFIED:20200218T191018Z
UID:10000727-1583173800-1583181000@baysoundings.com
SUMMARY:Gulls & Jaegers
DESCRIPTION:Michael Brothers\nGulls & Jaegers \nAs part of our extensive community outreach programming\, CAS hosts a series of educational events\, hosted at Moccasin Lake Nature Park . With few exceptions\, these meetings are free and open to the public. They are designed to educate\, entertain or both\, and to better acquaint our members and area residents with the species that we steward. Each event begins with a Mix & Mingle session where you can meet a variety of people from all walks of life who share a common passion. We believe that diversity\, equality and inclusion are essential to creating global citizens who celebrate the unique differences of all and understand that each person plays a critical role in our global society. \nWe welcome back Michael for another informative and educational program. Now retired he enjoys his time with these amazing creatures more than ever.
URL:https://baysoundings.com/event/gulls-jaegers/
LOCATION:Moccasin Lake Environmental Education Center\, 2750 Park Trail Lane\, Clearwater\, FL\, United States
CATEGORIES:Birds & Birding,Clubs
GEO:27.977104;-82.724462
X-APPLE-STRUCTURED-LOCATION;VALUE=URI;X-ADDRESS=Moccasin Lake Environmental Education Center 2750 Park Trail Lane Clearwater FL United States;X-APPLE-RADIUS=500;X-TITLE=2750 Park Trail Lane:geo:-82.724462,27.977104
END:VEVENT
BEGIN:VEVENT
DTSTART;TZID=America/New_York:20200321T070000
DTEND;TZID=America/New_York:20200321T110000
DTSTAMP:20260422T121421
CREATED:20200222T000815Z
LAST-MODIFIED:20200222T000815Z
UID:10001017-1584774000-1584788400@baysoundings.com
SUMMARY:Babcock Webb Wildlife Management Area
DESCRIPTION:All field trips begin at 8:00 AM – try to arrive by 7:45. End times to be determined by the birds. \nFor out of county field trips\, carpooling is suggested. Meet 6:30 am at the CVS store\,  3501 54th Ave S \, St.Pete\, 33711\, in the side parking lot.  Walk should begin at the WMA around 8 am. \nCheck the SPAS website for more info.
URL:https://baysoundings.com/event/babcock-webb-wildlife-management-area/
LOCATION:Babcock Webb Wildlife Management Area\, 29200 Tuckers Grade\, Punta Gorda\, FL\, 33982\, United States
CATEGORIES:Birds & Birding,Clubs,Native Flora & Fauna
END:VEVENT
END:VCALENDAR