BEGIN:VCALENDAR
VERSION:2.0
PRODID:-//Bay Soundings - ECPv6.15.11//NONSGML v1.0//EN
CALSCALE:GREGORIAN
METHOD:PUBLISH
X-ORIGINAL-URL:https://baysoundings.com
X-WR-CALDESC:Events for Bay Soundings
REFRESH-INTERVAL;VALUE=DURATION:PT1H
X-Robots-Tag:noindex
X-PUBLISHED-TTL:PT1H
BEGIN:VTIMEZONE
TZID:America/New_York
BEGIN:DAYLIGHT
TZOFFSETFROM:-0500
TZOFFSETTO:-0400
TZNAME:EDT
DTSTART:20180311T070000
END:DAYLIGHT
BEGIN:STANDARD
TZOFFSETFROM:-0400
TZOFFSETTO:-0500
TZNAME:EST
DTSTART:20181104T060000
END:STANDARD
BEGIN:DAYLIGHT
TZOFFSETFROM:-0500
TZOFFSETTO:-0400
TZNAME:EDT
DTSTART:20190310T070000
END:DAYLIGHT
BEGIN:STANDARD
TZOFFSETFROM:-0400
TZOFFSETTO:-0500
TZNAME:EST
DTSTART:20191103T060000
END:STANDARD
BEGIN:DAYLIGHT
TZOFFSETFROM:-0500
TZOFFSETTO:-0400
TZNAME:EDT
DTSTART:20200308T070000
END:DAYLIGHT
BEGIN:STANDARD
TZOFFSETFROM:-0400
TZOFFSETTO:-0500
TZNAME:EST
DTSTART:20201101T060000
END:STANDARD
END:VTIMEZONE
BEGIN:VEVENT
DTSTART;TZID=America/New_York:20191106T183000
DTEND;TZID=America/New_York:20191106T203000
DTSTAMP:20260425T152944
CREATED:20191024T191423Z
LAST-MODIFIED:20191024T191423Z
UID:10000509-1573065000-1573072200@baysoundings.com
SUMMARY:Florida Native Plant Society
DESCRIPTION:This group welcomes all who want to learn about native plants and explore natural areas.
URL:https://baysoundings.com/event/florida-native-plant-society-5/
LOCATION:Moccasin Lake Environmental Education Center\, 2750 Park Trail Lane\, Clearwater\, FL\, United States
CATEGORIES:Clubs,Gardening & Landscaping,Native Flora & Fauna
GEO:27.977104;-82.724462
X-APPLE-STRUCTURED-LOCATION;VALUE=URI;X-ADDRESS=Moccasin Lake Environmental Education Center 2750 Park Trail Lane Clearwater FL United States;X-APPLE-RADIUS=500;X-TITLE=2750 Park Trail Lane:geo:-82.724462,27.977104
END:VEVENT
BEGIN:VEVENT
DTSTART;TZID=America/New_York:20191109T190000
DTEND;TZID=America/New_York:20191109T210000
DTSTAMP:20260425T152944
CREATED:20191024T190422Z
LAST-MODIFIED:20191024T190422Z
UID:10000219-1573326000-1573333200@baysoundings.com
SUMMARY:TAMPA BAY TURTLE & TORTOISE SOCIETY
DESCRIPTION:The Tampa Bay Turtle & Tortoise Society assists in conservation of turtles and tortoises. Each month\, a speaker discusses topics that emphasize education\, conservation and proper captive husbandry. The group also conducts at least one field trip\, sometimes two\, as a club.  Call Ralph Till at 515-7443.
URL:https://baysoundings.com/event/tampa-bay-turtle-tortoise-society-3/
LOCATION:Moccasin Lake Environmental Education Center\, 2750 Park Trail Lane\, Clearwater\, FL\, United States
CATEGORIES:Clubs,Reptiles & Amphibians
GEO:27.977104;-82.724462
X-APPLE-STRUCTURED-LOCATION;VALUE=URI;X-ADDRESS=Moccasin Lake Environmental Education Center 2750 Park Trail Lane Clearwater FL United States;X-APPLE-RADIUS=500;X-TITLE=2750 Park Trail Lane:geo:-82.724462,27.977104
END:VEVENT
BEGIN:VEVENT
DTSTART;TZID=America/New_York:20191119T183000
DTEND;TZID=America/New_York:20191119T203000
DTSTAMP:20260425T152944
CREATED:20191024T191212Z
LAST-MODIFIED:20191024T191212Z
UID:10000503-1574188200-1574195400@baysoundings.com
SUMMARY:Florida Herb Society
DESCRIPTION:Bring herb cuttings\, seeds and plants to swap along with your favorite herbal delight to add to the tasting and herbal swap tables and then enjoy monthly lectures and workshops.
URL:https://baysoundings.com/event/florida-herb-society-3/
LOCATION:Moccasin Lake Environmental Education Center\, 2750 Park Trail Lane\, Clearwater\, FL\, United States
CATEGORIES:Clubs,Gardening & Landscaping,Herbs
ORGANIZER;CN="Florida Herb Society":MAILTO:Info@floridaherbsociety.com 
GEO:27.977104;-82.724462
X-APPLE-STRUCTURED-LOCATION;VALUE=URI;X-ADDRESS=Moccasin Lake Environmental Education Center 2750 Park Trail Lane Clearwater FL United States;X-APPLE-RADIUS=500;X-TITLE=2750 Park Trail Lane:geo:-82.724462,27.977104
END:VEVENT
BEGIN:VEVENT
DTSTART;TZID=America/New_York:20191120T093000
DTEND;TZID=America/New_York:20191120T120000
DTSTAMP:20260425T152944
CREATED:20191024T190927Z
LAST-MODIFIED:20191024T190927Z
UID:10000494-1574242200-1574251200@baysoundings.com
SUMMARY:SAFETY HARBOR GARDENING CLUB
DESCRIPTION:There’s a lot to learn about gardening.  This group presents educational programs on a variety of gardening topics. For members\, there are field trips and other special programs.
URL:https://baysoundings.com/event/safety-harbor-gardening-club-2-6/
LOCATION:Moccasin Lake Environmental Education Center\, 2750 Park Trail Lane\, Clearwater\, FL\, United States
CATEGORIES:Agriculture & Botany,Clubs,Gardening & Landscaping
ORGANIZER;CN="SAFETY HARBOR GARDENING CLUB":MAILTO:PresidentSHGC@gmail.com
GEO:27.977104;-82.724462
X-APPLE-STRUCTURED-LOCATION;VALUE=URI;X-ADDRESS=Moccasin Lake Environmental Education Center 2750 Park Trail Lane Clearwater FL United States;X-APPLE-RADIUS=500;X-TITLE=2750 Park Trail Lane:geo:-82.724462,27.977104
END:VEVENT
END:VCALENDAR