BEGIN:VCALENDAR
VERSION:2.0
PRODID:-//Bay Soundings - ECPv6.15.11//NONSGML v1.0//EN
CALSCALE:GREGORIAN
METHOD:PUBLISH
X-ORIGINAL-URL:https://baysoundings.com
X-WR-CALDESC:Events for Bay Soundings
REFRESH-INTERVAL;VALUE=DURATION:PT1H
X-Robots-Tag:noindex
X-PUBLISHED-TTL:PT1H
BEGIN:VTIMEZONE
TZID:America/New_York
BEGIN:DAYLIGHT
TZOFFSETFROM:-0500
TZOFFSETTO:-0400
TZNAME:EDT
DTSTART:20220313T070000
END:DAYLIGHT
BEGIN:STANDARD
TZOFFSETFROM:-0400
TZOFFSETTO:-0500
TZNAME:EST
DTSTART:20221106T060000
END:STANDARD
BEGIN:DAYLIGHT
TZOFFSETFROM:-0500
TZOFFSETTO:-0400
TZNAME:EDT
DTSTART:20230312T070000
END:DAYLIGHT
BEGIN:STANDARD
TZOFFSETFROM:-0400
TZOFFSETTO:-0500
TZNAME:EST
DTSTART:20231105T060000
END:STANDARD
BEGIN:DAYLIGHT
TZOFFSETFROM:-0500
TZOFFSETTO:-0400
TZNAME:EDT
DTSTART:20240310T070000
END:DAYLIGHT
BEGIN:STANDARD
TZOFFSETFROM:-0400
TZOFFSETTO:-0500
TZNAME:EST
DTSTART:20241103T060000
END:STANDARD
END:VTIMEZONE
BEGIN:VEVENT
DTSTART;TZID=America/New_York:20230708T180000
DTEND;TZID=America/New_York:20230708T220000
DTSTAMP:20260421T145818
CREATED:20230626T202731Z
LAST-MODIFIED:20230626T202731Z
UID:10002317-1688839200-1688853600@baysoundings.com
SUMMARY:Pioneer Nights
DESCRIPTION:Kids enjoy a night of friends\, fun\, campfire and s’mores\, pioneer style! \nAges 6 yrs – 13 yrs \n>>> RESERVE A SPOT <<<
URL:https://baysoundings.com/event/pioneer-nights-2-2/2023-07-08/
LOCATION:Pinellas Pioneer Settlement\, 3130 31st Street South\, St. Petersburg\, FL\, 33712\, United States
CATEGORIES:Backpacking & Camping,Camps & Childcare,Kids & Families,Local Community,Native Flora & Fauna,Nature Tours & Hikes,Youth Programs
ORGANIZER;CN="Boyd Hill Nature Preserve":MAILTO:stpeteparksrec@stpete.org 
GEO:27.739533;-82.674732
X-APPLE-STRUCTURED-LOCATION;VALUE=URI;X-ADDRESS=Pinellas Pioneer Settlement 3130 31st Street South St. Petersburg FL 33712 United States;X-APPLE-RADIUS=500;X-TITLE=3130 31st Street South:geo:-82.674732,27.739533
END:VEVENT
BEGIN:VEVENT
DTSTART;TZID=America/New_York:20230715T180000
DTEND;TZID=America/New_York:20230715T220000
DTSTAMP:20260421T145818
CREATED:20230626T202731Z
LAST-MODIFIED:20230626T202731Z
UID:10002318-1689444000-1689458400@baysoundings.com
SUMMARY:Pioneer Nights
DESCRIPTION:Kids enjoy a night of friends\, fun\, campfire and s’mores\, pioneer style! \nAges 6 yrs – 13 yrs \n>>> RESERVE A SPOT <<<
URL:https://baysoundings.com/event/pioneer-nights-2-2/2023-07-15/
LOCATION:Pinellas Pioneer Settlement\, 3130 31st Street South\, St. Petersburg\, FL\, 33712\, United States
CATEGORIES:Backpacking & Camping,Camps & Childcare,Kids & Families,Local Community,Native Flora & Fauna,Nature Tours & Hikes,Youth Programs
ORGANIZER;CN="Boyd Hill Nature Preserve":MAILTO:stpeteparksrec@stpete.org 
GEO:27.739533;-82.674732
X-APPLE-STRUCTURED-LOCATION;VALUE=URI;X-ADDRESS=Pinellas Pioneer Settlement 3130 31st Street South St. Petersburg FL 33712 United States;X-APPLE-RADIUS=500;X-TITLE=3130 31st Street South:geo:-82.674732,27.739533
END:VEVENT
BEGIN:VEVENT
DTSTART;TZID=America/New_York:20230729T180000
DTEND;TZID=America/New_York:20230729T220000
DTSTAMP:20260421T145818
CREATED:20230625T182236Z
LAST-MODIFIED:20230626T201234Z
UID:10002312-1690653600-1690668000@baysoundings.com
SUMMARY:Fantastic Frogs
DESCRIPTION:The rainy summer season is the perfect time to look for frogs. Parents can enjoy a night out while kids learn about common frogs found in Florida and their unique calls. The night will be full of games\, crafts\, and a pizza dinner will be served. \nAges 6 yrs – 12 yrs \n>>> REGISTER HERE <<<
URL:https://baysoundings.com/event/fantastic-frogs/
LOCATION:Boyd Hill Nature Preserve Classroom\, 1101 COUNTRY CLUB WY S\, St. Petersburg\, FL\, 33705\, United States
CATEGORIES:Backpacking & Camping,Crafts & Hobbies,Native Flora & Fauna,Reptiles & Amphibians,Youth Programs
ORGANIZER;CN="Boyd Hill Nature Preserve":MAILTO:stpeteparksrec@stpete.org 
GEO:27.724764;-82.6502749
X-APPLE-STRUCTURED-LOCATION;VALUE=URI;X-ADDRESS=Boyd Hill Nature Preserve Classroom 1101 COUNTRY CLUB WY S St. Petersburg FL 33705 United States;X-APPLE-RADIUS=500;X-TITLE=1101 COUNTRY CLUB WY S:geo:-82.6502749,27.724764
END:VEVENT
END:VCALENDAR