BEGIN:VCALENDAR
VERSION:2.0
PRODID:-//Bay Soundings - ECPv6.15.11//NONSGML v1.0//EN
CALSCALE:GREGORIAN
METHOD:PUBLISH
X-ORIGINAL-URL:https://baysoundings.com
X-WR-CALDESC:Events for Bay Soundings
REFRESH-INTERVAL;VALUE=DURATION:PT1H
X-Robots-Tag:noindex
X-PUBLISHED-TTL:PT1H
BEGIN:VTIMEZONE
TZID:America/New_York
BEGIN:DAYLIGHT
TZOFFSETFROM:-0500
TZOFFSETTO:-0400
TZNAME:EDT
DTSTART:20210314T070000
END:DAYLIGHT
BEGIN:STANDARD
TZOFFSETFROM:-0400
TZOFFSETTO:-0500
TZNAME:EST
DTSTART:20211107T060000
END:STANDARD
BEGIN:DAYLIGHT
TZOFFSETFROM:-0500
TZOFFSETTO:-0400
TZNAME:EDT
DTSTART:20220313T070000
END:DAYLIGHT
BEGIN:STANDARD
TZOFFSETFROM:-0400
TZOFFSETTO:-0500
TZNAME:EST
DTSTART:20221106T060000
END:STANDARD
BEGIN:DAYLIGHT
TZOFFSETFROM:-0500
TZOFFSETTO:-0400
TZNAME:EDT
DTSTART:20230312T070000
END:DAYLIGHT
BEGIN:STANDARD
TZOFFSETFROM:-0400
TZOFFSETTO:-0500
TZNAME:EST
DTSTART:20231105T060000
END:STANDARD
END:VTIMEZONE
BEGIN:VEVENT
DTSTART;TZID=America/New_York:20220225T090000
DTEND;TZID=America/New_York:20220225T110000
DTSTAMP:20260421T065740
CREATED:20220125T231807Z
LAST-MODIFIED:20220125T231807Z
UID:10001626-1645779600-1645786800@baysoundings.com
SUMMARY:Veggie Influenza (Zoom workshop)
DESCRIPTION:Join us for Veggie Influenza! Come and learn about common vegetable diseases and their managements.\n\n\n\n\n\n\n\nJoin us for Veggie Influenza! In this two-hour workshop\, we will discussing common vegetable diseases. Topics include disease identification\, resistant plants\, and disease prevention/management. For more information\, please contact\, Mack Lessig\, at (941) 722-4524 ext.1821 or mlessig@ufl.edu. \nREGISTER HERE
URL:https://baysoundings.com/event/veggie-influenza-zoom-workshop/
LOCATION:Online Event
CATEGORIES:Agriculture & Botany,Food & Cooking,Gardening & Landscaping,WEBINARS & ONLINE CLASSES
END:VEVENT
BEGIN:VEVENT
DTSTART;TZID=America/New_York:20220225T100000
DTEND;TZID=America/New_York:20220225T120000
DTSTAMP:20260421T065740
CREATED:20220125T231406Z
LAST-MODIFIED:20220125T231406Z
UID:10001625-1645783200-1645790400@baysoundings.com
SUMMARY:Gardening 101: Good Bug\, Bad Bug?
DESCRIPTION:This class will cover common beneficial insects and pests of Florida gardens.\n\n\n\n\n\n\n\nJoin UF/IFAS Extension Manatee County to meet the bugs you need to know for success in your landscape. New to gardening in Florida? We have the info you need to be successful. This class will cover common beneficial insects and pests of Florida gardens. Be prepared to get up close and personal with live insects. \nIn person at the Demonstration Garden at the Extension office (1303 17th St W\, Palmetto\, FL 34221) \nREGISTER HERE
URL:https://baysoundings.com/event/gardening-101-good-bug-bad-bug/
LOCATION:UF/IFAS Manatee County Extension\, 1303 17th Street West\, Palmetto\, FL\, 34221\, United States
CATEGORIES:Agriculture & Botany,Gardening & Landscaping,Invasive & Intrusive Species,Workshops & Classes
GEO:27.526707;-82.580054
X-APPLE-STRUCTURED-LOCATION;VALUE=URI;X-ADDRESS=UF/IFAS Manatee County Extension 1303 17th Street West Palmetto FL 34221 United States;X-APPLE-RADIUS=500;X-TITLE=1303 17th Street West:geo:-82.580054,27.526707
END:VEVENT
END:VCALENDAR