BEGIN:VCALENDAR
VERSION:2.0
PRODID:-//Bay Soundings - ECPv6.15.11//NONSGML v1.0//EN
CALSCALE:GREGORIAN
METHOD:PUBLISH
X-ORIGINAL-URL:https://baysoundings.com
X-WR-CALDESC:Events for Bay Soundings
REFRESH-INTERVAL;VALUE=DURATION:PT1H
X-Robots-Tag:noindex
X-PUBLISHED-TTL:PT1H
BEGIN:VTIMEZONE
TZID:America/New_York
BEGIN:DAYLIGHT
TZOFFSETFROM:-0500
TZOFFSETTO:-0400
TZNAME:EDT
DTSTART:20200308T070000
END:DAYLIGHT
BEGIN:STANDARD
TZOFFSETFROM:-0400
TZOFFSETTO:-0500
TZNAME:EST
DTSTART:20201101T060000
END:STANDARD
BEGIN:DAYLIGHT
TZOFFSETFROM:-0500
TZOFFSETTO:-0400
TZNAME:EDT
DTSTART:20210314T070000
END:DAYLIGHT
BEGIN:STANDARD
TZOFFSETFROM:-0400
TZOFFSETTO:-0500
TZNAME:EST
DTSTART:20211107T060000
END:STANDARD
BEGIN:DAYLIGHT
TZOFFSETFROM:-0500
TZOFFSETTO:-0400
TZNAME:EDT
DTSTART:20220313T070000
END:DAYLIGHT
BEGIN:STANDARD
TZOFFSETFROM:-0400
TZOFFSETTO:-0500
TZNAME:EST
DTSTART:20221106T060000
END:STANDARD
END:VTIMEZONE
BEGIN:VEVENT
DTSTART;TZID=America/New_York:20211009T090000
DTEND;TZID=America/New_York:20211009T103000
DTSTAMP:20260423T112328
CREATED:20211005T233551Z
LAST-MODIFIED:20211005T233551Z
UID:10001521-1633770000-1633775400@baysoundings.com
SUMMARY:Palms Tour
DESCRIPTION:An educational tour of the Extension all about palms! \nTour the Extension grounds with Master Gardener Volunteer Amy Stripe to learn palm species\, characteristics\, and suitability for Central Florida landscapes. Limit 12 participants. \nREGISTER HERE
URL:https://baysoundings.com/event/palms-tour/
LOCATION:UF/IFAS Manatee County Extension\, 1303 17th Street West\, Palmetto\, FL\, 34221\, United States
CATEGORIES:Agriculture & Botany,Gardening & Landscaping,Native Flora & Fauna,Nature Tours & Hikes,Workshops & Classes
GEO:27.526707;-82.580054
X-APPLE-STRUCTURED-LOCATION;VALUE=URI;X-ADDRESS=UF/IFAS Manatee County Extension 1303 17th Street West Palmetto FL 34221 United States;X-APPLE-RADIUS=500;X-TITLE=1303 17th Street West:geo:-82.580054,27.526707
END:VEVENT
BEGIN:VEVENT
DTSTART;TZID=America/New_York:20211016T100000
DTEND;TZID=America/New_York:20211016T140000
DTSTAMP:20260423T112328
CREATED:20211005T201539Z
LAST-MODIFIED:20211005T201539Z
UID:10001510-1634378400-1634392800@baysoundings.com
SUMMARY:NATIVE PLANT SALE
DESCRIPTION:The Nature Coast Chapter of the Florida Native Plant Society is having a Native Plant Sale on Saturday\, October 16\, 2021\, from 10 AM to 2 PM\, at Land O’ Lakes Heritage Park\, 5401 Land O’ Lakes Blvd/US 41\, Land O’ Lakes\, FL 34639.  \nThere will be: \n\n\nLarge selection of quality nursery grown plants \n\n\nFree literature for pick up and books for sale \n\n\nMembers on site to answer questions \n\n\nPlant profile for each plant purchased \n\n\nCarts available for plant transportation \n\n\nVisit our website at www.pasconativeplants.org
URL:https://baysoundings.com/event/native-plant-sale-4/
LOCATION:Land O’ Lakes Heritage Park\, 5401 Land O' Lakes Blvd/US 41\, Land O’ Lakes\, FL\, 34639\, United States
CATEGORIES:Agriculture & Botany,Fundraisers & Sales,Gardening & Landscaping,Herbs,Sales & Auctions
END:VEVENT
BEGIN:VEVENT
DTSTART;TZID=America/New_York:20211023T110000
DTEND;TZID=America/New_York:20211023T130000
DTSTAMP:20260423T112328
CREATED:20211005T234619Z
LAST-MODIFIED:20211005T234619Z
UID:10001526-1634986800-1634994000@baysoundings.com
SUMMARY:Happy Houseplants!
DESCRIPTION:Join us for a fun\, in-person\, hands-on Houseplant class where you will learn all about the art and science of successful houseplant care. After the workshop you can walk away with your very own beautiful\, easy-to grow plant in a sub-irrigated container. $35 per person/ plant. Strict limit of 20 participants due to limited supplies and the need to practice social distancing. Masks are encouraged for your own safety. \nREGISTER HERE
URL:https://baysoundings.com/event/happy-houseplants/
LOCATION:UF/IFAS Manatee County Extension\, 1303 17th Street West\, Palmetto\, FL\, 34221\, United States
CATEGORIES:Agriculture & Botany,Crafts & Hobbies,Gardening & Landscaping,Home & Lifestyle,Workshops & Classes
GEO:27.526707;-82.580054
X-APPLE-STRUCTURED-LOCATION;VALUE=URI;X-ADDRESS=UF/IFAS Manatee County Extension 1303 17th Street West Palmetto FL 34221 United States;X-APPLE-RADIUS=500;X-TITLE=1303 17th Street West:geo:-82.580054,27.526707
END:VEVENT
BEGIN:VEVENT
DTSTART;TZID=America/New_York:20211030T080000
DTEND;TZID=America/New_York:20211030T100000
DTSTAMP:20260423T112328
CREATED:20210729T194705Z
LAST-MODIFIED:20210729T194705Z
UID:10000775-1635580800-1635588000@baysoundings.com
SUMMARY:Wildflower Garden Work Day
DESCRIPTION:pamperedgardeners@gmail.com
URL:https://baysoundings.com/event/wildflower-garden-work-day/2021-10-30/
LOCATION:Brooker Creek Preserve\, 3940 Keystone Road\, Tarpon Springs\, FL\, United States
CATEGORIES:Agriculture & Botany,Gardening & Landscaping,Local Community,Volunteering
ORGANIZER;CN="Friends of Brooker Creek Preserve":MAILTO:info@friendsofbrookercreekpreserve.org
GEO:28.136639;-82.656421
X-APPLE-STRUCTURED-LOCATION;VALUE=URI;X-ADDRESS=Brooker Creek Preserve 3940 Keystone Road Tarpon Springs FL United States;X-APPLE-RADIUS=500;X-TITLE=3940 Keystone Road:geo:-82.656421,28.136639
END:VEVENT
END:VCALENDAR