BEGIN:VCALENDAR
VERSION:2.0
PRODID:-//Bay Soundings - ECPv6.15.11//NONSGML v1.0//EN
CALSCALE:GREGORIAN
METHOD:PUBLISH
X-ORIGINAL-URL:https://baysoundings.com
X-WR-CALDESC:Events for Bay Soundings
REFRESH-INTERVAL;VALUE=DURATION:PT1H
X-Robots-Tag:noindex
X-PUBLISHED-TTL:PT1H
BEGIN:VTIMEZONE
TZID:America/New_York
BEGIN:DAYLIGHT
TZOFFSETFROM:-0500
TZOFFSETTO:-0400
TZNAME:EDT
DTSTART:20210314T070000
END:DAYLIGHT
BEGIN:STANDARD
TZOFFSETFROM:-0400
TZOFFSETTO:-0500
TZNAME:EST
DTSTART:20211107T060000
END:STANDARD
BEGIN:DAYLIGHT
TZOFFSETFROM:-0500
TZOFFSETTO:-0400
TZNAME:EDT
DTSTART:20220313T070000
END:DAYLIGHT
BEGIN:STANDARD
TZOFFSETFROM:-0400
TZOFFSETTO:-0500
TZNAME:EST
DTSTART:20221106T060000
END:STANDARD
BEGIN:DAYLIGHT
TZOFFSETFROM:-0500
TZOFFSETTO:-0400
TZNAME:EDT
DTSTART:20230312T070000
END:DAYLIGHT
BEGIN:STANDARD
TZOFFSETFROM:-0400
TZOFFSETTO:-0500
TZNAME:EST
DTSTART:20231105T060000
END:STANDARD
END:VTIMEZONE
BEGIN:VEVENT
DTSTART;TZID=America/New_York:20221105T080000
DTEND;TZID=America/New_York:20221105T100000
DTSTAMP:20260421T092914
CREATED:20220921T223715Z
LAST-MODIFIED:20220921T223715Z
UID:10001878-1667635200-1667642400@baysoundings.com
SUMMARY:Clearwater Audubon Society Bird Walk
DESCRIPTION:Take a guided hike on Moccasin Lake’s nature trail while seeking birds by sight and sound. Bring binoculars and field guides if you have them. Meet in Moccasin Lake Parking Lot. \n>>> REGISTER HERE <<<
URL:https://baysoundings.com/event/clearwater-audubon-society-bird-walk-2/2022-11-05/
LOCATION:Moccasin Lake Environmental Education Center\, 2750 Park Trail Lane\, Clearwater\, FL\, United States
CATEGORIES:Birds & Birding,Coastal & Wetlands,Marine Life,Native Flora & Fauna,Nature Tours & Hikes,Photography,Raptors,Wildlife
GEO:27.977104;-82.724462
X-APPLE-STRUCTURED-LOCATION;VALUE=URI;X-ADDRESS=Moccasin Lake Environmental Education Center 2750 Park Trail Lane Clearwater FL United States;X-APPLE-RADIUS=500;X-TITLE=2750 Park Trail Lane:geo:-82.724462,27.977104
END:VEVENT
BEGIN:VEVENT
DTSTART;TZID=America/New_York:20221105T080000
DTEND;TZID=America/New_York:20221105T100000
DTSTAMP:20260421T092914
CREATED:20221022T211801Z
LAST-MODIFIED:20221022T211831Z
UID:10001918-1667635200-1667642400@baysoundings.com
SUMMARY:Birding Moccasin Lake Nature Park
DESCRIPTION:Monthly Bird Outing\nMeet at 8:00am. Leader – Madeleine Bohrer\nVisit the Wild Raptor Sanctuary after the outing.\nAccessible with assistance ♿\n\n\n\n\n\nclearwateraudubonsociety@gmail.com
URL:https://baysoundings.com/event/birding-moccasin-lake-nature-park/
LOCATION:Moccasin Lake Environmental Education Center\, 2750 Park Trail Lane\, Clearwater\, FL\, United States
CATEGORIES:Birds & Birding,Native Flora & Fauna,Nature Tours & Hikes,Raptors
GEO:27.977104;-82.724462
X-APPLE-STRUCTURED-LOCATION;VALUE=URI;X-ADDRESS=Moccasin Lake Environmental Education Center 2750 Park Trail Lane Clearwater FL United States;X-APPLE-RADIUS=500;X-TITLE=2750 Park Trail Lane:geo:-82.724462,27.977104
END:VEVENT
BEGIN:VEVENT
DTSTART;TZID=America/New_York:20221105T080000
DTEND;TZID=America/New_York:20221105T180000
DTSTAMP:20260421T092914
CREATED:20221007T204549Z
LAST-MODIFIED:20221016T210749Z
UID:10001343-1667635200-1667671200@baysoundings.com
SUMMARY:Evening For The Bay
DESCRIPTION:Have you ever wondered what makes our Blue Planet the only one in the solar system to sustain life? Explore the element of water\, and discover how the actions we take in our watershed have a ripple effect across the globe. \n\n\n\nGuests will enjoy dinner by Bonefish Grill\, signature Kozuba & Sons cocktails\, Great Bay Distributors brews\, live entertainment\, out-of-this-world auctions\, and meet n’ greets with TBW restoration staff. \nThis al fresco evening under the stars will benefit the mission to Restore the Bay Every Day.\n\n\n\n\n\n\nPurchase tickets
URL:https://baysoundings.com/event/22666/
LOCATION:FL
CATEGORIES:Charitable Events,Coastal & Wetlands,Cocktails & Socials,Dining,Fundraisers & Sales,Local Community
END:VEVENT
BEGIN:VEVENT
DTSTART;TZID=America/New_York:20221105T090000
DTEND;TZID=America/New_York:20221105T100000
DTSTAMP:20260421T092914
CREATED:20220526T214857Z
LAST-MODIFIED:20220526T220654Z
UID:10000359-1667638800-1667642400@baysoundings.com
SUMMARY:Science Sprouts
DESCRIPTION:Budding scientists ages 2-5 can bring their favorite grown-up to explore and discover a variety of science and nature topics in the Mosaic Backyard Universe. The program sparks kids’ natural curiosity using imaginative play\, crafts\, stories\, songs and more! Please note: This program does not include Museum admission. \n\nOn Saturday\, June 4\, explore “In the Deep Ocean”\nOn Saturday\, June 11\, explore “Swirly Whirly Snails”\nOn Saturday\, June 18\, explore “Manatee Mischief”\nOn Saturday\, June 25\, explore “Busy Buzzin’ Bees”\nWhen/Where: 9-10am every Saturday in the Mosaic Backyard Universe\nCost: $12 per child for members of the Discovery Society; $15 per child for all others. (Includes one adult per child.)\nAdvance reservations required. Attendance limited to 12 children.\n\nRegister now\nThe Bishop follows the CDC’s COVID-19 Community Levels guidelines. Please visit www.CDC.gov to see the current Manatee County Community Level before visiting. Masks must be worn indoors when Community Levels are high.
URL:https://baysoundings.com/event/science-sprouts/2022-11-05/
LOCATION:Bishop Museum of Science ﻿and Nature\, 201 10th St. West\, Bradenton\, FL\, 34205\, United States
CATEGORIES:Crafts & Hobbies,Exhibits,Homeschool,Insects,Kids & Families,Marine Life,Native Flora & Fauna,Science & Technology,Story Time,Youth Programs
END:VEVENT
BEGIN:VEVENT
DTSTART;TZID=America/New_York:20221105T090000
DTEND;TZID=America/New_York:20221105T103000
DTSTAMP:20260421T092914
CREATED:20221029T233544Z
LAST-MODIFIED:20221029T233544Z
UID:10001930-1667638800-1667644200@baysoundings.com
SUMMARY:The Ways of Water Hike
DESCRIPTION:Water is an important feature at Brooker Creek Preserve . \nWater is an important feature at Brooker Creek Preserve and on this hike you will learn the different ways we interact with water\, the importance of wetlands and how you can make a difference in issues surrounding our water quality and quantity. Come and enjoy this family friendly fall walk through the woods. \n>>> REGISTER HERE <<<
URL:https://baysoundings.com/event/the-ways-of-water-hike/
LOCATION:Brooker Creek Environmental Education Center\, 3940 Keystone Road\, Tarpon Springs\, FL\, 34688\, United States
CATEGORIES:Coastal & Wetlands,Nature Tours & Hikes
GEO:28.136639;-82.656421
X-APPLE-STRUCTURED-LOCATION;VALUE=URI;X-ADDRESS=Brooker Creek Environmental Education Center 3940 Keystone Road Tarpon Springs FL 34688 United States;X-APPLE-RADIUS=500;X-TITLE=3940 Keystone Road:geo:-82.656421,28.136639
END:VEVENT
END:VCALENDAR